Workbook

Sheet Summary
C4: 2.0x | F4: ratio | H4: 1.5x | K4: ratio | M4: ratio | N4: ratio
D5: cfg.A | E5: cfg.B | F5: B/A | I5: cfg.C | J5: cfg.D | K5: D/C | M5: C/A | N5: D/B
C6: ClassA1 | D6: ='infer-time'!C23 -> 24844.641 | E6: ='infer-time'!D23 -> 31412.11 | F6: =E6/D6 -> 1.2643414 | H6: ClassA1 | I6: ='infer-time'!E23 -> 43814.083 | J6: ='infer-time'!F23 -> 33613.526 | K6: =J6/I6 -> 0.76718543 | M6: =I6/D6 -> 1.7635225 | N6: =J6/E6 -> 1.0700818
C7: ='infer-time'!A46 -> ClassA2 | D7: ='infer-time'!C46 -> 25048.906 | E7: ='infer-time'!D46 -> 31684.126 | F7: =E7/D7 -> 1.2648906 | H7: ClassA2 | I7: ='infer-time'!E46 -> 44130.405 | J7: ='infer-time'!F46 -> 33822.714 | K7: =J7/I7 -> 0.76642655 | M7: =I7/D7 -> 1.7617698 | N7: =J7/E7 -> 1.0674972
C8: total | D8: =SUM(D6:D7) -> 49893.547 | E8: =SUM(E6:E7) -> 63096.235 | F8: =E8/D8 -> 1.2646171 | H8: total | I8: =SUM(I6:I7) -> 87944.489 | J8: =SUM(J6:J7) -> 67436.241 | K8: =J8/I8 -> 0.76680463 | M8: =I8/D8 -> 1.7626425 | N8: =J8/E8 -> 1.0687839

Sheet infer-time
C1: x2_PS | D1: x2_mode2000 | E1: x1.5_mode101 | F1: x1.5_mode100
A2: Tango2 | B2: q22 | C2: 1637.1869 | D2: 2045.0914 | E2: 2880.1531 | F2: 2196.2422
A3: Tango2 | B3: q27 | C3: 1635.273 | D3: 2110.5805 | E3: 2879.2098 | F3: 2188.4691 | I3: Execution environment
A4: Tango2 | B4: q32 | C4: 1638.1652 | D4: 2095.8305 | E4: 2875.791 | F4: 2212.6793 | I4: CPU | J4: Core i9-9900K 3.6GHz, 8 cores
A5: Tango2 | B5: q37 | C5: 1634.9301 | D5: 2041.6035 | E5: 2881.3698 | F5: 2221.2308 | I5: TurboBoost | J5: enabled(max 5.0GHz)
A6: Tango2 | B6: q42 | C6: 1635.9231 | D6: 2094.457 | E6: 2890.7012 | F6: 2228.8362 | I6: Memory | J6: 64GB
A7: Tango2 | B7: total | C7: =SUM(C2:C6) -> 8181.4782 | D7: =SUM(D2:D6) -> 10387.563 | E7: =SUM(E2:E6) -> 14407.225 | F7: =SUM(F2:F6) -> 11047.458 | I7: GPU | J7: NVIDIA RTX2080 Ti
D8: =D7/C7 -> 1.2696438 | F8: =F7/E7 -> 0.76679983
A9: FoodMarket4 | B9: q22 | C9: 1667.5075 | D9: 2084.5911 | E9: 2913.4675 | F9: 2228.6427
A10: FoodMarket4 | B10: q27 | C10: 1665.8185 | D10: 2085.9281 | E10: 2940.8261 | F10: 2268.0014
A11: FoodMarket4 | B11: q32 | C11: 1666.383 | D11: 2093.5127 | E11: 2925.9825 | F11: 2244.3369
A12: FoodMarket4 | B12: q37 | C12: 1669.1 | D12: 2102.3561 | E12: 2994.4808 | F12: 2253.1259
A13: FoodMarket4 | B13: q42 | C13: 1666.9151 | D13: 2113.8916 | E13: 2962.3507 | F13: 2250.7228
A14: FoodMarket4 | B14: total | C14: =SUM(C9:C13) -> 8335.7241 | D14: =SUM(D9:D13) -> 10480.28 | E14: =SUM(E9:E13) -> 14737.108 | F14: =SUM(F9:F13) -> 11244.83
D15: =D14/C14 -> 1.2572729 | F15: =F14/E14 -> 0.76302827
A16: Campfire | B16: q22 | C16: 1665.4529 | D16: 2123.6449 | E16: 2926.4073 | F16: 2279.677
A17: Campfire | B17: q27 | C17: 1665.924 | D17: 2102.1861 | E17: 2960.7315 | F17: 2262.993
A18: Campfire | B18: q32 | C18: 1665.5855 | D18: 2088.1712 | E18: 2914.4367 | F18: 2251.7499
A19: Campfire | B19: q37 | C19: 1664.1055 | D19: 2092.4381 | E19: 2936.7548 | F19: 2274.1175
A20: Campfire | B20: q42 | C20: 1666.3712 | D20: 2137.827 | E20: 2931.4204 | F20: 2252.7016
A21: Campfire | B21: total | C21: =SUM(C16:C20) -> 8327.4391 | D21: =SUM(D16:D20) -> 10544.267 | E21: =SUM(E16:E20) -> 14669.751 | F21: =SUM(F16:F20) -> 11321.239
D22: =D21/C21 -> 1.2662077 | F22: =F21/E21 -> 0.77174039
A23: ClassA1 | B23: total | C23: =C7+C14+C21 -> 24844.641 | D23: =D7+D14+D21 -> 31412.11 | E23: =E7+E14+E21 -> 43814.083 | F23: =F7+F14+F21 -> 33613.526
D24: =D23/C23 -> 1.2643414 | F24: =F23/E23 -> 0.76718543
A25: CatRobot1 | B25: q22 | C25: 1663.9811 | D25: 2061.1319 | E25: 2910.3597 | F25: 2268.4581
A26: CatRobot1 | B26: q27 | C26: 1668.3176 | D26: 2110.0654 | E26: 2953.5096 | F26: 2243.535
A27: CatRobot1 | B27: q32 | C27: 1665.878 | D27: 2121.8292 | E27: 2897.6182 | F27: 2257.928
A28: CatRobot1 | B28: q37 | C28: 1672.3091 | D28: 2094.9973 | E28: 2937.5159 | F28: 2259.8567
A29: CatRobot1 | B29: q42 | C29: 1673.8682 | D29: 2111.1544 | E29: 2924.1952 | F29: 2234.21
A30: CatRobot1 | B30: total | C30: =SUM(C25:C29) -> 8344.3541 | D30: =SUM(D25:D29) -> 10499.178 | E30: =SUM(E25:E29) -> 14623.199 | F30: =SUM(F25:F29) -> 11263.988
D31: =D30/C30 -> 1.2582374 | F31: =F30/E30 -> 0.77028208
A32: DaylightRoad2 | B32: q22 | C32: 1665.4989 | D32: 2149.2571 | E32: 2967.5644 | F32: 2261.4081
A33: DaylightRoad2 | B33: q27 | C33: 1670.4177 | D33: 2126.6053 | E33: 2931.2379 | F33: 2244.4968
A34: DaylightRoad2 | B34: q32 | C34: 1666.3601 | D34: 2143.3279 | E34: 2945.6043 | F34: 2269.2092
A35: DaylightRoad2 | B35: q37 | C35: 1669.0945 | D35: 2113.4575 | E35: 2936.9284 | F35: 2240.3115
A36: DaylightRoad2 | B36: q42 | C36: 1672.156 | D36: 2129.5644 | E36: 2937.2953 | F36: 2241.0698
A37: DaylightRoad2 | B37: total | C37: =SUM(C32:C36) -> 8343.5272 | D37: =SUM(D32:D36) -> 10662.212 | E37: =SUM(E32:E36) -> 14718.63 | F37: =SUM(F32:F36) -> 11256.495
D38: =D37/C37 -> 1.2779022 | F38: =F37/E37 -> 0.76477874
A39: ParkRunning3 | B39: q22 | C39: 1674.8341 | D39: 2114.7569 | E39: 2943.1168 | F39: 2261.6483
A40: ParkRunning3 | B40: q27 | C40: 1672.6547 | D40: 2109.2648 | E40: 2999.6876 | F40: 2226.6112
...
