Workbook
Name _Hlk532823448: 'RA VTMvsBMS'!$B$9
Name _Hlk532823452: 'RA VTMvsBMS'!$B$10

Sheet RA VTMvsBMS
F5: VTM RA
A6: Tool | B6: Abbreviation | C6: BDR-Y | D6: BDR-U | E6: BDR-V | F6: Tester EncTime | G6: Tester DecTime | H6: XChecker EncTime | I6: XChecker DecTime
A7: ='VTM Tools'!A7 -> Chroma separate tree | B7: ='VTM Tools'!B7 -> CST | C7: ='VTM Tools'!J7 -> 0.00099656342 | D7: ='VTM Tools'!K7 -> 0.0378 | E7: ='VTM Tools'!L7 -> 0.0453 | F7: ='VTM Tools'!M7 -> 1.04 | G7: ='VTM Tools'!N7 -> 1 | H7: ='VTM Tools'!O7 -> 1.02 | I7: ='VTM Tools'!P7 -> 0.99677818
A8: ='VTM Tools'!A8 -> Dependent quantization | B8: ='VTM Tools'!B8 -> DQ | C8: ='VTM Tools'!J8 -> 0.017577481 | D8: ='VTM Tools'!K8 -> -0.0025 | E8: ='VTM Tools'!L8 -> -0.0052 | F8: ='VTM Tools'!M8 -> 1.04 | G8: ='VTM Tools'!N8 -> 0.98 | H8: ='VTM Tools'!O8 -> 0.99 | I8: ='VTM Tools'!P8 -> 1.02
A9: ='VTM Tools'!A9 -> Cross-component linear model | B9: ='VTM Tools'!B9 -> CCLM | C9: ='VTM Tools'!J9 -> 0.0102 | D9: ='VTM Tools'!K9 -> 0.1185 | E9: ='VTM Tools'!L9 -> 0.1371 | F9: ='VTM Tools'!M9 -> 0.99 | G9: ='VTM Tools'!N9 -> 1 | H9: ='VTM Tools'!O9 -> 0.99 | I9: ='VTM Tools'!P9 -> 1
A10: ='VTM Tools'!A10 -> multiple transform set | B10: ='VTM Tools'!B10 -> MTS | C10: ='VTM Tools'!J10 -> 0.0070232177 | D10: ='VTM Tools'!K10 -> 0.0056 | E10: ='VTM Tools'!L10 -> 0.0072 | F10: ='VTM Tools'!M10 -> 0.9 | G10: ='VTM Tools'!N10 -> 1 | H10: ='VTM Tools'!O10 -> 0.93 | I10: ='VTM Tools'!P10 -> 1
A11: ='VTM Tools'!A11 -> Adaptive loop filter | B11: ='VTM Tools'!B11 -> ALF | C11: ='VTM Tools'!J11 -> 0.0456 | D11: ='VTM Tools'!K11 -> 0.0493 | E11: ='VTM Tools'!L11 -> 0.0494 | F11: ='VTM Tools'!M11 -> 0.98 | G11: ='VTM Tools'!N11 -> 0.89 | H11: ='VTM Tools'!O11 -> 0.96 | I11: ='VTM Tools'!P11 -> 0.9
A12: ='VTM Tools'!A12 -> Affine motion model | B12: ='VTM Tools'!B12 -> AFF | C12: ='VTM Tools'!J12 -> 0.0301 | D12: ='VTM Tools'!K12 -> 0.0204 | E12: ='VTM Tools'!L12 -> 0.02 | F12: ='VTM Tools'!M12 -> 0.81 | G12: ='VTM Tools'!N12 -> 0.96 | H12: ='VTM Tools'!O12 -> 0.82 | I12: ='VTM Tools'!P12 -> 0.97
A13: ='VTM Tools'!A13 -> subblock-based temporal merging candidates | B13: ='VTM Tools'!B13 -> SbTMC | C13: ='VTM Tools'!J13 -> 0.0046 | D13: ='VTM Tools'!K13 -> 0.0032 | E13: ='VTM Tools'!L13 -> 0.0036 | F13: ='VTM Tools'!M13 -> 1.0077072 | G13: ='VTM Tools'!N13 -> 1.0071619 | H13: ='VTM Tools'!O13 -> 1.01 | I13: ='VTM Tools'!P13 -> 1
A14: ='VTM Tools'!A14 -> Adaptive motion vector resolution | B14: ='VTM Tools'!B14 -> AMVR | C14: ='VTM Tools'!J14 -> 0.0142 | D14: ='VTM Tools'!K14 -> 0.0217 | E14: ='VTM Tools'!L14 -> 0.0227 | F14: ='VTM Tools'!M14 -> 0.84 | G14: ='VTM Tools'!N14 -> 1.0084155 | H14: ='VTM Tools'!O14 -> 0.85 | I14: ='VTM Tools'!P14 -> 1.02
A15: ='VTM Tools'!A15 -> Triangular partition | B15: ='VTM Tools'!B15 -> TPM | C15: ='VTM Tools'!J15 -> 0.0038 | D15: ='VTM Tools'!K15 -> 0.0064 | E15: ='VTM Tools'!L15 -> 0.0068 | F15: ='VTM Tools'!M15 -> 0.95 | G15: ='VTM Tools'!N15 -> 1 | H15: ='VTM Tools'!O15 -> 0.98 | I15: ='VTM Tools'!P15 -> 1.01
A16: ='VTM Tools'!A16 -> Bi-directional optical flow | B16: ='VTM Tools'!B16 -> BDOF | C16: ='VTM Tools'!J16 -> 0.0076 | D16: ='VTM Tools'!K16 -> 0.0031 | E16: ='VTM Tools'!L16 -> 0.0027 | F16: ='VTM Tools'!M16 -> 0.98 | G16: ='VTM Tools'!N16 -> 0.96601549 | H16: ='VTM Tools'!O16 -> 1.01 | I16: ='VTM Tools'!P16 -> 0.94
A17: ='VTM Tools'!A17 -> Combined intra/inter prediction | B17: ='VTM Tools'!B17 -> CIIP | C17: ='VTM Tools'!J17 -> 0.0028 | D17: ='VTM Tools'!K17 -> 0.0001 | E17: ='VTM Tools'!L17 -> 0.0001 | F17: ='VTM Tools'!M17 -> 0.98975711 | G17: ='VTM Tools'!N17 -> 1 | H17: ='VTM Tools'!O17 -> 0.98 | I17: ='VTM Tools'!P17 -> 1.01
A18: ='VTM Tools'!A18 -> Merge with MVD | B18: ='VTM Tools'!B18 -> MMVD | C18: ='VTM Tools'!J18 -> 0.0051 | D18: ='VTM Tools'!K18 -> 0.0047 | E18: ='VTM Tools'!L18 -> 0.0051 | F18: ='VTM Tools'!M18 -> 0.93 | G18: ='VTM Tools'!N18 -> 1.01 | H18: ='VTM Tools'!O18 -> 0.93 | I18: ='VTM Tools'!P18 -> 1.01
... A32: ='VTM Tools'!A32 -> Prediction refinement using optical flow | B32: ='VTM Tools'!B32 -> PROF | C32: ='VTM Tools'!J32 -> 0.0046354615 | D32: ='VTM Tools'!K32 -> 0.0015725708 | E32: ='VTM Tools'!L32 -> 0.0012820236 | F32: ='VTM Tools'!M32 -> 0.98440492 | G32: ='VTM Tools'!N32 -> 0.98680521 | H32: ='VTM Tools'!O32 -> 0.98 | I32: ='VTM Tools'!P32 -> 0.98

Sheet VTM Tools
A1: Tools included in VTM7.0
A2: Test Model | B2: VMT7
A3: Anchor | B3: VTM CTC config
F5: AI | M5: RA | Q5: LD | T5: LDB | X5: AI | Z5: RA | AB5: LDB
A6: Tool | B6: Abbreviation | C6: BDR-Y | D6: BDR-U | E6: BDR-V | F6: Tester EncTime | G6: Tester DecTime | H6: XChecker EncTime | I6: XChecker DecTime | J6: BDR-Y | K6: BDR-U | L6: BDR-V | M6: Tester EncTime | N6: Tester DecTime | O6: XChecker EncTime | P6: XChecker DecTime | Q6: BDR-Y | R6: BDR-U | S6: BDR-V | T6: Tester EncTime | U6: Tester DecTime | V6: XChecker EncTime | W6: XChecker DecTime | X6: Enc Time diff | Y6: Dec Time Diff | Z6: Enc Time diff | AA6: Dec Time Diff | AB6: Enc Time diff | AC6: Dec Time Diff
A7: Chroma separate tree | B7: CST | C7: 0.0035 | D7: 0.0934 | E7: 0.0926 | F7: 1.52 | G7: 1.03 | H7: 1.54 | I7: 1.03 | J7: 0.00099656342 | K7: 0.0378 | L7: 0.0453 | M7: 1.04 | N7: 1 | O7: 1.02 | P7: 0.99677818 | Q7: 0 | R7: 0.0134 | S7: 0.0221 | T7: 1.1 | U7: 0.97 | V7: 1 | W7: 0.98 | X7: =F7/H7-1 -> -0.012987013 | Y7: =G7/I7-1 -> 0 | Z7: =M7/O7-1 -> 0.019607843 | AA7: =N7/P7-1 -> 0.0032322353 | AB7: =T7/V7-1 -> 0.1 | AC7: =U7/W7-1 -> -0.010204082
A8: Dependent quantization | B8: DQ | C8: 0.0199 | D8: -0.0066 | E8: -0.0073 | F8: 0.99 | G8: 1.01 | H8: 0.96 | I8: 1.04 | J8: 0.017577481 | K8: -0.0025 | L8: -0.0052 | M8: 1.04 | N8: 0.98 | O8: 0.99 | P8: 1.02 | Q8: 0.0156 | R8: 0.0029 | S8: -0.0005 | T8: 1.09 | U8: 0.99 | V8: 1 | W8: 1.02 | X8: =F8/H8-1 -> 0.03125 | Y8: =G8/I8-1 -> -0.028846154 | Z8: =M8/O8-1 -> 0.050505051 | AA8: =N8/P8-1 -> -0.039215686 | AB8: =T8/V8-1 -> 0.09 | AC8: =U8/W8-1 -> -0.029411765
A9: Cross-component linear model | B9: CCLM | C9: 0.0161 | D9: 0.1473 | E9: 0.1586 | F9: 1 | G9: 1 | H9: 1 | I9: 0.98 | J9: 0.0102 | K9: 0.1185 | L9: 0.1371 | M9: 0.99 | N9: 1 | O9: 0.99 | P9: 1 | Q9: 0.0001 | R9: 0.0339 | S9: 0.0369 | T9: 1 | U9: 1 | V9: 1 | W9: 0.99 | X9: =F9/H9-1 -> 0 | Y9: =G9/I9-1 -> 0.020408163 | Z9: =M9/O9-1 -> 0 | AA9: =N9/P9-1 -> 0 | AB9: =T9/V9-1 -> 0 | AC9: =U9/W9-1 -> 0.01010101
A10: multiple transform set | B10: MTS | C10: 0.0122 | D10: 0.0098 | E10: 0.0107 | F10: 0.81 | G10: 0.98 | H10: 0.86 | I10: 1.01 | J10: 0.0070232177 | K10: 0.0056 | L10: 0.0072 | M10: 0.9 | N10: 1 | O10: 0.93 | P10: 1 | Q10: 0.0053 | R10: 0.0012 | S10: 0.001 | T10: 0.99 | U10: 1 | V10: 0.98 | W10: 0.98 | X10: =F10/H10-1 -> -0.058139535 | Y10: =G10/I10-1 -> -0.02970297 | Z10: =M10/O10-1 -> -0.032258065 | AA10: =N10/P10-1 -> 0 | AB10: =T10/V10-1 -> 0.010204082 | AC10: =U10/W10-1 -> 0.020408163
A11: Adaptive loop filter | B11: ALF | C11: 0.0237 | D11: 0.0291 | E11: 0.0362 | F11: 0.98 | G11: 0.91 | H11: 0.96 | I11: 0.92 | J11: 0.0456 | K11: 0.0493 | L11: 0.0494 | M11: 0.98 | N11: 0.89 | O11: 0.96 | P11: 0.9 | Q11: 0.0426 | R11: 0.0511 | S11: 0.0467 | T11: 0.96 | U11: 0.9 | V11: 0.94 | W11: 0.9 | X11: =F11/H11-1 -> 0.020833333 | Y11: =G11/I11-1 -> -0.010869565 | Z11: =M11/O11-1 -> 0.020833333 | AA11: =N11/P11-1 -> -0.011111111 | AB11: =T11/V11-1 -> 0.021276596 | AC11: =U11/W11-1 -> 0
A12: Affine motion model | B12: AFF | J12: 0.0301 | K12: 0.0204 | L12: 0.02 | M12: 0.81 | N12: 0.96 | O12: 0.82 | P12: 0.97 | Q12: 0.0296 | R12: 0.019 | S12: 0.0229 | T12: 0.74 | U12: 0.94 | V12: 0.75 | W12: 0.96 | Z12: =M12/O12-1 -> -0.012195122 | AA12: =N12/P12-1 -> -0.010309278 | AB12: =T12/V12-1 -> -0.013333333 | AC12: =U12/W12-1 -> -0.020833333
A13: subblock-based temporal merging candidates | B13: SbTMC | J13: 0.0046 | K13: 0.0032 | L13: 0.0036 | M13: 1.0077072 | N13: 1.0071619 | O13: 1.01 | P13: 1 | Q13: 0.0078 | R13: 0.0086 | S13: 0.0078 | T13: 1.0105451 | U13: 0.97 | V13: 1.01 | W13: 0.97 | Z13: =M13/O13-1 -> -0.0022700934 | AA13: =N13/P13-1 -> 0.0071619405 | AB13: =T13/V13-1 -> 0.00053965582 | AC13: =U13/W13-1 -> 0
A14: Adaptive motion vector resolution | B14: AMVR | J14: 0.0142 | K14: 0.0217 | L14: 0.0227 | M14: 0.84 | N14: 1.0084155 | O14: 0.85 | P14: 1.02 | Q14: 0.006 | R14: 0.0083 | S14: 0.0067 | T14: 0.86 | U14: 1 | V14: 0.87 | W14: 1.01 | Z14: =M14/O14-1 -> -0.011764706 | AA14: =N14/P14-1 -> -0.011357379 | AB14: =T14/V14-1 -> -0.011494253 | AC14: =U14/W14-1 -> -0.0099009901
A15: Triangular partition | B15: TPM | J15: 0.0038 | K15: 0.0064 | L15: 0.0068 | M15: 0.95 | N15: 1 | O15: 0.98 | P15: 1.01 | Q15: 0.0092 | R15: 0.0129 | S15: 0.0125 | T15: 0.97 | U15: 1.02 | V15: 0.97 | W15: 1 | Z15: =M15/O15-1 -> -0.030612245 | AA15: =N15/P15-1 -> -0.0099009901 | AB15: =T15/V15-1 -> 0 | AC15: =U15/W15-1 -> 0.02
A16: Bi-directional optical flow | B16: BDOF | J16: 0.0076 | K16: 0.0031 | L16: 0.0027 | M16: 0.98 | N16: 0.96601549 | O16: 1.01 | P16: 0.94 | Z16: =M16/O16-1 -> -0.02970297 | AA16: =N16/P16-1 -> 0.027676056
A17: Combined intra/inter prediction | B17: CIIP | J17: 0.0028 | K17: 0.0001 | L17: 0.0001 | M17: 0.98975711 | N17: 1 | O17: 0.98 | P17: 1.01 | Q17: 0.0039 | R17: 0.0046 | S17: 0.0048 | T17: 0.99 | U17: 1 | V17: 0.97 | W17: 0.97 | Z17: =M17/O17-1 -> 0.0099562383 | AA17: =N17/P17-1 -> -0.0099009901 | AB17: =T17/V17-1 -> 0.020618557 | AC17: =U17/W17-1 -> 0.030927835
A18: Merge with MVD | B18: MMVD | J18: 0.0051 | K18: 0.0047 | L18: 0.0051 | M18: 0.93 | N18: 1.01 | O18: 0.93 | P18: 1.01 | Q18: 0.0045 | R18: 0.0034 | S18: 0.0036 | T18: 0.96 | U18: 1 | V18: 0.95 | W18: 1 | Z18: =M18/O18-1 -> 0 | AA18: =N18/P18-1 -> 0 | AB18: =T18/V18-1 -> 0.010526316 | AC18: =U18/W18-1 -> 0
A19: Bi-prediction with CU weights | B19: BCW | J19: 0.004 | K19: 0.0042 | L19: 0.0045 | M19: 0.94 | N19: 1 | O19: 0.98 | P19: 0.99 | Q19: 0.0028 | R19: 0.0017 | S19: 0.001 | T19: 1 | U19: 1.03 | V19: 0.97 | W19: 0.99 | Z19: =M19/O19-1 -> -0.040816327 | AA19: =N19/P19-1 -> 0.01010101 | AB19: =T19/V19-1 -> 0.030927835 | AC19: =U19/W19-1 -> 0.04040404
A20: Multi-reference line prediction | B20: MRLP | C20: 0.0032 | D20: 0.001 | E20: 0.0014 | F20: 0.98 | G20: 1.01 | H20: 0.98 | I20: 1.01 | J20: 0.0016 | K20: 0.0007 | L20: 0.001 | M20: 0.99900438 | N20: 1.0003251 | O20: 1 | P20: 1 | Q20: 0.0005 | R20: -0.0036 | S20: -0.0004 | T20: 0.99854744 | U20: 1 | V20: 1 | W20: 1 | X20: =F20/H20-1 -> 0 | Y20: =G20/I20-1 -> 0 | Z20: =M20/O20-1 -> -0.0009956202 | AA20: =N20/P20-1 -> 0.00032514312 | AB20: =T20/V20-1 -> -0.0014525567 | AC20: =U20/W20-1 -> 0
A21: Intra block copy, tool on test | B21: IBC | C21: 0.0065 | D21: 0.0062 | E21: 0.0066 | F21: 0.54 | G21: 1 | H21: 0.58 | I21: 0.99 | J21: -0.0004 | K21: 0.0005 | L21: 0.0005 | M21: 0.91 | N21: 1 | O21: 0.91 | P21: 1 | Q21: -0.0001 | R21: -0.0001 | S21: -0.0006 | T21: 0.85 | U21: 0.99895733 | V21: 0.85 | W21: 1 | X21: =F21/H21-1 -> -0.068965517 | Y21: =G21/I21-1 -> 0.01010101 | Z21: =M21/O21-1 -> 0 | AA21: =N21/P21-1 -> 0 | AB21: =T21/V21-1 -> 0 | AC21: =U21/W21-1 -> -0.0010426724
A22: Intra sub-partitioning | B22: ISP | C22: 0.0052 | D22: 0.0029 | E22: 0.0026 | F22: 0.85 | G22: 0.98 | H22: 0.85 | I22: 0.98 | J22: 0.0032 | K22: 0.0024 | L22: 0.0031 | M22: 0.95 | N22: 1 | O22: 0.96 | P22: 1 | Q22: 0.0007 | R22: -0.0005 | S22: 0.0013 | T22: 0.99 | U22: 1 | V22: 0.99 | W22: 0.99 | X22: =F22/H22-1 -> 0 | Y22: =G22/I22-1 -> 0 | Z22: =M22/O22-1 -> -0.010416667 | AA22: =N22/P22-1 -> 0 | AB22: =T22/V22-1 -> 0 | AC22: =U22/W22-1 -> 0.01010101
A23: Decoder motion vector refinement | B23: DMVR | J23: 0.0083 | K23: 0.0108 | L23: 0.011 | M23: 1.0029436 | N23: 0.97171871 | O23: 1 | P23: 0.97 | Z23: =M23/O23-1 -> 0.0029436452 | AA23: =N23/P23-1 -> 0.00177187
A24: Sub-block Transform | B24: SBT | J24: 0.004 | K24: -0.0003 | L24: -0.0001 | M24: 0.95 | N24: 1 | O24: 0.95 | P24: 1 | Q24: 0.0057 | R24: -0.0022 | S24: -0.0013 | T24: 0.93 | U24: 0.99 | V24: 0.93 | W24: 0.98 | Z24: =M24/O24-1 -> 0 | AA24: =N24/P24-1 -> 0 | AB24: =T24/V24-1 -> 0 | AC24: =U24/W24-1 -> 0.010204082
A25: Luma Mapping with Chroma Scaling | B25: LMCS | C25: 0.010911557 | D25: -0.011073247 | E25: -0.0070655023 | F25: 0.99413031 | G25: 0.98604946 | H25: 0.98 | I25: 0.98 | J25: 0.014206565 | K25: 0.013870167 | L25: 0.0096056076 | M25: 0.94588535 | N25: 0.97551803 | O25: 0.94 | P25: 0.98 | Q25: 0.0096884748 | R25: -0.0059128111 | S25: -0.0085842534 | T25: 0.97176764 | U25: 0.98765102 | V25: 0.94 | W25: 0.95 | X25: =F25/H25-1 -> 0.014418681 | Y25: =G25/I25-1 -> 0.0061729154 | Z25: =M25/O25-1 -> 0.0062610092 | AA25: =N25/P25-1 -> -0.0045734346 | AB25: =T25/V25-1 -> 0.033795366 | AC25: =U25/W25-1 -> 0.039632657
A26: Symmetric motion vector difference | B26: SMVD | J26: 0.0025489611 | K26: 0.0025345821 | L26: 0.0026468116 | M26: 0.92610322 | N26: 0.966533 | O26: 0.97 | P26: 1.01 | Z26: =M26/O26-1 -> -0.045254412 | AA26: =N26/P26-1 -> -0.043036632
A27: Quantized residual DPCM | B27: BDPCM | C27: 0.00013268306 | D27: 0.00041876807 | E27: -0.0001267 | F27: 0.93910349 | G27: 0.99971443 | H27: 0.98 | I27: 1.05 | J27: -6.8733643e-05 | K27: -0.00043367846 | L27: -0.00045500312 | M27: 0.98778342 | N27: 0.99923923 | O27: 1.03 | P27: 1.03 | Q27: 0.0003219275 | R27: 0.0028424575 | S27: 0.00014366782 | T27: 0.99119212 | U27: 0.99964942 | V27: 1.02 | W27: 1.03 | X27: =F27/H27-1 -> -0.041731132 | Y27: =G27/I27-1 -> -0.047891015 | Z27: =M27/O27-1 -> -0.040986967 | AA27: =N27/P27-1 -> -0.029864825 | AB27: =T27/V27-1 -> -0.028243022 | AC27: =U27/W27-1 -> -0.029466585
A28: Matrix based intra prediction | B28: MIP | C28: 0.006057968 | D28: 0.0016324278 | E28: 0.001678959 | F28: 0.89259362 | G28: 1.0094913 | H28: 0.86 | I28: 0.96 | J28: 0.0033431785 | K28: 0.0039610358 | L28: 0.0051834277 | M28: 0.95278028 | N28: 0.9950636 | O28: 0.92 | P28: 0.97 | Q28: 0.0016656441 | R28: 0.0047960788 | S28: 0.004866773 | T28: 0.9509045 | U28: 1.0340825 | V28: 1.03 | W28: 0.99 | X28: =F28/H28-1 -> 0.037899559 | Y28: =G28/I28-1 -> 0.051553422 | Z28: =M28/O28-1 -> 0.035630742 | AA28: =N28/P28-1 -> 0.025838766 | AB28: =T28/V28-1 -> -0.076791745 | AC28: =U28/W28-1 -> 0.044527822
A29: Low frequency non-separable transform | B29: LFNST | C29: 0.011961908 | D29: 0.0072416001 | E29: 0.010291931 | F29: 1.1149022 | G29: 1.0050031 | H29: 1.0695972 | I29: 0.98031633 | J29: 0.0088208493 | K29: 0.00023398107 | L29: 0.004853385 | M29: 0.94205016 | N29: 0.99647473 | O29: 0.90870239 | P29: 0.9809847 | Q29: 0.0041813085 | R29: 0.00092910213 | S29: -0.00068887909 | T29: 0.91556691 | U29: 1.025662 | V29: 1.0791667 | W29: 0.98129105 | X29: =F29/H29-1 -> 0.042357026 | Y29: =G29/I29-1 -> 0.02518249 | Z29: =M29/O29-1 -> 0.036698235 | AA29: =N29/P29-1 -> 0.015790283 | AB29: =T29/V29-1 -> -0.15159828 | AC29: =U29/W29-1 -> 0.045216871
A30: Joint coding of chrominance residuals | B30: JCCR | C30: 0.0058615165 | D30: 0.0027584733 | E30: 0.0040838635 | F30: 0.98095078 | G30: 1.0048437 | H30: 0.96 | I30: 0.98 | J30: 0.0056818759 | K30: 0.00044782955 | L30: -0.0051750392 | M30: 0.98377226 | N30: 0.99733451 | O30: 0.94 | P30: 0.97 | Q30: 0.0014907493 | R30: 0.019164397 | S30: 0.025484549 | T30: 0.99081657 | U30: 0.97811742 | V30: 0.97 | W30: 0.99 | X30: =F30/H30-1 -> 0.02182373 | Y30: =G30/I30-1 -> 0.025350732 | Z30: =M30/O30-1 -> 0.046566233 | AA30: =N30/P30-1 -> 0.028179911 | AB30: =T30/V30-1 -> 0.02146038 | AC30: =U30/W30-1 -> -0.012002608
A31: Sampled adaptive offset | B31: SAO | C31: 3.4559365e-05 | D31: 0.0014745154 | E31: 0.0017239694 | F31: 1.0021304 | G31: 0.95810667 | H31: 1 | I31: 0.97 | J31: 0.00083421125 | K31: 0.001994349 | L31: 0.003256882 | M31: 1.0006973 | N31: 0.98195279 | O31: 1 | P31: 0.98 | Q31: 0.0009136067 | R31: 0.0035873032 | S31: 0.0093088479 | T31: 1.005543 | U31: 0.98802081 | V31: 1 | W31: 0.96 | X31: =F31/H31-1 -> 0.0021304432 | Y31: =G31/I31-1 -> -0.012261166 | Z31: =M31/O31-1 -> 0.00069725872 | AA31: =N31/P31-1 -> 0.0019926388 | AB31: =T31/V31-1 -> 0.00554305 | AC31: =U31/W31-1 -> 0.029188348
A32: Prediction refinement using optical flow | B32: PROF | J32: 0.0046354615 | K32: 0.0015725708 | L32: 0.0012820236 | M32: 0.98440492 | N32: 0.98680521 | O32: 0.98 | P32: 0.98 | Q32: 0.0032816809 | R32: -0.00029352699 | S32: -2.7803594e-05 | T32: 0.97695915 | U32: 0.97509943 | V32: 0.97 | W32: 0.92 | Z32: =M32/O32-1 -> 0.00449482 | AA32: =N32/P32-1 -> 0.0069440874 | AB32: =T32/V32-1 -> 0.0071743838 | AC32: =U32/W32-1 -> 0.059890683
A37: Intra block copy classF | B37: IBC | C37: 0.1522246 | D37: 0.15160104 | E37: 0.15314157 | F37: 0.53582005 | G37: 1.0064965 | H37: 0.56705904 | I37: 0.98838896 | J37: 0.12189189 | K37: 0.12142246 | L37: 0.12292745 | M37: 0.85266018 | N37: 0.9992349 | O37: 0.88356806 | P37: 1.0043254 | Q37: 0.060368052 | R37: 0.068517487 | S37: 0.066251951 | T37: 0.84208454 | U37: 1.0058548 | V37: 0.85943126 | W37: 0.99065284 | X37: =F37/H37-1 -> -0.055089495 | Y37: =G37/I37-1 -> 0.018320247 | Z37: =M37/O37-1 -> -0.034980762 | AA37: =N37/P37-1 -> -0.0050686107 | AB37: =T37/V37-1 -> -0.02018395 | AC37: =U37/W37-1 -> 0.01534541
A38: Intra block copy classTGM | B38: IBC | C38: 0.47194094 | D38: 0.4462839 | E38: 0.44634388 | F38: 0.63532362 | G38: 1.0265644 | H38: 0.67158002 | I38: 1.0251825 | J38: 0.22116006 | K38: 0.21662312 | L38: 0.22056118 | M38: 0.88308261 | N38: 1.0153064 | O38: 1.0161099 | P38: 1.0457082 | Q38: 0.11328139 | R38: 0.12032954 | S38: 0.12336298 | T38: 0.84410928 | U38: 1.0538394 | V38: 0.95040515 | W38: 1.0244286
A39: Quantized residual DPCM classF | B39: BDPCM | C39: 0.0092192389 | D39: 0.008140483 | E39: 0.0095276477 | F39: 0.98458748 | G39: 1.0046916 | H39: 0.96 | I39: 0.93 | J39: 0.0067792888 | K39: 0.0065607052 | L39: 0.0070005884 | M39: 0.99132248 | N39: 1.0020881 | O39: 0.94 | P39: 0.95 | Q39: 0.0044855248 | R39: -0.0017954092 | S39: 0.0090407403 | T39: 0.99261436 | U39: 1.0064271 | V39: 0.97 | W39: 0.97 | X39: =F39/H39-1 -> 0.025611958 | Y39: =G39/I39-1 -> 0.080313576 | Z39: =M39/O39-1 -> 0.054598388 | AA39: =N39/P39-1 -> 0.054829548 | AB39: =T39/V39-1 -> 0.023313775 | AC39: =U39/W39-1 -> 0.037553722
A40: Quantized residual DPCM classTGM | B40: BDPCM | C40: 0.013887034 | D40: 0.012680101 | E40: 0.012396378 | F40: 1.009016 | G40: 1.0162626 | H40: 0.96 | I40: 0.95 | J40: 0.0070030794 | K40: 0.0074922026 | L40: 0.0078189929 | M40: 1.0018977 | N40: 1.0078052 | O40: 1 | P40: 0.97 | Q40: 0.0026638822 | R40: 0.00075800853 | S40: 0.0014471183 | T40: 0.9966132 | U40: 1.0010206 | V40: 1 | W40: 1.03 | X40: =F40/H40-1 -> 0.051058379 | Y40: =G40/I40-1 -> 0.069750149 | Z40: =M40/O40-1 -> 0.0018977021 | AA40: =N40/P40-1 -> 0.038974422 | AB40: =T40/V40-1 -> -0.0033867989 | AC40: =U40/W40-1 -> -0.028135312
A42: 4:4:4
A43: Palette Mode | B43: PLT | C43: 0.11354749 | D43: 0.14774796 | E43: 0.15948437 | F43: 0.98355271 | G43: 1.08 | H43: 0.98 | I43: 1.07 | J43: 0.078338628 | K43: 0.10475861 | L43: 0.11868405 | M43: 0.99 | N43: 1.01 | O43: 0.99613965 | P43: 1.017468 | Q43: 0.039817161 | R43: 0.072282019 | S43: 0.082402649 | T43: 0.96 | U43: 1.01 | V43: 0.96 | W43: 0.99 | X43: =F43/H43-1 -> 0.0036252164 | Y43: =G43/I43-1 -> 0.0093457944 | Z43: =M43/O43-1 -> -0.0061634479 | AA43: =N43/P43-1 -> -0.0073397442 | AB43: =T43/V43-1 -> 0 | AC43: =U43/W43-1 -> 0.02020202
A44: Adaptive Color Transform (VTM7.1), RGB | B44: ACT, RGB | C44: 0.1061 | D44: 0.0274 | E44: 0.0357 | F44: 1.04 | G44: 1 | H44: 0.98 | I44: 1.02 | J44: 0.1912 | K44: 0.0666 | L44: 0.0827 | M44: 1.04 | N44: 1 | O44: 0.97 | P44: 1.01 | Q44: 0.2847 | R44: 0.0924 | S44: 0.1113 | T44: 1.03 | U44: 1 | V44: 0.98 | W44: 1.01 | X44: =F44/H44-1 -> 0.06122449 | Y44: =G44/I44-1 -> -0.019607843 | Z44: =M44/O44-1 -> 0.072164948 | AA44: =N44/P44-1 -> -0.0099009901 | AB44: =T44/V44-1 -> 0.051020408 | AC44: =U44/W44-1 -> -0.0099009901
C51: AI | E51: RA | H51: LDB
A52: Tool | B52: Abbreviation | C52: Sample usage | D52: Sample usage | E52: Ave mem BW | F52: Max mem BW | G52: Sample usage | H52: Ave mem BW | I52: Max mem BW
...

Sheet VTM Tools-Fig
F1: weighting factor
F2: 6
B3: ='VTM Tools'!B7 -> CST | C3: ='VTM Tools'!J7 -> 0.00099656342 | D3: =AVERAGE('VTM Tools'!M7,'VTM Tools'!O7) -> 1.03 | E3: =AVERAGE('VTM Tools'!N7,'VTM Tools'!P7) -> 0.99838909 | F3: =(D3+F2*E3)/(F2+1) -> 1.0029049
B4: ='VTM Tools'!B8 -> DQ | C4: ='VTM Tools'!J8 -> 0.017577481 | D4: =AVERAGE('VTM Tools'!M8,'VTM Tools'!O8) -> 1.015 | E4: =AVERAGE('VTM Tools'!N8,'VTM Tools'!P8) -> 1 | F4: =(D4+F2*E4)/(F2+1) -> 1.0021429
B5: ='VTM Tools'!B9 -> CCLM | C5: ='VTM Tools'!J9 -> 0.0102 | D5: =AVERAGE('VTM Tools'!M9,'VTM Tools'!O9) -> 0.99 | E5: =AVERAGE('VTM Tools'!N9,'VTM Tools'!P9) -> 1 | F5: =(D5+F2*E5)/(F2+1) -> 0.99857143
B6: ='VTM Tools'!B10 -> MTS | C6: ='VTM Tools'!J10 -> 0.0070232177 | D6: =AVERAGE('VTM Tools'!M10,'VTM Tools'!O10) -> 0.915 | E6: =AVERAGE('VTM Tools'!N10,'VTM Tools'!P10) -> 1 | F6: =(D6+F2*E6)/(F2+1) -> 0.98785714
B7: ='VTM Tools'!B11 -> ALF | C7: ='VTM Tools'!J11 -> 0.0456 | D7: =AVERAGE('VTM Tools'!M11,'VTM Tools'!O11) -> 0.97 | E7: =AVERAGE('VTM Tools'!N11,'VTM Tools'!P11) -> 0.895 | F7: =(D7+F2*E7)/(F2+1) -> 0.90571429
B8: ='VTM Tools'!B12 -> AFF | C8: ='VTM Tools'!J12 -> 0.0301 | D8: =AVERAGE('VTM Tools'!M12,'VTM Tools'!O12) -> 0.815 | E8: =AVERAGE('VTM Tools'!N12,'VTM Tools'!P12) -> 0.965 | F8: =(D8+F2*E8)/(F2+1) -> 0.94357143
B9: ='VTM Tools'!B13 -> SbTMC | C9: ='VTM Tools'!J13 -> 0.0046 | D9: =AVERAGE('VTM Tools'!M13,'VTM Tools'!O13) -> 1.0088536 | E9: =AVERAGE('VTM Tools'!N13,'VTM Tools'!P13) -> 1.003581 | F9: =(D9+F2*E9)/(F2+1) -> 1.0043342
B10: ='VTM Tools'!B14 -> AMVR | C10: ='VTM Tools'!J14 -> 0.0142 | D10: =AVERAGE('VTM Tools'!M14,'VTM Tools'!O14) -> 0.845 | E10: =AVERAGE('VTM Tools'!N14,'VTM Tools'!P14) -> 1.0142077 | F10: =(D10+F2*E10)/(F2+1) -> 0.9900352
B11: ='VTM Tools'!B15 -> TPM | C11: ='VTM Tools'!J15 -> 0.0038 | D11: =AVERAGE('VTM Tools'!M15,'VTM Tools'!O15) -> 0.965 | E11: =AVERAGE('VTM Tools'!N15,'VTM Tools'!P15) -> 1.005 | F11: =(D11+F3*E11)/(F3+1) -> 0.98502901
B12: ='VTM Tools'!B16 -> BDOF | C12: ='VTM Tools'!J16 -> 0.0076 | D12: =AVERAGE('VTM Tools'!M16,'VTM Tools'!O16) -> 0.995 | E12: =AVERAGE('VTM Tools'!N16,'VTM Tools'!P16) -> 0.95300775 | F12: =(D12+F4*E12)/(F4+1) -> 0.9739814
B13: ='VTM Tools'!B17 -> CIIP | C13: ='VTM Tools'!J17 -> 0.0028 | D13: =AVERAGE('VTM Tools'!M17,'VTM Tools'!O17) -> 0.98487856 | E13: =AVERAGE('VTM Tools'!N17,'VTM Tools'!P17) -> 1.005 | F13: =(D13+F5*E13)/(F5+1) -> 0.99493209
B14: ='VTM Tools'!B18 -> MMVD | C14: ='VTM Tools'!J18 -> 0.0051 | D14: =AVERAGE('VTM Tools'!M18,'VTM Tools'!O18) -> 0.93 | E14: =AVERAGE('VTM Tools'!N18,'VTM Tools'!P18) -> 1.01 | F14: =(D14+F6*E14)/(F6+1) -> 0.96975566
B15: ='VTM Tools'!B19 -> BCW | C15: ='VTM Tools'!J19 -> 0.004 | D15: =AVERAGE('VTM Tools'!M19,'VTM Tools'!O19) -> 0.96 | E15: =AVERAGE('VTM Tools'!N19,'VTM Tools'!P19) -> 0.995 | F15: =(D15+F7*E15)/(F7+1) -> 0.97663418
B16: ='VTM Tools'!B20 -> MRLP | C16: ='VTM Tools'!J20 -> 0.0016 | D16: =AVERAGE('VTM Tools'!M20,'VTM Tools'!O20) -> 0.99950219 | E16: =AVERAGE('VTM Tools'!N20,'VTM Tools'!P20) -> 1.0001626 | F16: =(D16+F8*E16)/(F8+1) -> 0.99982279
B17: ='VTM Tools'!B21 -> IBC | C17: ='VTM Tools'!J21 -> -0.0004 | D17: =AVERAGE('VTM Tools'!M21,'VTM Tools'!O21) -> 0.91 | E17: =AVERAGE('VTM Tools'!N21,'VTM Tools'!P21) -> 1 | F17: =(D17+F9*E17)/(F9+1) -> 0.95509731
B18: ='VTM Tools'!B22 -> ISP | C18: ='VTM Tools'!J22 -> 0.0032 | D18: =AVERAGE('VTM Tools'!M22,'VTM Tools'!O22) -> 0.955 | E18: =AVERAGE('VTM Tools'!N22,'VTM Tools'!P22) -> 1 | F18: =(D18+F10*E18)/(F10+1) -> 0.97738733
B19: ='VTM Tools'!B23 -> DMVR | C19: ='VTM Tools'!J23 -> 0.0083 | D19: =AVERAGE('VTM Tools'!M23,'VTM Tools'!O23) -> 1.0014718 | E19: =AVERAGE('VTM Tools'!N23,'VTM Tools'!P23) -> 0.97085936 | F19: =(D19+F11*E19)/(F11+1) -> 0.98628103
B20: ='VTM Tools'!B24 -> SBT | C20: ='VTM Tools'!J24 -> 0.004 | D20: =AVERAGE('VTM Tools'!M24,'VTM Tools'!O24) -> 0.95 | E20: =AVERAGE('VTM Tools'!N24,'VTM Tools'!P24) -> 1 | F20: =(D20+F12*E20)/(F12+1) -> 0.97467048
B21: ='VTM Tools'!B25 -> LMCS | C21: ='VTM Tools'!J25 -> 0.014206565 | D21: =AVERAGE('VTM Tools'!M25,'VTM Tools'!O25) -> 0.94294267 | E21: =AVERAGE('VTM Tools'!N25,'VTM Tools'!P25) -> 0.97775902 | F21: =(D21+F13*E21)/(F13+1) -> 0.96030662
... B28: ='VTM Tools'!B32 -> PROF | C28: ='VTM Tools'!J32 -> 0.0046354615 | D28: =AVERAGE('VTM Tools'!M32,'VTM Tools'!O32) -> 0.98220246 | E28: =AVERAGE('VTM Tools'!N32,'VTM Tools'!P32) -> 0.9834026 | F28: =(D28+F20*E28)/(F20+1) -> 0.98279484

Sheet Tool-Historical performance
D1: VTM RA
A2: Tool | B2: Abbreviation | C2: VTM3 | D2: VTM4 | E2: VTM5 | F2: VTM6 | G2: VTM7 | I2: luma to chroma ratio | J2: 8
A3: Chroma separate tree | B3: CST | C3: 0.0074272403 | D3: 0.01253 | E3: 0.014701367 | F3: 0.0098789224 | G3: =('VTM Tools'!J7*$J$2+'VTM Tools'!K7+'VTM Tools'!L7)/($J$2+1+1) -> 0.0091072507
A4: Dependent quantization | B4: DQ | C4: 0.01387214 | D4: 0.01359 | E4: 0.012413527 | F4: 0.013205932 | G4: =('VTM Tools'!J8*$J$2+'VTM Tools'!K8+'VTM Tools'!L8)/($J$2+1+1) -> 0.013291985
A5: Cross-component linear model | B5: CCLM | C5: 0.040881169 | D5: 0.04196 | E5: 0.040012866 | F5: 0.033329362 | G5: =('VTM Tools'!J9*$J$2+'VTM Tools'!K9+'VTM Tools'!L9)/($J$2+1+1) -> 0.03372
A6: multiple transform set | B6: MTS | C6: 0.012503089 | D6: 0.00802 | E6: 0.0035943834 | F6: 0.0068019564 | G6: =('VTM Tools'!J10*$J$2+'VTM Tools'!K10+'VTM Tools'!L10)/($J$2+1+1) -> 0.0068985741
A7: Adaptive loop filter | B7: ALF | C7: 0.036138392 | D7: 0.037336584 | E7: 0.047946694 | F7: 0.046488782 | G7: =('VTM Tools'!J11*$J$2+'VTM Tools'!K11+'VTM Tools'!L11)/($J$2+1+1) -> 0.04635
A8: Affine motion model | B8: AFF | C8: 0.024168237 | D8: 0.02455 | E8: 0.023797834 | F8: 0.028355775 | G8: =('VTM Tools'!J12*$J$2+'VTM Tools'!K12+'VTM Tools'!L12)/($J$2+1+1) -> 0.02812
A9: subblock-based temporal merging candidates | B9: SbTMC | C9: 0.00517741 | D9: 0.00425 | E9: 0.0040005743 | F9: 0.0047963521 | G9: =('VTM Tools'!J13*$J$2+'VTM Tools'!K13+'VTM Tools'!L13)/($J$2+1+1) -> 0.00436
A10: Adaptive motion vector resolution | B10: AMVR | C10: 0.0098464923 | D10: 0.01128 | E10: 0.011374619 | F10: 0.015911005 | G10: =('VTM Tools'!J14*$J$2+'VTM Tools'!K14+'VTM Tools'!L14)/($J$2+1+1) -> 0.0158
A11: Triangular partition | B11: TPM | C11: 0.0043052942 | D11: 0.00434 | E11: 0.0040544661 | F11: 0.0038623656 | G11: =('VTM Tools'!J15*$J$2+'VTM Tools'!K15+'VTM Tools'!L15)/($J$2+1+1) -> 0.00436
A12: Bi-directional optical flow | B12: BDOF | C12: 0.010158067 | D12: 0.00625 | E12: 0.0066096555 | F12: 0.0067726528 | G12: =('VTM Tools'!J16*$J$2+'VTM Tools'!K16+'VTM Tools'!L16)/($J$2+1+1) -> 0.00666
A13: Combined intra/inter prediction | B13: CIIP | C13: 0.0042985688 | D13: 0.00505 | E13: 0.0031398987 | F13: 0.0024319501 | G13: =('VTM Tools'!J17*$J$2+'VTM Tools'!K17+'VTM Tools'!L17)/($J$2+1+1) -> 0.00226
A14: Merge with MVD | B14: MMVD | C14: 0.0081289956 | D14: 0.00524 | E14: 0.0059496451 | F14: 0.0052240548 | G14: =('VTM Tools'!J18*$J$2+'VTM Tools'!K18+'VTM Tools'!L18)/($J$2+1+1) -> 0.00506
... A17: Intra block copy | B17: IBC | C17: 0.00071682131 | D17: -4e-05 | E17: 0.00052428795 | F17: -0.00012670697 | G17: =('VTM Tools'!J21*$J$2+'VTM Tools'!K21+'VTM Tools'!L21)/($J$2+1+1) -> -0.00022
A18: Intra sub-partitioning | B18: ISP | D18: 0.00242 | E18: 0.0011562486 | F18: 0.0020082477 | G18: =('VTM Tools'!J22*$J$2+'VTM Tools'!K22+'VTM Tools'!L22)/($J$2+1+1) -> 0.00311
A19: Decoder motion vector refinement | B19: DMVR | D19: 0.00797 | E19: 0.0086999275 | F19: 0.0086870855 | G19: =('VTM Tools'!J23*$J$2+'VTM Tools'!K23+'VTM Tools'!L23)/($J$2+1+1) -> 0.00882
A20: Sub-block Transform | B20: SBT | D20: 0.00332 | E20: 0.0033447277 | F20: 0.0032043833 | G20: =('VTM Tools'!J24*$J$2+'VTM Tools'!K24+'VTM Tools'!L24)/($J$2+1+1) -> 0.00316
A21: Luma Mapping with Chroma Scaling | B21: LMCS | D21: 0.00621 | E21: 0.00574 | F21: 0.010313294 | G21: =('VTM Tools'!J25*$J$2+'VTM Tools'!K25+'VTM Tools'!L25)/($J$2+1+1) -> 0.013712829
A22: Symmetric motion vector difference | B22: SMVD | D22: 0.00256 | E22: 0.0024335098 | F22: 0.0026680197 | G22: =('VTM Tools'!J26*$J$2+'VTM Tools'!K26+'VTM Tools'!L26)/($J$2+1+1) -> 0.0025573083
A23: Quantized residual DPCM | B23: BDPCM | E23: -0.00020534465 | F23: -0.00029215595 | G23: =('VTM Tools'!J27*$J$2+'VTM Tools'!K27+'VTM Tools'!L27)/($J$2+1+1) -> -0.00014385507
A24: Matrix based intra prediction | B24: MIP | E24: 0.0027406059 | F24: 0.0031619924 | G24: =('VTM Tools'!J28*$J$2+'VTM Tools'!K28+'VTM Tools'!L28)/($J$2+1+1) -> 0.0035889891
A25: Low frequency non-separable transform | B25: LFNST | E25: 0.007514931 | F25: 0.0061162726 | G25: =('VTM Tools'!J29*$J$2+'VTM Tools'!K29+'VTM Tools'!L29)/($J$2+1+1) -> 0.0075654161
A26: Joint coding of chrominance residuals | B26: JCCR | E26: 0.0034068748 | F26: 0.0042154613 | G26: =('VTM Tools'!J30*$J$2+'VTM Tools'!K30+'VTM Tools'!L30)/($J$2+1+1) -> 0.0040727797
A27: Sample adaptive offset | B27: SAO | C27: 0.0081 | D27: 0.0064 | E27: 0.0017002711 | F27: 0.0012860129 | G27: =('VTM Tools'!J31*$J$2+'VTM Tools'!K31+'VTM Tools'!L31)/($J$2+1+1) -> 0.0011924921
A28: Prediction refinement using optical flow | B28: PROF | F28: 0.0041166429 | G28: =('VTM Tools'!J32*$J$2+'VTM Tools'!K32+'VTM Tools'!L32)/($J$2+1+1) -> 0.0039938286
