Workbook

Sheet Summary
C2: Random Access
C3: average | D3: worst | F3: Reference: | G3: VTM-3.0
B4: Class A1 | C4: ='RA (VTM vs test)'!H109 -> 0.25163219 | D4: ='RA (VTM vs test)'!H110 -> 0.30365769 | F4: Tested: | G4: Crosscheck
B5: Class A2 | C5: ='RA (VTM vs test)'!H111 -> 0.22596934 | D5: ='RA (VTM vs test)'!H112 -> 0.30995475
B6: Class B | C6: ='RA (VTM vs test)'!H113 -> 0.231933 | D6: ='RA (VTM vs test)'!H114 -> 0.30563798
B7: Class C | C7: ='RA (VTM vs test)'!H115 -> 0.19924894 | D7: ='RA (VTM vs test)'!H116 -> 0.25203252
B8: Class E
B9: Overall | C9: ='RA (VTM vs test)'!H3 -> 0.23496609 | D9: ='RA (VTM vs test)'!H4 -> 0.32989691
B10: Class D | C10: ='RA (VTM vs test)'!H117 -> 0.22261484 | D10: ='RA (VTM vs test)'!H118 -> 0.26923077
B11: Class F | C11: ='RA (VTM vs test)'!H121 -> 0.25424741 | D11: ='RA (VTM vs test)'!H122 -> 0.32989691
C13: Low delay B
C14: average | D14: worst
B15: Class A1
B16: Class A2
B17: Class B | C17: ='LDB (VTM vs test)'!H113 -> 0.18728406 | D17: ='LDB (VTM vs test)'!H114 -> 0.25622776
B18: Class C | C18: ='LDB (VTM vs test)'!H115 -> 0.16510912 | D18: ='LDB (VTM vs test)'!H116 -> 0.20242915
B19: Class E | C19: ='LDB (VTM vs test)'!H119 -> 0.20401338 | D19: ='LDB (VTM vs test)'!H120 -> 0.27272727
B20: Overall | C20: ='LDB (VTM vs test)'!H3 -> 0.18711454 | D20: ='LDB (VTM vs test)'!H4 -> 0.30769231
B21: Class D | C21: ='LDB (VTM vs test)'!H117 -> 0.18511989 | D21: ='LDB (VTM vs test)'!H118 -> 0.23809524
B22: Class F (optional) | C22: ='LDB (VTM vs test)'!H121 -> 0.20371853 | D22: ='LDB (VTM vs test)'!H122 -> 0.30769231
C24: Low delay P
C25: average | D25: worst
B26: Class A1 | C26: ='LDP (VTM vs test)'!H109 -> 0 | D26: ='LDP (VTM vs test)'!H110 -> 0
B27: Class A2 | C27: ='LDP (VTM vs test)'!H111 -> 0 | D27: ='LDP (VTM vs test)'!H112 -> 0
B28: Class B | C28: ='LDP (VTM vs test)'!H113 -> 0 | D28: ='LDP (VTM vs test)'!H114 -> 0
B29: Class C | C29: ='LDP (VTM vs test)'!H115 -> 0 | D29: ='LDP (VTM vs test)'!H116 -> 0
B30: Class E | C30: ='LDP (VTM vs test)'!H119 -> 0 | D30: ='LDP (VTM vs test)'!H120 -> 0
B31: Overall | C31: ='LDP (VTM vs test)'!H3 -> 0 | D31: ='LDP (VTM vs test)'!H4 -> 0
B32: Class D | C32: ='LDP (VTM vs test)'!H117 -> 0 | D32: ='LDP (VTM vs test)'!H118 -> 0
B33: Class F (optional) | C33: ='LDP (VTM vs test)'!H121 -> 0 | D33: ='LDP (VTM vs test)'!H122 -> 0

Sheet RA (VTM vs test)
D1: Reference | F1: Tested | J1: Cache Configuration
C2: QPISlice | D2: Bandwidth [Mbyte/s] | F2: Bandwidth [Mbyte/s] | H2: Ratio [%] | J2: Cache Size [Kbyte] | K2: =K3 * K4 * K5 / 1024 -> 64
A3: Summary | B3: All Average | D3: =AVERAGE(D5:D80,D93:D108) -> 4019.6457 | F3: =AVERAGE(F5:F80,F93:F108) -> 944.48043 | H3: =F3 / D3 -> 0.23496609 | J3: Cache Line Size [Byte] | K3: 256
B4: All Worst | D4: =MAX(D5:D108) -> 21162 | F4: =MAX(F5:F108) -> 4110 | H4: =MAX(H5:H108) -> 0.32989691 | J4: Number of Cache Line | K4: 64
A5: Class A1 | B5: Tango2 | C5: 22 | D5: =VTM!B2 * fps!B1 -> 15234 | F5: =Test!B2 * fps!B1 -> 3054 | H5: =F5 / D5 -> 0.20047263 | J5: Number of way | K5: 4
A6: 4K | C6: 27 | D6: =VTM!B3 * fps!B1 -> 13146 | F6: =Test!B3 * fps!B1 -> 3114 | H6: =F6 / D6 -> 0.23687814
C7: 32 | D7: =VTM!B4 * fps!B1 -> 11640 | F7: =Test!B4 * fps!B1 -> 3096 | H7: =F7 / D7 -> 0.26597938
C8: 37 | D8: =VTM!B5 * fps!B1 -> 10290 | F8: =Test!B5 * fps!B1 -> 3114 | H8: =F8 / D8 -> 0.30262391
B9: FoodMarket4 | C9: 22 | D9: =VTM!B6 * fps!B2 -> 12234 | F9: =Test!B6 * fps!B2 -> 2718 | H9: =F9 / D9 -> 0.22216773
C10: 27 | D10: =VTM!B7 * fps!B2 -> 10362 | F10: =Test!B7 * fps!B2 -> 2556 | H10: =F10 / D10 -> 0.24667053
C11: 32 | D11: =VTM!B8 * fps!B2 -> 9366 | F11: =Test!B8 * fps!B2 -> 2520 | H11: =F11 / D11 -> 0.2690583
C12: 37 | D12: =VTM!B9 * fps!B2 -> 8694 | F12: =Test!B9 * fps!B2 -> 2640 | H12: =F12 / D12 -> 0.30365769
B13: Campfire | C13: 22 | D13: =VTM!B10 * fps!B3 -> 7794 | F13: =Test!B10 * fps!B3 -> 1782 | H13: =F13 / D13 -> 0.22863741
C14: 27 | D14: =VTM!B11 * fps!B3 -> 3771 | F14: =Test!B11 * fps!B3 -> 996 | H14: =F14 / D14 -> 0.26412092
C15: 32 | D15: =VTM!B12 * fps!B3 -> 3507 | F15: =Test!B12 * fps!B3 -> 963 | H15: =F15 / D15 -> 0.27459367
C16: 37 | D16: =VTM!B13 * fps!B3 -> 3324 | F16: =Test!B13 * fps!B3 -> 966 | H16: =F16 / D16 -> 0.29061372
A17: Class A2 | B17: CatRobot1 | C17: 22 | D17: =VTM!B14 * fps!B4 -> 21162 | F17: =Test!B14 * fps!B4 -> 4044 | H17: =F17 / D17 -> 0.19109725
A18: 4K | C18: 27 | D18: =VTM!B15 * fps!B4 -> 17100 | F18: =Test!B15 * fps!B4 -> 4068 | H18: =F18 / D18 -> 0.23789474
C19: 32 | D19: =VTM!B16 * fps!B4 -> 14904 | F19: =Test!B16 * fps!B4 -> 4032 | H19: =F19 / D19 -> 0.2705314
C20: 37 | D20: =VTM!B17 * fps!B4 -> 13260 | F20: =Test!B17 * fps!B4 -> 4110 | H20: =F20 / D20 -> 0.30995475
B21: DaylightRoad2 | C21: 22 | D21: =VTM!B18 * fps!B5 -> 16032 | F21: =Test!B18 * fps!B5 -> 3234 | H21: =F21 / D21 -> 0.20172156
C22: 27 | D22: =VTM!B19 * fps!B5 -> 12156 | F22: =Test!B19 * fps!B5 -> 2874 | H22: =F22 / D22 -> 0.23642646
C23: 32 | D23: =VTM!B20 * fps!B5 -> 10284 | F23: =Test!B20 * fps!B5 -> 2622 | H23: =F23 / D23 -> 0.25495916
C24: 37 | D24: =VTM!B21 * fps!B5 -> 9222 | F24: =Test!B21 * fps!B5 -> 2562 | H24: =F24 / D24 -> 0.27781392
B25: ParkRunning3 | C25: 22 | D25: =VTM!B22 * fps!B6 -> 20400 | F25: =Test!B22 * fps!B6 -> 3750 | H25: =F25 / D25 -> 0.18382353
C26: 27 | D26: =VTM!B23 * fps!B6 -> 16240 | F26: =Test!B23 * fps!B6 -> 3085 | H26: =F26 / D26 -> 0.18996305
C27: 32 | D27: =VTM!B24 * fps!B6 -> 13210 | F27: =Test!B24 * fps!B6 -> 2675 | H27: =F27 / D27 -> 0.20249811
C28: 37 | D28: =VTM!B25 * fps!B6 -> 10505 | F28: =Test!B25 * fps!B6 -> 2370 | H28: =F28 / D28 -> 0.22560685
A29: Class B | B29: MarketPlace | C29: 22 | D29: =VTM!B26 * fps!B7 -> 3792 | F29: =Test!B26 * fps!B7 -> 792 | H29: =F29 / D29 -> 0.20886076
A30: 1080p | C30: 27 | D30: =VTM!B27 * fps!B7 -> 2946 | F30: =Test!B27 * fps!B7 -> 678 | H30: =F30 / D30 -> 0.23014257
C31: 32 | D31: =VTM!B28 * fps!B7 -> 2508 | F31: =Test!B28 * fps!B7 -> 624 | H31: =F31 / D31 -> 0.24880383
C32: 37 | D32: =VTM!B29 * fps!B7 -> 2196 | F32: =Test!B29 * fps!B7 -> 600 | H32: =F32 / D32 -> 0.27322404
B33: RitualDance | C33: 22 | D33: =VTM!B30 * fps!B8 -> 3144 | F33: =Test!B30 * fps!B8 -> 624 | H33: =F33 / D33 -> 0.19847328
C34: 27 | D34: =VTM!B31 * fps!B8 -> 2634 | F34: =Test!B31 * fps!B8 -> 552 | H34: =F34 / D34 -> 0.2095672
C35: 32 | D35: =VTM!B32 * fps!B8 -> 2322 | F35: =Test!B32 * fps!B8 -> 516 | H35: =F35 / D35 -> 0.22222222
C36: 37 | D36: =VTM!B33 * fps!B8 -> 2070 | F36: =Test!B33 * fps!B8 -> 498 | H36: =F36 / D36 -> 0.24057971
B37: Cactus | C37: 22 | D37: =VTM!B34 * fps!B9 -> 3740 | F37: =Test!B34 * fps!B9 -> 800 | H37: =F37 / D37 -> 0.21390374
C38: 27 | D38: =VTM!B35 * fps!B9 -> 2820 | F38: =Test!B35 * fps!B9 -> 675 | H38: =F38 / D38 -> 0.2393617
C39: 32 | D39: =VTM!B36 * fps!B9 -> 2535 | F39: =Test!B36 * fps!B9 -> 660 | H39: =F39 / D39 -> 0.26035503
C40: 37 | D40: =VTM!B37 * fps!B9 -> 2330 | F40: =Test!B37 * fps!B9 -> 655 | H40: =F40 / D40 -> 0.28111588
...

Sheet LDB (VTM vs test)
D1: Reference | F1: Tested | J1: Cache Configuration
C2: QPISlice | D2: Bandwidth [MByte] | F2: Bandwidth [MByte] | H2: Ratio [%] | J2: Cache Size [Kbyte] | K2: =K3 * K4 * K5 / 1024 -> 64
A3: Summary | B3: Average | D3: =AVERAGE(D5:D64,D81:D92) -> 1387.675 | F3: =AVERAGE(F5:F64,F81:F92) -> 259.65417 | H3: =F3 / D3 -> 0.18711454 | J3: Cache Line Size [Byte] | K3: 256
B4: Worst | D4: =MAX(D5:D108) -> 7362 | F4: =MAX(F5:F108) -> 1500 | H4: =MAX(H5:H108) -> 0.30769231 | J4: Number of Cache Line | K4: 64
A5: Class A1 | B5: Tango2 | C5: 22 | J5: Number of way | K5: 4
A6: 4K | C6: 27
C7: 32
C8: 37
B9: FoodMarket4 | C9: 22
C10: 27
C11: 32
C12: 37
B13: Campfire | C13: 22
C14: 27
C15: 32
C16: 37
A17: Class A2 | B17: CatRobot1 | C17: 22
A18: 4K | C18: 27
C19: 32
C20: 37
B21: DaylightRoad2 | C21: 22
C22: 27
C23: 32
C24: 37
B25: ParkRunning3 | C25: 22
C26: 27
C27: 32
C28: 37
A29: Class B | B29: MarketPlace | C29: 22 | D29: =VTM!B130 * fps!B7 -> 3372 | F29: =Test!B130 * fps!B7 -> 570 | H29: =F29 / D29 -> 0.16903915
A30: 1080p | C30: 27 | D30: =VTM!B131 * fps!B7 -> 2454 | F30: =Test!B131 * fps!B7 -> 456 | H30: =F30 / D30 -> 0.18581907
C31: 32 | D31: =VTM!B132 * fps!B7 -> 1974 | F31: =Test!B132 * fps!B7 -> 396 | H31: =F31 / D31 -> 0.2006079
C32: 37 | D32: =VTM!B133 * fps!B7 -> 1650 | F32: =Test!B133 * fps!B7 -> 360 | H32: =F32 / D32 -> 0.21818182
B33: RitualDance | C33: 22 | D33: =VTM!B134 * fps!B8 -> 2772 | F33: =Test!B134 * fps!B8 -> 444 | H33: =F33 / D33 -> 0.16017316
C34: 27 | D34: =VTM!B135 * fps!B8 -> 2256 | F34: =Test!B135 * fps!B8 -> 390 | H34: =F34 / D34 -> 0.17287234
C35: 32 | D35: =VTM!B136 * fps!B8 -> 1914 | F35: =Test!B136 * fps!B8 -> 354 | H35: =F35 / D35 -> 0.18495298
C36: 37 | D36: =VTM!B137 * fps!B8 -> 1650 | F36: =Test!B137 * fps!B8 -> 330 | H36: =F36 / D36 -> 0.2
B37: Cactus | C37: 22 | D37: =VTM!B138 * fps!B9 -> 3000 | F37: =Test!B138 * fps!B9 -> 495 | H37: =F37 / D37 -> 0.165
C38: 27 | D38: =VTM!B139 * fps!B9 -> 2005 | F38: =Test!B139 * fps!B9 -> 340 | H38: =F38 / D38 -> 0.16957606
C39: 32 | D39: =VTM!B140 * fps!B9 -> 1720 | F39: =Test!B140 * fps!B9 -> 305 | H39: =F39 / D39 -> 0.17732558
C40: 37 | D40: =VTM!B141 * fps!B9 -> 1525 | F40: =Test!B141 * fps!B9 -> 280 | H40: =F40 / D40 -> 0.18360656
...

Sheet LDP (VTM vs test)
D1: Reference | F1: Tested | J1: Cache Configuration
C2: QPISlice | D2: Bandwidth [MByte] | F2: Bandwidth [MByte] | H2: Ratio [%] | J2: Cache Size [Kbyte] | K2: =K3 * K4 * K5 / 1024 -> 64
A3: Summary | B3: Average | D3: =AVERAGE(D5:D64,D81:D92) -> 102.77778 | F3: =AVERAGE(F5:F64,F81:F92) -> 0 | H3: =F3 / D3 -> 0 | J3: Cache Line Size [Byte] | K3: 256
B4: Worst | D4: =MAX(D5:D108) -> 300 | F4: =MAX(F5:F108) -> 0 | H4: =F4 / D4 -> 0 | J4: Number of Cache Line | K4: 64
A5: Class A1 | B5: Tango2 | C5: 22 | D5: =VTM!B210 -> 300 | F5: =Test!B210 -> 0 | H5: =F5 / D5 -> 0 | J5: Number of way | K5: 4
A6: 4K | C6: 27 | D6: =VTM!B211 -> 100 | F6: =Test!B211 -> 0 | H6: =F6 / D6 -> 0
C7: 32 | D7: =VTM!B212 -> 100 | F7: =Test!B212 -> 0 | H7: =F7 / D7 -> 0
C8: 37 | D8: =VTM!B213 -> 100 | F8: =Test!B213 -> 0 | H8: =F8 / D8 -> 0
B9: FoodMarket4 | C9: 22 | D9: =VTM!B214 -> 100 | F9: =Test!B214 -> 0 | H9: =F9 / D9 -> 0
C10: 27 | D10: =VTM!B215 -> 100 | F10: =Test!B215 -> 0 | H10: =F10 / D10 -> 0
C11: 32 | D11: =VTM!B216 -> 100 | F11: =Test!B216 -> 0 | H11: =F11 / D11 -> 0
C12: 37 | D12: =VTM!B217 -> 100 | F12: =Test!B217 -> 0 | H12: =F12 / D12 -> 0
B13: Campfire | C13: 22 | D13: =VTM!B218 -> 100 | F13: =Test!B218 -> 0 | H13: =F13 / D13 -> 0
C14: 27 | D14: =VTM!B219 -> 100 | F14: =Test!B219 -> 0 | H14: =F14 / D14 -> 0
C15: 32 | D15: =VTM!B220 -> 100 | F15: =Test!B220 -> 0 | H15: =F15 / D15 -> 0
C16: 37 | D16: =VTM!B221 -> 100 | F16: =Test!B221 -> 0 | H16: =F16 / D16 -> 0
A17: Class A2 | B17: CatRobot1 | C17: 22 | D17: =VTM!B222 -> 100 | F17: =Test!B222 -> 0 | H17: =F17 / D17 -> 0
A18: 4K | C18: 27 | D18: =VTM!B223 -> 100 | F18: =Test!B223 -> 0 | H18: =F18 / D18 -> 0
C19: 32 | D19: =VTM!B224 -> 100 | F19: =Test!B224 -> 0 | H19: =F19 / D19 -> 0
C20: 37 | D20: =VTM!B225 -> 100 | F20: =Test!B225 -> 0 | H20: =F20 / D20 -> 0
B21: DaylightRoad2 | C21: 22 | D21: =VTM!B226 -> 100 | F21: =Test!B226 -> 0 | H21: =F21 / D21 -> 0
C22: 27 | D22: =VTM!B227 -> 100 | F22: =Test!B227 -> 0 | H22: =F22 / D22 -> 0
C23: 32 | D23: =VTM!B228 -> 100 | F23: =Test!B228 -> 0 | H23: =F23 / D23 -> 0
C24: 37 | D24: =VTM!B229 -> 100 | F24: =Test!B229 -> 0 | H24: =F24 / D24 -> 0
B25: ParkRunning3 | C25: 22 | D25: =VTM!B230 -> 100 | F25: =Test!B230 -> 0 | H25: =F25 / D25 -> 0
C26: 27 | D26: =VTM!B231 -> 100 | F26: =Test!B231 -> 0 | H26: =F26 / D26 -> 0
C27: 32 | D27: =VTM!B232 -> 100 | F27: =Test!B232 -> 0 | H27: =F27 / D27 -> 0
C28: 37 | D28: =VTM!B233 -> 100 | F28: =Test!B233 -> 0 | H28: =F28 / D28 -> 0
A29: Class B | B29: MarketPlace | C29: 22 | D29: =VTM!B234 -> 100 | F29: =Test!B234 -> 0 | H29: =F29 / D29 -> 0
A30: 1080p | C30: 27 | D30: =VTM!B235 -> 100 | F30: =Test!B235 -> 0 | H30: =F30 / D30 -> 0
C31: 32 | D31: =VTM!B236 -> 100 | F31: =Test!B236 -> 0 | H31: =F31 / D31 -> 0
C32: 37 | D32: =VTM!B237 -> 100 | F32: =Test!B237 -> 0 | H32: =F32 / D32 -> 0
B33: RitualDance | C33: 22 | D33: =VTM!B238 -> 100 | F33: =Test!B238 -> 0 | H33: =F33 / D33 -> 0
C34: 27 | D34: =VTM!B239 -> 100 | F34: =Test!B239 -> 0 | H34: =F34 / D34 -> 0
C35: 32 | D35: =VTM!B240 -> 100 | F35: =Test!B240 -> 0 | H35: =F35 / D35 -> 0
C36: 37 | D36: =VTM!B241 -> 100 | F36: =Test!B241 -> 0 | H36: =F36 / D36 -> 0
B37: Cactus | C37: 22 | D37: =VTM!B242 -> 100 | F37: =Test!B242 -> 0 | H37: =F37 / D37 -> 0
C38: 27 | D38: =VTM!B243 -> 100 | F38: =Test!B243 -> 0 | H38: =F38 / D38 -> 0
C39: 32 | D39: =VTM!B244 -> 100 | F39: =Test!B244 -> 0 | H39: =F39 / D39 -> 0
C40: 37 | D40: =VTM!B245 -> 100 | F40: =Test!B245 -> 0 | H40: =F40 / D40 -> 0
...

Sheet fps
A1: Tango2 | B1: 60
A2: FoodMarket4 | B2: 60
A3: Campfire | B3: 30
A4: CatRobot | B4: 60
A5: DaylightRoad2 | B5: 60
A6: ParkRunning3 | B6: 50
A7: MarketPlace | B7: 60
A8: RitualDance | B8: 60
A9: Cactus | B9: 50
A10: BasketballDrive | B10: 50
A11: BQTerrace | B11: 60
A12: BasketballDrill | B12: 50
... A26: SlideShow | B26: 20

Sheet VTM
A1: Sequence | B1: bandwidth
A2: Tango2.Q22.vtm.ra | B2: 253.9 | C2: 245.1
A3: Tango2.Q27.vtm.ra | B3: 219.1 | C3: 218.7
A4: Tango2.Q32.vtm.ra | B4: 194 | C4: 193.3
A5: Tango2.Q37.vtm.ra | B5: 171.5 | C5: 170.5
A6: FoodMarket4.Q22.vtm.ra | B6: 203.9 | C6: 201.7
A7: FoodMarket4.Q27.vtm.ra | B7: 172.7 | C7: 171.4
A8: FoodMarket4.Q32.vtm.ra | B8: 156.1 | C8: 153.9
A9: FoodMarket4.Q37.vtm.ra | B9: 144.9 | C9: 142.5
A10: CampfireParty2.Q22.vtm.ra | B10: 259.8 | C10: 259.8
A11: CampfireParty2.Q27.vtm.ra | B11: 125.7 | C11: 125.7
A12: CampfireParty2.Q32.vtm.ra | B12: 116.9 | C12: 116.9
A13: CampfireParty2.Q37.vtm.ra | B13: 110.8 | C13: 110.8
... A77: RaceHorses.Q37.vtm.ra | B77: 3.4 | C77: 3.4
A78: FourPeople.Q22.vtm.ra | B78: 100
A79: FourPeople.Q27.vtm.ra | B79: 100
A80: FourPeople.Q32.vtm.ra | B80: 100
A81: FourPeople.Q37.vtm.ra | B81: 100
A82: Johnny.Q22.vtm.ra | B82: 100
A83: Johnny.Q27.vtm.ra | B83: 100
A84: Johnny.Q32.vtm.ra | B84: 100
A85: Johnny.Q37.vtm.ra | B85: 100
A86: KristenAndSara.Q22.vtm.ra | B86: 100
A87: KristenAndSara.Q27.vtm.ra | B87: 100
A88: KristenAndSara.Q32.vtm.ra | B88: 100
A89: KristenAndSara.Q37.vtm.ra | B89: 100
A90: BasketballDrillText.Q22.vtm.ra | B90: 14.2 | C90: 14
A91: BasketballDrillText.Q27.vtm.ra | B91: 11.4 | C91: 11.3
A92: BasketballDrillText.Q32.vtm.ra | B92: 9.7 | C92: 9.7
A93: BasketballDrillText.Q37.vtm.ra | B93: 8.8 | C93: 8.7
A94: ArenaOfValor.Q22.vtm.ra | B94: 58.7 | C94: 57.8
A95: ArenaOfValor.Q27.vtm.ra | B95: 46.4 | C95: 45.6
A96: ArenaOfValor.Q32.vtm.ra | B96: 40 | C96: 39.2
A97: ArenaOfValor.Q37.vtm.ra | B97: 35.3 | C97: 34.7
A98: SlideEditing.Q22.vtm.ra | B98: 8.9 | C98: 8.9
A99: SlideEditing.Q27.vtm.ra | B99: 9.1 | C99: 9.1
A100: SlideEditing.Q32.vtm.ra | B100: 9.2 | C100: 9.2
A101: SlideEditing.Q37.vtm.ra | B101: 9.7 | C101: 9.7
... A105: SlideShow.Q37.vtm.ra | B105: 10.7 | C105: 10.8
A106: Tango2.Q22.vtm.lb | B106: 100
...

Sheet Test
A1: sequence | B1: bandwidth
A2: Tango2.Q22.ra | B2: 50.9
A3: Tango2.Q27.ra | B3: 51.9
A4: Tango2.Q32.ra | B4: 51.6
A5: Tango2.Q37.ra | B5: 51.9
A6: FoodMarket4.Q22.ra | B6: 45.3
A7: FoodMarket4.Q27.ra | B7: 42.6
A8: FoodMarket4.Q32.ra | B8: 42
A9: FoodMarket4.Q37.ra | B9: 44
A10: CampfireParty2.Q22.ra | B10: 59.4
A11: CampfireParty2.Q27.ra | B11: 33.2
A12: CampfireParty2.Q32.ra | B12: 32.1
A13: CampfireParty2.Q37.ra | B13: 32.2
... A77: RaceHorses.Q37.ra | B77: 0.6
A78: FourPeople.Q22.ra
A79: FourPeople.Q27.ra
A80: FourPeople.Q32.ra
A81: FourPeople.Q37.ra
A82: Johnny.Q22.ra
A83: Johnny.Q27.ra
A84: Johnny.Q32.ra
A85: Johnny.Q37.ra
A86: KristenAndSara.Q22.ra
A87: KristenAndSara.Q27.ra
A88: KristenAndSara.Q32.ra
A89: KristenAndSara.Q37.ra
A90: BasketballDrillText.Q22.ra | B90: 2.8
A91: BasketballDrillText.Q27.ra | B91: 2.4
A92: BasketballDrillText.Q32.ra | B92: 2.2
A93: BasketballDrillText.Q37.ra | B93: 2
A94: ArenaOfValor.Q22.ra | B94: 13.2
A95: ArenaOfValor.Q27.ra | B95: 11.3
A96: ArenaOfValor.Q32.ra | B96: 10.6
A97: ArenaOfValor.Q37.ra | B97: 10.4
A98: SlideEditing.Q22.ra | B98: 2.8
A99: SlideEditing.Q27.ra | B99: 2.9
A100: SlideEditing.Q32.ra | B100: 3
A101: SlideEditing.Q37.ra | B101: 3.2
... A105: SlideShow.Q37.ra | B105: 3.4
A106: Tango2.Q22.lb
...
