Workbook

Sheet Summary
C2: Random Access
C3: average | D3: worst | F3: Reference: | G3: VTM-3.0
B4: Class A1 | C4: ='RA (VTM vs test)'!H109 -> 0.25163219 | D4: ='RA (VTM vs test)'!H110 -> 0.30365769 | F4: Tested: | G4: Crosscheck
B5: Class A2 | C5: ='RA (VTM vs test)'!H111 -> 0.22596934 | D5: ='RA (VTM vs test)'!H112 -> 0.30995475
B6: Class B | C6: ='RA (VTM vs test)'!H113 -> 0.231933 | D6: ='RA (VTM vs test)'!H114 -> 0.30563798
B7: Class C | C7: ='RA (VTM vs test)'!H115 -> 0.19924894 | D7: ='RA (VTM vs test)'!H116 -> 0.25203252
B8: Class E
B9: Overall | C9: ='RA (VTM vs test)'!H3 -> 0.23496609 | D9: ='RA (VTM vs test)'!H4 -> 0.32989691
B10: Class D | C10: ='RA (VTM vs test)'!H117 -> 0.22261484 | D10: ='RA (VTM vs test)'!H118 -> 0.26923077
B11: Class F | C11: ='RA (VTM vs test)'!H121 -> 0.25424741 | D11: ='RA (VTM vs test)'!H122 -> 0.32989691
C13: Low delay B
C14: average | D14: worst
B15: Class A1
B16: Class A2
B17: Class B | C17: ='LDB (VTM vs test)'!H113 -> 0.18728406 | D17: ='LDB (VTM vs test)'!H114 -> 0.25622776
B18: Class C | C18: ='LDB (VTM vs test)'!H115 -> 0.16510912 | D18: ='LDB (VTM vs test)'!H116 -> 0.20242915
B19: Class E | C19: ='LDB (VTM vs test)'!H119 -> 0.20401338 | D19: ='LDB (VTM vs test)'!H120 -> 0.27272727
B20: Overall | C20: ='LDB (VTM vs test)'!H3 -> 0.18711454 | D20: ='LDB (VTM vs test)'!H4 -> 0.30769231
B21: Class D | C21: ='LDB (VTM vs test)'!H117 -> 0.18511989 | D21: ='LDB (VTM vs test)'!H118 -> 0.23809524
B22: Class F (optional) | C22: ='LDB (VTM vs test)'!H121 -> 0.20371853 | D22: ='LDB (VTM vs test)'!H122 -> 0.30769231
C24: Low delay P
C25: average | D25: worst
B26: Class A1 | C26: ='LDP (VTM vs test)'!H109 -> 0 | D26: ='LDP (VTM vs test)'!H110 -> 0
B27: Class A2 | C27: ='LDP (VTM vs test)'!H111 -> 0 | D27: ='LDP (VTM vs test)'!H112 -> 0
B28: Class B | C28: ='LDP (VTM vs test)'!H113 -> 0 | D28: ='LDP (VTM vs test)'!H114 -> 0
B29: Class C | C29: ='LDP (VTM vs test)'!H115 -> 0 | D29: ='LDP (VTM vs test)'!H116 -> 0
B30: Class E | C30: ='LDP (VTM vs test)'!H119 -> 0 | D30: ='LDP (VTM vs test)'!H120 -> 0
B31: Overall | C31: ='LDP (VTM vs test)'!H3 -> 0 | D31: ='LDP (VTM vs test)'!H4 -> 0
B32: Class D | C32: ='LDP (VTM vs test)'!H117 -> 0 | D32: ='LDP (VTM vs test)'!H118 -> 0
B33: Class F (optional) | C33: ='LDP (VTM vs test)'!H121 -> 0 | D33: ='LDP (VTM vs test)'!H122 -> 0

Sheet RA (VTM vs test)
D1: Reference | F1: Tested | J1: Cache Configuration
C2: QPISlice | D2: Bandwidth [Mbyte/s] | F2: Bandwidth [Mbyte/s] | H2: Ratio [%] | J2: Cache Size [Kbyte] | K2: =K3 * K4 * K5 / 1024 -> 64
A3: Summary | B3: All Average | D3: =AVERAGE(D5:D80,D93:D108) -> 4019.6457 | F3: =AVERAGE(F5:F80,F93:F108) -> 944.48043 | H3: =F3 / D3 -> 0.23496609 | J3: Cache Line Size [Byte] | K3: 256
B4: All Worst | D4: =MAX(D5:D108) -> 21162 | F4: =MAX(F5:F108) -> 4110 | H4: =MAX(H5:H108) -> 0.32989691 | J4: Number of Cache Line | K4: 64
A5: Class A1 | B5: Tango2 | C5: 22 | D5: =VTM!B2 * fps!B1 -> 15234 | F5: =Test!B2 * fps!B1 -> 3054 | H5: =F5 / D5 -> 0.20047263 | J5: Number of way | K5: 4
A6: 4K | C6: 27 | D6: =VTM!B3 * fps!B1 -> 13146 | F6: =Test!B3 * fps!B1 -> 3114 | H6: =F6 / D6 -> 0.23687814
C7: 32 | D7: =VTM!B4 * fps!B1 -> 11640 | F7: =Test!B4 * fps!B1 -> 3096 | H7: =F7 / D7 -> 0.26597938
C8: 37 | D8: =VTM!B5 * fps!B1 -> 10290 | F8: =Test!B5 * fps!B1 -> 3114 | H8: =F8 / D8 -> 0.30262391
B9: FoodMarket4 | C9: 22 | D9: =VTM!B6 * fps!B2 -> 12234 | F9: =Test!B6 * fps!B2 -> 2718 | H9: =F9 / D9 -> 0.22216773
C10: 27 | D10: =VTM!B7 * fps!B2 -> 10362 | F10: =Test!B7 * fps!B2 -> 2556 | H10: =F10 / D10 -> 0.24667053
C11: 32 | D11: =VTM!B8 * fps!B2 -> 9366 | F11: =Test!B8 * fps!B2 -> 2520 | H11: =F11 / D11 -> 0.2690583
C12: 37 | D12: =VTM!B9 * fps!B2 -> 8694 | F12: =Test!B9 * fps!B2 -> 2640 | H12: =F12 / D12 -> 0.30365769
B13: Campfire | C13: 22 | D13: =VTM!B10 * fps!B3 -> 7794 | F13: =Test!B10 * fps!B3 -> 1782 | H13: =F13 / D13 -> 0.22863741
C14: 27 | D14: =VTM!B11 * fps!B3 -> 3771 | F14: =Test!B11 * fps!B3 -> 996 | H14: =F14 / D14 -> 0.26412092
C15: 32 | D15: =VTM!B12 * fps!B3 -> 3507 | F15: =Test!B12 * fps!B3 -> 963 | H15: =F15 / D15 -> 0.27459367
C16: 37 | D16: =VTM!B13 * fps!B3 -> 3324 | F16: =Test!B13 * fps!B3 -> 966 | H16: =F16 / D16 -> 0.29061372
A17: Class A2 | B17: CatRobot1 | C17: 22 | D17: =VTM!B14 * fps!B4 -> 21162 | F17: =Test!B14 * fps!B4 -> 4044 | H17: =F17 / D17 -> 0.19109725
A18: 4K | C18: 27 | D18: =VTM!B15 * fps!B4 -> 17100 | F18: =Test!B15 * fps!B4 -> 4068 | H18: =F18 / D18 -> 0.23789474
C19: 32 | D19: =VTM!B16 * fps!B4 -> 14904 | F19: =Test!B16 * fps!B4 -> 4032 | H19: =F19 / D19 -> 0.2705314
C20: 37 | D20: =VTM!B17 * fps!B4 -> 13260 | F20: =Test!B17 * fps!B4 -> 4110 | H20: =F20 / D20 -> 0.30995475
B21: DaylightRoad2 | C21: 22 | D21: =VTM!B18 * fps!B5 -> 16032 | F21: =Test!B18 * fps!B5 -> 3234 | H21: =F21 / D21 -> 0.20172156
C22: 27 | D22: =VTM!B19 * fps!B5 -> 12156 | F22: =Test!B19 * fps!B5 -> 2874 | H22: =F22 / D22 -> 0.23642646
C23: 32 | D23: =VTM!B20 * fps!B5 -> 10284 | F23: =Test!B20 * fps!B5 -> 2622 | H23: =F23 / D23 -> 0.25495916
C24: 37 | D24: =VTM!B21 * fps!B5 -> 9222 | F24: =Test!B21 * fps!B5 -> 2562 | H24: =F24 / D24 -> 0.27781392
B25: ParkRunning3 | C25: 22 | D25: =VTM!B22 * fps!B6 -> 20400 | F25: =Test!B22 * fps!B6 -> 3750 | H25: =F25 / D25 -> 0.18382353
C26: 27 | D26: =VTM!B23 * fps!B6 -> 16240 | F26: =Test!B23 * fps!B6 -> 3085 | H26: =F26 / D26 -> 0.18996305
C27: 32 | D27: =VTM!B24 * fps!B6 -> 13210 | F27: =Test!B24 * fps!B6 -> 2675 | H27: =F27 / D27 -> 0.20249811
C28: 37 | D28: =VTM!B25 * fps!B6 -> 10505 | F28: =Test!B25 * fps!B6 -> 2370 | H28: =F28 / D28 -> 0.22560685
A29: Class B | B29: MarketPlace | C29: 22 | D29: =VTM!B26 * fps!B7 -> 3792 | F29: =Test!B26 * fps!B7 -> 792 | H29: =F29 / D29 -> 0.20886076
A30: 1080p | C30: 27 | D30: =VTM!B27 * fps!B7 -> 2946 | F30: =Test!B27 * fps!B7 -> 678 | H30: =F30 / D30 -> 0.23014257
C31: 32 | D31: =VTM!B28 * fps!B7 -> 2508 | F31: =Test!B28 * fps!B7 -> 624 | H31: =F31 / D31 -> 0.24880383
C32: 37 | D32: =VTM!B29 * fps!B7 -> 2196 | F32: =Test!B29 * fps!B7 -> 600 | H32: =F32 / D32 -> 0.27322404
B33: RitualDance | C33: 22 | D33: =VTM!B30 * fps!B8 -> 3144 | F33: =Test!B30 * fps!B8 -> 624 | H33: =F33 / D33 -> 0.19847328
C34: 27 | D34: =VTM!B31 * fps!B8 -> 2634 | F34: =Test!B31 * fps!B8 -> 552 | H34: =F34 / D34 -> 0.2095672
C35: 32 | D35: =VTM!B32 * fps!B8 -> 2322 | F35: =Test!B32 * fps!B8 -> 516 | H35: =F35 / D35 -> 0.22222222
C36: 37 | D36: =VTM!B33 * fps!B8 -> 2070 | F36: =Test!B33 * fps!B8 -> 498 | H36: =F36 / D36 -> 0.24057971
B37: Cactus | C37: 22 | D37: =VTM!B34 * fps!B9 -> 3740 | F37: =Test!B34 * fps!B9 -> 800 | H37: =F37 / D37 -> 0.21390374
C38: 27 | D38: =VTM!B35 * fps!B9 -> 2820 | F38: =Test!B35 * fps!B9 -> 675 | H38: =F38 / D38 -> 0.2393617
C39: 32 | D39: =VTM!B36 * fps!B9 -> 2535 | F39: =Test!B36 * fps!B9 -> 660 | H39: =F39 / D39 -> 0.26035503
C40: 37 | D40: =VTM!B37 * fps!B9 -> 2330 | F40: =Test!B37 * fps!B9 -> 655 | H40: =F40 / D40 -> 0.28111588
B41: BasketballDrive | C41: 22 | D41: =VTM!B38 * fps!B10 -> 3485 | F41: =Test!B38 * fps!B10 -> 665 | H41: =F41 / D41 -> 0.19081779
C42: 27 | D42: =VTM!B39 * fps!B10 -> 2640 | F42: =Test!B39 * fps!B10 -> 555 | H42: =F42 / D42 -> 0.21022727
C43: 32 | D43: =VTM!B40 * fps!B10 -> 2280 | F43: =Test!B40 * fps!B10 -> 525 | H43: =F43 / D43 -> 0.23026316
C44: 37 | D44: =VTM!B41 * fps!B10 -> 2055 | F44: =Test!B41 * fps!B10 -> 525 | H44: =F44 / D44 -> 0.25547445
B45: BQTerrace | C45: 22 | D45: =VTM!B42 * fps!B11 -> 7494 | F45: =Test!B42 * fps!B11 -> 1662 | H45: =F45 / D45 -> 0.22177742
C46: 27 | D46: =VTM!B43 * fps!B11 -> 3252 | F46: =Test!B43 * fps!B11 -> 750 | H46: =F46 / D46 -> 0.23062731
C47: 32 | D47: =VTM!B44 * fps!B11 -> 2364 | F47: =Test!B44 * fps!B11 -> 624 | H47: =F47 / D47 -> 0.26395939
C48: 37 | D48: =VTM!B45 * fps!B11 -> 2022 | F48: =Test!B45 * fps!B11 -> 618 | H48: =F48 / D48 -> 0.30563798
A49: Class C | B49: BasketballDrill | C49: 22 | D49: =VTM!B46 * fps!B12 -> 715 | F49: =Test!B46 * fps!B12 -> 140 | H49: =F49 / D49 -> 0.1958042
A50: WVGA | C50: 27 | D50: =VTM!B47 * fps!B12 -> 585 | F50: =Test!B47 * fps!B12 -> 120 | H50: =F50 / D50 -> 0.20512821
C51: 32 | D51: =VTM!B48 * fps!B12 -> 505 | F51: =Test!B48 * fps!B12 -> 105 | H51: =F51 / D51 -> 0.20792079
C52: 37 | D52: =VTM!B49 * fps!B12 -> 450 | F52: =Test!B49 * fps!B12 -> 100 | H52: =F52 / D52 -> 0.22222222
B53: BQMall | C53: 22 | D53: =VTM!B50 * fps!B13 -> 1134 | F53: =Test!B50 * fps!B13 -> 204 | H53: =F53 / D53 -> 0.17989418
C54: 27 | D54: =VTM!B51 * fps!B13 -> 894 | F54: =Test!B51 * fps!B13 -> 174 | H54: =F54 / D54 -> 0.19463087
C55: 32 | D55: =VTM!B52 * fps!B13 -> 762 | F55: =Test!B52 * fps!B13 -> 162 | H55: =F55 / D55 -> 0.21259843
C56: 37 | D56: =VTM!B53 * fps!B13 -> 672 | F56: =Test!B53 * fps!B13 -> 150 | H56: =F56 / D56 -> 0.22321429
B57: PartyScene | C57: 22 | D57: =VTM!B54 * fps!B14 -> 573.6 | F57: =Test!B54 * fps!B14 -> 122.4 | H57: =F57 / D57 -> 0.21338912
C58: 27 | D58: =VTM!B55 * fps!B14 -> 422.4 | F58: =Test!B55 * fps!B14 -> 91.2 | H58: =F58 / D58 -> 0.21590909
C59: 32 | D59: =VTM!B56 * fps!B14 -> 343.2 | F59: =Test!B56 * fps!B14 -> 79.2 | H59: =F59 / D59 -> 0.23076923
C60: 37 | D60: =VTM!B57 * fps!B14 -> 295.2 | F60: =Test!B57 * fps!B14 -> 74.4 | H60: =F60 / D60 -> 0.25203252
B61: RaceHorses | C61: 22 | D61: =VTM!B58 * fps!B15 -> 630 | F61: =Test!B58 * fps!B15 -> 105 | H61: =F61 / D61 -> 0.16666667
C62: 27 | D62: =VTM!B59 * fps!B15 -> 480 | F62: =Test!B59 * fps!B15 -> 78 | H62: =F62 / D62 -> 0.1625
C63: 32 | D63: =VTM!B60 * fps!B15 -> 381 | F63: =Test!B60 * fps!B15 -> 63 | H63: =F63 / D63 -> 0.16535433
C64: 37 | D64: =VTM!B61 * fps!B15 -> 318 | F64: =Test!B61 * fps!B15 -> 57 | H64: =F64 / D64 -> 0.17924528
A65: Class D | B65: BasketballPass | C65: 22 | D65: =VTM!B62 * fps!B16 -> 235 | F65: =Test!B62 * fps!B16 -> 50 | H65: =F65 / D65 -> 0.21276596
A66: WQVGA | C66: 27 | D66: =VTM!B63 * fps!B16 -> 200 | F66: =Test!B63 * fps!B16 -> 40 | H66: =F66 / D66 -> 0.2
C67: 32 | D67: =VTM!B64 * fps!B16 -> 175 | F67: =Test!B64 * fps!B16 -> 35 | H67: =F67 / D67 -> 0.2
C68: 37 | D68: =VTM!B65 * fps!B16 -> 155 | F68: =Test!B65 * fps!B16 -> 30 | H68: =F68 / D68 -> 0.19354839
B69: BQSquare | C69: 22 | D69: =VTM!B66 * fps!B17 -> 360 | F69: =Test!B66 * fps!B17 -> 90 | H69: =F69 / D69 -> 0.25
C70: 27 | D70: =VTM!B67 * fps!B17 -> 234 | F70: =Test!B67 * fps!B17 -> 60 | H70: =F70 / D70 -> 0.25641026
C71: 32 | D71: =VTM!B68 * fps!B17 -> 174 | F71: =Test!B68 * fps!B17 -> 42 | H71: =F71 / D71 -> 0.24137931
C72: 37 | D72: =VTM!B69 * fps!B17 -> 156 | F72: =Test!B69 * fps!B17 -> 42 | H72: =F72 / D72 -> 0.26923077
B73: BlowingBubbles | C73: 22 | D73: =VTM!B70 * fps!B18 -> 295 | F73: =Test!B70 * fps!B18 -> 65 | H73: =F73 / D73 -> 0.22033898
C74: 27 | D74: =VTM!B71 * fps!B18 -> 230 | F74: =Test!B71 * fps!B18 -> 55 | H74: =F74 / D74 -> 0.23913043
C75: 32 | D75: =VTM!B72 * fps!B18 -> 190 | F75: =Test!B72 * fps!B18 -> 45 | H75: =F75 / D75 -> 0.23684211
C76: 37 | D76: =VTM!B73 * fps!B18 -> 160 | F76: =Test!B73 * fps!B18 -> 40 | H76: =F76 / D76 -> 0.25
B77: RaceHorses | C77: 22 | D77: =VTM!B74 * fps!B19 -> 183 | F77: =Test!B74 * fps!B19 -> 33 | H77: =F77 / D77 -> 0.18032787
C78: 27 | D78: =VTM!B75 * fps!B19 -> 144 | F78: =Test!B75 * fps!B19 -> 27 | H78: =F78 / D78 -> 0.1875
C79: 32 | D79: =VTM!B76 * fps!B19 -> 120 | F79: =Test!B76 * fps!B19 -> 21 | H79: =F79 / D79 -> 0.175
C80: 37 | D80: =VTM!B77 * fps!B19 -> 102 | F80: =Test!B77 * fps!B19 -> 18 | H80: =F80 / D80 -> 0.17647059
A81: ClassE | B81: FourPeople | C81: 22
A82: 720p | C82: 27
C83: 32
C84: 37
B85: Johnny | C85: 22
C86: 27
C87: 32
C88: 37
B89: KristenAndSara | C89: 22
C90: 27
C91: 32
C92: 37
A93: ClassF | B93: BasketballDrillText | C93: 22 | D93: =VTM!B90 * fps!B23 -> 710 | F93: =Test!B90 * fps!B23 -> 140 | H93: =F93 / D93 -> 0.1971831
C94: 27 | D94: =VTM!B91* fps!B23 -> 570 | F94: =Test!B91 * fps!B23 -> 120 | H94: =F94 / D94 -> 0.21052632
C95: 32 | D95: =VTM!B92* fps!B23 -> 485 | F95: =Test!B92 * fps!B23 -> 110 | H95: =F95 / D95 -> 0.22680412
C96: 37 | D96: =VTM!B93* fps!B23 -> 440 | F96: =Test!B93 * fps!B23 -> 100 | H96: =F96 / D96 -> 0.22727273
B97: ArenaIfValor | C97: 22 | D97: =VTM!B94 * fps!B24 -> 3522 | F97: =Test!B94 * fps!B24 -> 792 | H97: =F97 / D97 -> 0.22487223
C98: 27 | D98: =VTM!B95 * fps!B24 -> 2784 | F98: =Test!B95 * fps!B24 -> 678 | H98: =F98 / D98 -> 0.24353448
C99: 32 | D99: =VTM!B96 * fps!B24 -> 2400 | F99: =Test!B96 * fps!B24 -> 636 | H99: =F99 / D99 -> 0.265
C100: 37 | D100: =VTM!B97 * fps!B24 -> 2118 | F100: =Test!B97 * fps!B24 -> 624 | H100: =F100 / D100 -> 0.29461756
...

Sheet LDB (VTM vs test)
D1: Reference | F1: Tested | J1: Cache Configuration
C2: QPISlice | D2: Bandwidth [MByte] | F2: Bandwidth [MByte] | H2: Ratio [%] | J2: Cache Size [Kbyte] | K2: =K3 * K4 * K5 / 1024 -> 64
A3: Summary | B3: Average | D3: =AVERAGE(D5:D64,D81:D92) -> 1387.675 | F3: =AVERAGE(F5:F64,F81:F92) -> 259.65417 | H3: =F3 / D3 -> 0.18711454 | J3: Cache Line Size [Byte] | K3: 256
B4: Worst | D4: =MAX(D5:D108) -> 7362 | F4: =MAX(F5:F108) -> 1500 | H4: =MAX(H5:H108) -> 0.30769231 | J4: Number of Cache Line | K4: 64
A5: Class A1 | B5: Tango2 | C5: 22 | J5: Number of way | K5: 4
A6: 4K | C6: 27
C7: 32
C8: 37
B9: FoodMarket4 | C9: 22
C10: 27
C11: 32
C12: 37
B13: Campfire | C13: 22
C14: 27
C15: 32
C16: 37
A17: Class A2 | B17: CatRobot1 | C17: 22
A18: 4K | C18: 27
C19: 32
C20: 37
B21: DaylightRoad2 | C21: 22
C22: 27
C23: 32
C24: 37
B25: ParkRunning3 | C25: 22
C26: 27
C27: 32
C28: 37
A29: Class B | B29: MarketPlace | C29: 22 | D29: =VTM!B130 * fps!B7 -> 3372 | F29: =Test!B130 * fps!B7 -> 570 | H29: =F29 / D29 -> 0.16903915
A30: 1080p | C30: 27 | D30: =VTM!B131 * fps!B7 -> 2454 | F30: =Test!B131 * fps!B7 -> 456 | H30: =F30 / D30 -> 0.18581907
C31: 32 | D31: =VTM!B132 * fps!B7 -> 1974 | F31: =Test!B132 * fps!B7 -> 396 | H31: =F31 / D31 -> 0.2006079
C32: 37 | D32: =VTM!B133 * fps!B7 -> 1650 | F32: =Test!B133 * fps!B7 -> 360 | H32: =F32 / D32 -> 0.21818182
B33: RitualDance | C33: 22 | D33: =VTM!B134 * fps!B8 -> 2772 | F33: =Test!B134 * fps!B8 -> 444 | H33: =F33 / D33 -> 0.16017316
C34: 27 | D34: =VTM!B135 * fps!B8 -> 2256 | F34: =Test!B135 * fps!B8 -> 390 | H34: =F34 / D34 -> 0.17287234
C35: 32 | D35: =VTM!B136 * fps!B8 -> 1914 | F35: =Test!B136 * fps!B8 -> 354 | H35: =F35 / D35 -> 0.18495298
C36: 37 | D36: =VTM!B137 * fps!B8 -> 1650 | F36: =Test!B137 * fps!B8 -> 330 | H36: =F36 / D36 -> 0.2
B37: Cactus | C37: 22 | D37: =VTM!B138 * fps!B9 -> 3000 | F37: =Test!B138 * fps!B9 -> 495 | H37: =F37 / D37 -> 0.165
C38: 27 | D38: =VTM!B139 * fps!B9 -> 2005 | F38: =Test!B139 * fps!B9 -> 340 | H38: =F38 / D38 -> 0.16957606
C39: 32 | D39: =VTM!B140 * fps!B9 -> 1720 | F39: =Test!B140 * fps!B9 -> 305 | H39: =F39 / D39 -> 0.17732558
C40: 37 | D40: =VTM!B141 * fps!B9 -> 1525 | F40: =Test!B141 * fps!B9 -> 280 | H40: =F40 / D40 -> 0.18360656
B41: BasketballDrive | C41: 22 | D41: =VTM!B142 * fps!B10 -> 3315 | F41: =Test!B142 * fps!B10 -> 475 | H41: =F41 / D41 -> 0.14328808
C42: 27 | D42: =VTM!B143 * fps!B10 -> 2360 | F42: =Test!B143 * fps!B10 -> 385 | H42: =F42 / D42 -> 0.16313559
C43: 32 | D43: =VTM!B144 * fps!B10 -> 1915 | F43: =Test!B144 * fps!B10 -> 345 | H43: =F43 / D43 -> 0.18015666
C44: 37 | D44: =VTM!B145 * fps!B10 -> 1630 | F44: =Test!B145 * fps!B10 -> 315 | H44: =F44 / D44 -> 0.19325153
B45: BQTerrace | C45: 22 | D45: =VTM!B146 * fps!B11 -> 7362 | F45: =Test!B146 * fps!B11 -> 1500 | H45: =F45 / D45 -> 0.20374898
C46: 27 | D46: =VTM!B147 * fps!B11 -> 3516 | F46: =Test!B147 * fps!B11 -> 732 | H46: =F46 / D46 -> 0.20819113
C47: 32 | D47: =VTM!B148 * fps!B11 -> 2286 | F47: =Test!B148 * fps!B11 -> 528 | H47: =F47 / D47 -> 0.23097113
C48: 37 | D48: =VTM!B149 * fps!B11 -> 1686 | F48: =Test!B149 * fps!B11 -> 432 | H48: =F48 / D48 -> 0.25622776
A49: Class C | B49: BasketballDrill | C49: 22 | D49: =VTM!B150 * fps!B12 -> 590 | F49: =Test!B150 * fps!B12 -> 100 | H49: =F49 / D49 -> 0.16949153
A50: WVGA | C50: 27 | D50: =VTM!B151 * fps!B12 -> 465 | F50: =Test!B151 * fps!B12 -> 80 | H50: =F50 / D50 -> 0.17204301
C51: 32 | D51: =VTM!B152 * fps!B12 -> 385 | F51: =Test!B152 * fps!B12 -> 65 | H51: =F51 / D51 -> 0.16883117
C52: 37 | D52: =VTM!B153 * fps!B12 -> 335 | F52: =Test!B153 * fps!B12 -> 60 | H52: =F52 / D52 -> 0.17910448
B53: BQMall | C53: 22 | D53: =VTM!B154 * fps!B13 -> 876 | F53: =Test!B154 * fps!B13 -> 120 | H53: =F53 / D53 -> 0.1369863
C54: 27 | D54: =VTM!B155 * fps!B13 -> 672 | F54: =Test!B155 * fps!B13 -> 102 | H54: =F54 / D54 -> 0.15178571
C55: 32 | D55: =VTM!B156 * fps!B13 -> 558 | F55: =Test!B156 * fps!B13 -> 84 | H55: =F55 / D55 -> 0.15053763
C56: 37 | D56: =VTM!B157 * fps!B13 -> 486 | F56: =Test!B157 * fps!B13 -> 78 | H56: =F56 / D56 -> 0.16049383
B57: PartyScene | C57: 22 | D57: =VTM!B158 * fps!B14 -> 592.8 | F57: =Test!B158 * fps!B14 -> 120 | H57: =F57 / D57 -> 0.20242915
C58: 27 | D58: =VTM!B159 * fps!B14 -> 410.4 | F58: =Test!B159 * fps!B14 -> 81.6 | H58: =F58 / D58 -> 0.19883041
C59: 32 | D59: =VTM!B160 * fps!B14 -> 292.8 | F59: =Test!B160 * fps!B14 -> 57.6 | H59: =F59 / D59 -> 0.19672131
C60: 37 | D60: =VTM!B161 * fps!B14 -> 218.4 | F60: =Test!B161 * fps!B14 -> 43.2 | H60: =F60 / D60 -> 0.1978022
B61: RaceHorses | C61: 22 | D61: =VTM!B162 * fps!B15 -> 468 | F61: =Test!B162 * fps!B15 -> 72 | H61: =F61 / D61 -> 0.15384615
C62: 27 | D62: =VTM!B163 * fps!B15 -> 372 | F62: =Test!B163 * fps!B15 -> 54 | H62: =F62 / D62 -> 0.14516129
C63: 32 | D63: =VTM!B164 * fps!B15 -> 306 | F63: =Test!B164 * fps!B15 -> 45 | H63: =F63 / D63 -> 0.14705882
C64: 37 | D64: =VTM!B165 * fps!B15 -> 249 | F64: =Test!B165 * fps!B15 -> 39 | H64: =F64 / D64 -> 0.15662651
A65: Class D | B65: BasketballPass | C65: 22 | D65: =VTM!B166 * fps!B16 -> 170 | F65: =Test!B166 * fps!B16 -> 25 | H65: =F65 / D65 -> 0.14705882
A66: WQVGA | C66: 27 | D66: =VTM!B167 * fps!B16 -> 145 | F66: =Test!B167 * fps!B16 -> 20 | H66: =F66 / D66 -> 0.13793103
C67: 32 | D67: =VTM!B168 * fps!B16 -> 130 | F67: =Test!B168 * fps!B16 -> 20 | H67: =F67 / D67 -> 0.15384615
C68: 37 | D68: =VTM!B169 * fps!B16 -> 115 | F68: =Test!B169 * fps!B16 -> 15 | H68: =F68 / D68 -> 0.13043478
B69: BQSquare | C69: 22 | D69: =VTM!B170 * fps!B17 -> 444 | F69: =Test!B170 * fps!B17 -> 102 | H69: =F69 / D69 -> 0.22972973
C70: 27 | D70: =VTM!B171 * fps!B17 -> 288 | F70: =Test!B171 * fps!B17 -> 66 | H70: =F70 / D70 -> 0.22916667
C71: 32 | D71: =VTM!B172 * fps!B17 -> 192 | F71: =Test!B172 * fps!B17 -> 42 | H71: =F71 / D71 -> 0.21875
C72: 37 | D72: =VTM!B173 * fps!B17 -> 126 | F72: =Test!B173 * fps!B17 -> 30 | H72: =F72 / D72 -> 0.23809524
B73: BlowingBubbles | C73: 22 | D73: =VTM!B174 * fps!B18 -> 305 | F73: =Test!B174 * fps!B18 -> 55 | H73: =F73 / D73 -> 0.18032787
C74: 27 | D74: =VTM!B175 * fps!B18 -> 220 | F74: =Test!B175 * fps!B18 -> 40 | H74: =F74 / D74 -> 0.18181818
C75: 32 | D75: =VTM!B176 * fps!B18 -> 160 | F75: =Test!B176 * fps!B18 -> 30 | H75: =F75 / D75 -> 0.1875
C76: 37 | D76: =VTM!B177 * fps!B18 -> 115 | F76: =Test!B177 * fps!B18 -> 20 | H76: =F76 / D76 -> 0.17391304
B77: RaceHorses | C77: 22 | D77: =VTM!B178 * fps!B19 -> 144 | F77: =Test!B178 * fps!B19 -> 21 | H77: =F77 / D77 -> 0.14583333
C78: 27 | D78: =VTM!B179 * fps!B19 -> 114 | F78: =Test!B179 * fps!B19 -> 15 | H78: =F78 / D78 -> 0.13157895
C79: 32 | D79: =VTM!B180 * fps!B19 -> 93 | F79: =Test!B180 * fps!B19 -> 12 | H79: =F79 / D79 -> 0.12903226
C80: 37 | D80: =VTM!B181 * fps!B19 -> 75 | F80: =Test!B181 * fps!B19 -> 12 | H80: =F80 / D80 -> 0.16
A81: ClassE | B81: FourPeople | C81: 22 | D81: =VTM!B182 * fps!B20 -> 1104 | F81: =Test!B182 * fps!B20 -> 186 | H81: =F81 / D81 -> 0.16847826
A82: 720p | C82: 27 | D82: =VTM!B183 * fps!B20 -> 726 | F82: =Test!B183 * fps!B20 -> 144 | H82: =F82 / D82 -> 0.19834711
C83: 32 | D83: =VTM!B184 * fps!B20 -> 576 | F83: =Test!B184 * fps!B20 -> 126 | H83: =F83 / D83 -> 0.21875
C84: 37 | D84: =VTM!B185 * fps!B20 -> 486 | F84: =Test!B185 * fps!B20 -> 114 | H84: =F84 / D84 -> 0.2345679
B85: Johnny | C85: 22 | D85: =VTM!B186 * fps!B21 -> 1134 | F85: =Test!B186 * fps!B21 -> 204 | H85: =F85 / D85 -> 0.17989418
C86: 27 | D86: =VTM!B187 * fps!B21 -> 702 | F86: =Test!B187 * fps!B21 -> 156 | H86: =F86 / D86 -> 0.22222222
C87: 32 | D87: =VTM!B188 * fps!B21 -> 552 | F87: =Test!B188 * fps!B21 -> 138 | H87: =F87 / D87 -> 0.25
C88: 37 | D88: =VTM!B189 * fps!B21 -> 462 | F88: =Test!B189 * fps!B21 -> 126 | H88: =F88 / D88 -> 0.27272727
B89: KristenAndSara | C89: 22 | D89: =VTM!B190 * fps!B22 -> 1170 | F89: =Test!B190 * fps!B22 -> 192 | H89: =F89 / D89 -> 0.16410256
C90: 27 | D90: =VTM!B191 * fps!B22 -> 834 | F90: =Test!B191 * fps!B22 -> 162 | H90: =F90 / D90 -> 0.1942446
C91: 32 | D91: =VTM!B192 * fps!B22 -> 666 | F91: =Test!B192 * fps!B22 -> 144 | H91: =F91 / D91 -> 0.21621622
C92: 37 | D92: =VTM!B193 * fps!B22 -> 558 | F92: =Test!B193 * fps!B22 -> 138 | H92: =F92 / D92 -> 0.24731183
A93: ClassF | B93: BasketballDrillText | C93: 22 | D93: =VTM!B194 * fps!B23 -> 585 | F93: =Test!B194 * fps!B23 -> 105 | H93: =F93 / D93 -> 0.17948718
C94: 27 | D94: =VTM!B195 * fps!B23 -> 455 | F94: =Test!B195 * fps!B23 -> 80 | H94: =F94 / D94 -> 0.17582418
C95: 32 | D95: =VTM!B196 * fps!B23 -> 370 | F95: =Test!B196 * fps!B23 -> 65 | H95: =F95 / D95 -> 0.17567568
C96: 37 | D96: =VTM!B197 * fps!B23 -> 325 | F96: =Test!B197 * fps!B23 -> 60 | H96: =F96 / D96 -> 0.18461538
B97: ArenaOfValor | C97: 22 | D97: =VTM!B198 * fps!B24 -> 2916 | F97: =Test!B198 * fps!B24 -> 558 | H97: =F97 / D97 -> 0.19135802
C98: 27 | D98: =VTM!B199 * fps!B24 -> 2148 | F98: =Test!B199 * fps!B24 -> 414 | H98: =F98 / D98 -> 0.19273743
C99: 32 | D99: =VTM!B200 * fps!B24 -> 1716 | F99: =Test!B200 * fps!B24 -> 348 | H99: =F99 / D99 -> 0.2027972
C100: 37 | D100: =VTM!B201 * fps!B24 -> 1470 | F100: =Test!B201 * fps!B24 -> 318 | H100: =F100 / D100 -> 0.21632653
...

Sheet LDP (VTM vs test)
D1: Reference | F1: Tested | J1: Cache Configuration
C2: QPISlice | D2: Bandwidth [MByte] | F2: Bandwidth [MByte] | H2: Ratio [%] | J2: Cache Size [Kbyte] | K2: =K3 * K4 * K5 / 1024 -> 64
A3: Summary | B3: Average | D3: =AVERAGE(D5:D64,D81:D92) -> 102.77778 | F3: =AVERAGE(F5:F64,F81:F92) -> 0 | H3: =F3 / D3 -> 0 | J3: Cache Line Size [Byte] | K3: 256
B4: Worst | D4: =MAX(D5:D108) -> 300 | F4: =MAX(F5:F108) -> 0 | H4: =F4 / D4 -> 0 | J4: Number of Cache Line | K4: 64
A5: Class A1 | B5: Tango2 | C5: 22 | D5: =VTM!B210 -> 300 | F5: =Test!B210 -> 0 | H5: =F5 / D5 -> 0 | J5: Number of way | K5: 4
A6: 4K | C6: 27 | D6: =VTM!B211 -> 100 | F6: =Test!B211 -> 0 | H6: =F6 / D6 -> 0
C7: 32 | D7: =VTM!B212 -> 100 | F7: =Test!B212 -> 0 | H7: =F7 / D7 -> 0
C8: 37 | D8: =VTM!B213 -> 100 | F8: =Test!B213 -> 0 | H8: =F8 / D8 -> 0
B9: FoodMarket4 | C9: 22 | D9: =VTM!B214 -> 100 | F9: =Test!B214 -> 0 | H9: =F9 / D9 -> 0
C10: 27 | D10: =VTM!B215 -> 100 | F10: =Test!B215 -> 0 | H10: =F10 / D10 -> 0
C11: 32 | D11: =VTM!B216 -> 100 | F11: =Test!B216 -> 0 | H11: =F11 / D11 -> 0
C12: 37 | D12: =VTM!B217 -> 100 | F12: =Test!B217 -> 0 | H12: =F12 / D12 -> 0
B13: Campfire | C13: 22 | D13: =VTM!B218 -> 100 | F13: =Test!B218 -> 0 | H13: =F13 / D13 -> 0
C14: 27 | D14: =VTM!B219 -> 100 | F14: =Test!B219 -> 0 | H14: =F14 / D14 -> 0
C15: 32 | D15: =VTM!B220 -> 100 | F15: =Test!B220 -> 0 | H15: =F15 / D15 -> 0
C16: 37 | D16: =VTM!B221 -> 100 | F16: =Test!B221 -> 0 | H16: =F16 / D16 -> 0
A17: Class A2 | B17: CatRobot1 | C17: 22 | D17: =VTM!B222 -> 100 | F17: =Test!B222 -> 0 | H17: =F17 / D17 -> 0
A18: 4K | C18: 27 | D18: =VTM!B223 -> 100 | F18: =Test!B223 -> 0 | H18: =F18 / D18 -> 0
C19: 32 | D19: =VTM!B224 -> 100 | F19: =Test!B224 -> 0 | H19: =F19 / D19 -> 0
C20: 37 | D20: =VTM!B225 -> 100 | F20: =Test!B225 -> 0 | H20: =F20 / D20 -> 0
B21: DaylightRoad2 | C21: 22 | D21: =VTM!B226 -> 100 | F21: =Test!B226 -> 0 | H21: =F21 / D21 -> 0
C22: 27 | D22: =VTM!B227 -> 100 | F22: =Test!B227 -> 0 | H22: =F22 / D22 -> 0
C23: 32 | D23: =VTM!B228 -> 100 | F23: =Test!B228 -> 0 | H23: =F23 / D23 -> 0
C24: 37 | D24: =VTM!B229 -> 100 | F24: =Test!B229 -> 0 | H24: =F24 / D24 -> 0
B25: ParkRunning3 | C25: 22 | D25: =VTM!B230 -> 100 | F25: =Test!B230 -> 0 | H25: =F25 / D25 -> 0
C26: 27 | D26: =VTM!B231 -> 100 | F26: =Test!B231 -> 0 | H26: =F26 / D26 -> 0
C27: 32 | D27: =VTM!B232 -> 100 | F27: =Test!B232 -> 0 | H27: =F27 / D27 -> 0
C28: 37 | D28: =VTM!B233 -> 100 | F28: =Test!B233 -> 0 | H28: =F28 / D28 -> 0
A29: Class B | B29: MarketPlace | C29: 22 | D29: =VTM!B234 -> 100 | F29: =Test!B234 -> 0 | H29: =F29 / D29 -> 0
A30: 1080p | C30: 27 | D30: =VTM!B235 -> 100 | F30: =Test!B235 -> 0 | H30: =F30 / D30 -> 0
C31: 32 | D31: =VTM!B236 -> 100 | F31: =Test!B236 -> 0 | H31: =F31 / D31 -> 0
C32: 37 | D32: =VTM!B237 -> 100 | F32: =Test!B237 -> 0 | H32: =F32 / D32 -> 0
B33: RitualDance | C33: 22 | D33: =VTM!B238 -> 100 | F33: =Test!B238 -> 0 | H33: =F33 / D33 -> 0
C34: 27 | D34: =VTM!B239 -> 100 | F34: =Test!B239 -> 0 | H34: =F34 / D34 -> 0
C35: 32 | D35: =VTM!B240 -> 100 | F35: =Test!B240 -> 0 | H35: =F35 / D35 -> 0
C36: 37 | D36: =VTM!B241 -> 100 | F36: =Test!B241 -> 0 | H36: =F36 / D36 -> 0
B37: Cactus | C37: 22 | D37: =VTM!B242 -> 100 | F37: =Test!B242 -> 0 | H37: =F37 / D37 -> 0
C38: 27 | D38: =VTM!B243 -> 100 | F38: =Test!B243 -> 0 | H38: =F38 / D38 -> 0
C39: 32 | D39: =VTM!B244 -> 100 | F39: =Test!B244 -> 0 | H39: =F39 / D39 -> 0
C40: 37 | D40: =VTM!B245 -> 100 | F40: =Test!B245 -> 0 | H40: =F40 / D40 -> 0
B41: BasketballDrive | C41: 22 | D41: =VTM!B246 -> 100 | F41: =Test!B246 -> 0 | H41: =F41 / D41 -> 0
C42: 27 | D42: =VTM!B247 -> 100 | F42: =Test!B247 -> 0 | H42: =F42 / D42 -> 0
C43: 32 | D43: =VTM!B248 -> 100 | F43: =Test!B248 -> 0 | H43: =F43 / D43 -> 0
C44: 37 | D44: =VTM!B249 -> 100 | F44: =Test!B249 -> 0 | H44: =F44 / D44 -> 0
B45: BQTerrace | C45: 22 | D45: =VTM!B250 -> 100 | F45: =Test!B250 -> 0 | H45: =F45 / D45 -> 0
C46: 27 | D46: =VTM!B251 -> 100 | F46: =Test!B251 -> 0 | H46: =F46 / D46 -> 0
C47: 32 | D47: =VTM!B252 -> 100 | F47: =Test!B252 -> 0 | H47: =F47 / D47 -> 0
C48: 37 | D48: =VTM!B253 -> 100 | F48: =Test!B253 -> 0 | H48: =F48 / D48 -> 0
A49: Class C | B49: BasketballDrill | C49: 22 | D49: =VTM!B254 -> 100 | F49: =Test!B254 -> 0 | H49: =F49 / D49 -> 0
A50: WVGA | C50: 27 | D50: =VTM!B255 -> 100 | F50: =Test!B255 -> 0 | H50: =F50 / D50 -> 0
C51: 32 | D51: =VTM!B256 -> 100 | F51: =Test!B256 -> 0 | H51: =F51 / D51 -> 0
C52: 37 | D52: =VTM!B257 -> 100 | F52: =Test!B257 -> 0 | H52: =F52 / D52 -> 0
B53: BQMall | C53: 22 | D53: =VTM!B258 -> 100 | F53: =Test!B258 -> 0 | H53: =F53 / D53 -> 0
C54: 27 | D54: =VTM!B259 -> 100 | F54: =Test!B259 -> 0 | H54: =F54 / D54 -> 0
C55: 32 | D55: =VTM!B260 -> 100 | F55: =Test!B260 -> 0 | H55: =F55 / D55 -> 0
C56: 37 | D56: =VTM!B261 -> 100 | F56: =Test!B261 -> 0 | H56: =F56 / D56 -> 0
B57: PartyScene | C57: 22 | D57: =VTM!B262 -> 100 | F57: =Test!B262 -> 0 | H57: =F57 / D57 -> 0
C58: 27 | D58: =VTM!B263 -> 100 | F58: =Test!B263 -> 0 | H58: =F58 / D58 -> 0
C59: 32 | D59: =VTM!B264 -> 100 | F59: =Test!B264 -> 0 | H59: =F59 / D59 -> 0
C60: 37 | D60: =VTM!B265 -> 100 | F60: =Test!B265 -> 0 | H60: =F60 / D60 -> 0
B61: RaceHorses | C61: 22 | D61: =VTM!B266 -> 100 | F61: =Test!B266 -> 0 | H61: =F61 / D61 -> 0
C62: 27 | D62: =VTM!B267 -> 100 | F62: =Test!B267 -> 0 | H62: =F62 / D62 -> 0
C63: 32 | D63: =VTM!B268 -> 100 | F63: =Test!B268 -> 0 | H63: =F63 / D63 -> 0
C64: 37 | D64: =VTM!B269 -> 100 | F64: =Test!B269 -> 0 | H64: =F64 / D64 -> 0
A65: Class D | B65: BasketballPass | C65: 22 | D65: =VTM!B270 -> 100 | F65: =Test!B270 -> 0 | H65: =F65 / D65 -> 0
A66: WQVGA | C66: 27 | D66: =VTM!B271 -> 100 | F66: =Test!B271 -> 0 | H66: =F66 / D66 -> 0
C67: 32 | D67: =VTM!B272 -> 100 | F67: =Test!B272 -> 0 | H67: =F67 / D67 -> 0
C68: 37 | D68: =VTM!B273 -> 100 | F68: =Test!B273 -> 0 | H68: =F68 / D68 -> 0
B69: BQSquare | C69: 22 | D69: =VTM!B274 -> 100 | F69: =Test!B274 -> 0 | H69: =F69 / D69 -> 0
C70: 27 | D70: =VTM!B275 -> 100 | F70: =Test!B275 -> 0 | H70: =F70 / D70 -> 0
C71: 32 | D71: =VTM!B276 -> 100 | F71: =Test!B276 -> 0 | H71: =F71 / D71 -> 0
C72: 37 | D72: =VTM!B277 -> 100 | F72: =Test!B277 -> 0 | H72: =F72 / D72 -> 0
B73: BlowingBubbles | C73: 22 | D73: =VTM!B278 -> 100 | F73: =Test!B278 -> 0 | H73: =F73 / D73 -> 0
C74: 27 | D74: =VTM!B279 -> 100 | F74: =Test!B279 -> 0 | H74: =F74 / D74 -> 0
C75: 32 | D75: =VTM!B280 -> 100 | F75: =Test!B280 -> 0 | H75: =F75 / D75 -> 0
C76: 37 | D76: =VTM!B281 -> 100 | F76: =Test!B281 -> 0 | H76: =F76 / D76 -> 0
B77: RaceHorses | C77: 22 | D77: =VTM!B282 -> 100 | F77: =Test!B282 -> 0 | H77: =F77 / D77 -> 0
C78: 27 | D78: =VTM!B283 -> 100 | F78: =Test!B283 -> 0 | H78: =F78 / D78 -> 0
C79: 32 | D79: =VTM!B284 -> 100 | F79: =Test!B284 -> 0 | H79: =F79 / D79 -> 0
C80: 37 | D80: =VTM!B285 -> 100 | F80: =Test!B285 -> 0 | H80: =F80 / D80 -> 0
A81: ClassE | B81: FourPeople | C81: 22 | D81: =VTM!B286 -> 100 | F81: =Test!B286 -> 0 | H81: =F81 / D81 -> 0
A82: 720p | C82: 27 | D82: =VTM!B287 -> 100 | F82: =Test!B287 -> 0 | H82: =F82 / D82 -> 0
C83: 32 | D83: =VTM!B288 -> 100 | F83: =Test!B288 -> 0 | H83: =F83 / D83 -> 0
C84: 37 | D84: =VTM!B289 -> 100 | F84: =Test!B289 -> 0 | H84: =F84 / D84 -> 0
B85: Johnny | C85: 22 | D85: =VTM!B290 -> 100 | F85: =Test!B290 -> 0 | H85: =F85 / D85 -> 0
C86: 27 | D86: =VTM!B291 -> 100 | F86: =Test!B291 -> 0 | H86: =F86 / D86 -> 0
C87: 32 | D87: =VTM!B292 -> 100 | F87: =Test!B292 -> 0 | H87: =F87 / D87 -> 0
C88: 37 | D88: =VTM!B293 -> 100 | F88: =Test!B293 -> 0 | H88: =F88 / D88 -> 0
B89: KristenAndSara | C89: 22 | D89: =VTM!B294 -> 100 | F89: =Test!B294 -> 0 | H89: =F89 / D89 -> 0
C90: 27 | D90: =VTM!B295 -> 100 | F90: =Test!B295 -> 0 | H90: =F90 / D90 -> 0
C91: 32 | D91: =VTM!B296 -> 100 | F91: =Test!B296 -> 0 | H91: =F91 / D91 -> 0
C92: 37 | D92: =VTM!B297 -> 100 | F92: =Test!B297 -> 0 | H92: =F92 / D92 -> 0
A93: ClassF | B93: BasketballDrillText | C93: 22 | D93: =VTM!B298 -> 100 | F93: =Test!B298 -> 0 | H93: =F93 / D93 -> 0
C94: 27 | D94: =VTM!B299 -> 100 | F94: =Test!B299 -> 0 | H94: =F94 / D94 -> 0
C95: 32 | D95: =VTM!B300 -> 100 | F95: =Test!B300 -> 0 | H95: =F95 / D95 -> 0
C96: 37 | D96: =VTM!B301 -> 100 | F96: =Test!B301 -> 0 | H96: =F96 / D96 -> 0
B97: ChinaSpeed | C97: 22 | D97: =VTM!B302 -> 100 | F97: =Test!B302 -> 0 | H97: =F97 / D97 -> 0
C98: 27 | D98: =VTM!B303 -> 100 | F98: =Test!B303 -> 0 | H98: =F98 / D98 -> 0
C99: 32 | D99: =VTM!B304 -> 100 | F99: =Test!B304 -> 0 | H99: =F99 / D99 -> 0
C100: 37 | D100: =VTM!B305 -> 100 | F100: =Test!B305 -> 0 | H100: =F100 / D100 -> 0
...

Sheet fps
A1: Tango2 | B1: 60
A2: FoodMarket4 | B2: 60
A3: Campfire | B3: 30
A4: CatRobot | B4: 60
A5: DaylightRoad2 | B5: 60
A6: ParkRunning3 | B6: 50
A7: MarketPlace | B7: 60
A8: RitualDance | B8: 60
A9: Cactus | B9: 50
A10: BasketballDrive | B10: 50
A11: BQTerrace | B11: 60
A12: BasketballDrill | B12: 50
... A26: SlideShow | B26: 20

Sheet VTM
A1: Sequence | B1: bandwidth
A2: Tango2.Q22.vtm.ra | B2: 253.9 | C2: 245.1
A3: Tango2.Q27.vtm.ra | B3: 219.1 | C3: 218.7
A4: Tango2.Q32.vtm.ra | B4: 194 | C4: 193.3
A5: Tango2.Q37.vtm.ra | B5: 171.5 | C5: 170.5
A6: FoodMarket4.Q22.vtm.ra | B6: 203.9 | C6: 201.7
A7: FoodMarket4.Q27.vtm.ra | B7: 172.7 | C7: 171.4
A8: FoodMarket4.Q32.vtm.ra | B8: 156.1 | C8: 153.9
A9: FoodMarket4.Q37.vtm.ra | B9: 144.9 | C9: 142.5
A10: CampfireParty2.Q22.vtm.ra | B10: 259.8 | C10: 259.8
A11: CampfireParty2.Q27.vtm.ra | B11: 125.7 | C11: 125.7
A12: CampfireParty2.Q32.vtm.ra | B12: 116.9 | C12: 116.9
A13: CampfireParty2.Q37.vtm.ra | B13: 110.8 | C13: 110.8
... A77: RaceHorses.Q37.vtm.ra | B77: 3.4 | C77: 3.4
A78: FourPeople.Q22.vtm.ra | B78: 100
A79: FourPeople.Q27.vtm.ra | B79: 100
A80: FourPeople.Q32.vtm.ra | B80: 100
A81: FourPeople.Q37.vtm.ra | B81: 100
A82: Johnny.Q22.vtm.ra | B82: 100
A83: Johnny.Q27.vtm.ra | B83: 100
A84: Johnny.Q32.vtm.ra | B84: 100
A85: Johnny.Q37.vtm.ra | B85: 100
A86: KristenAndSara.Q22.vtm.ra | B86: 100
A87: KristenAndSara.Q27.vtm.ra | B87: 100
A88: KristenAndSara.Q32.vtm.ra | B88: 100
A89: KristenAndSara.Q37.vtm.ra | B89: 100
A90: BasketballDrillText.Q22.vtm.ra | B90: 14.2 | C90: 14
A91: BasketballDrillText.Q27.vtm.ra | B91: 11.4 | C91: 11.3
A92: BasketballDrillText.Q32.vtm.ra | B92: 9.7 | C92: 9.7
A93: BasketballDrillText.Q37.vtm.ra | B93: 8.8 | C93: 8.7
A94: ArenaOfValor.Q22.vtm.ra | B94: 58.7 | C94: 57.8
A95: ArenaOfValor.Q27.vtm.ra | B95: 46.4 | C95: 45.6
A96: ArenaOfValor.Q32.vtm.ra | B96: 40 | C96: 39.2
A97: ArenaOfValor.Q37.vtm.ra | B97: 35.3 | C97: 34.7
A98: SlideEditing.Q22.vtm.ra | B98: 8.9 | C98: 8.9
A99: SlideEditing.Q27.vtm.ra | B99: 9.1 | C99: 9.1
A100: SlideEditing.Q32.vtm.ra | B100: 9.2 | C100: 9.2
A101: SlideEditing.Q37.vtm.ra | B101: 9.7 | C101: 9.7
... A105: SlideShow.Q37.vtm.ra | B105: 10.7 | C105: 10.8
A106: Tango2.Q22.vtm.lb | B106: 100
A107: Tango2.Q27.vtm.lb | B107: 100
A108: Tango2.Q32.vtm.lb | B108: 100
A109: Tango2.Q37.vtm.lb | B109: 100
A110: FoodMarket4.Q22.vtm.lb | B110: 100
A111: FoodMarket4.Q27.vtm.lb | B111: 100
A112: FoodMarket4.Q32.vtm.lb | B112: 100
A113: FoodMarket4.Q37.vtm.lb | B113: 100
A114: CampfireParty2.Q22.vtm.lb | B114: 100
A115: CampfireParty2.Q27.vtm.lb | B115: 100
A116: CampfireParty2.Q32.vtm.lb | B116: 100
A117: CampfireParty2.Q37.vtm.lb | B117: 100
... A313: SlideShow.Q37.vtm.lp | B313: 100

Sheet Test
A1: sequence | B1: bandwidth
A2: Tango2.Q22.ra | B2: 50.9
A3: Tango2.Q27.ra | B3: 51.9
A4: Tango2.Q32.ra | B4: 51.6
A5: Tango2.Q37.ra | B5: 51.9
A6: FoodMarket4.Q22.ra | B6: 45.3
A7: FoodMarket4.Q27.ra | B7: 42.6
A8: FoodMarket4.Q32.ra | B8: 42
A9: FoodMarket4.Q37.ra | B9: 44
A10: CampfireParty2.Q22.ra | B10: 59.4
A11: CampfireParty2.Q27.ra | B11: 33.2
A12: CampfireParty2.Q32.ra | B12: 32.1
A13: CampfireParty2.Q37.ra | B13: 32.2
... A77: RaceHorses.Q37.ra | B77: 0.6
A78: FourPeople.Q22.ra
A79: FourPeople.Q27.ra
A80: FourPeople.Q32.ra
A81: FourPeople.Q37.ra
A82: Johnny.Q22.ra
A83: Johnny.Q27.ra
A84: Johnny.Q32.ra
A85: Johnny.Q37.ra
A86: KristenAndSara.Q22.ra
A87: KristenAndSara.Q27.ra
A88: KristenAndSara.Q32.ra
A89: KristenAndSara.Q37.ra
A90: BasketballDrillText.Q22.ra | B90: 2.8
A91: BasketballDrillText.Q27.ra | B91: 2.4
A92: BasketballDrillText.Q32.ra | B92: 2.2
A93: BasketballDrillText.Q37.ra | B93: 2
A94: ArenaOfValor.Q22.ra | B94: 13.2
A95: ArenaOfValor.Q27.ra | B95: 11.3
A96: ArenaOfValor.Q32.ra | B96: 10.6
A97: ArenaOfValor.Q37.ra | B97: 10.4
A98: SlideEditing.Q22.ra | B98: 2.8
A99: SlideEditing.Q27.ra | B99: 2.9
A100: SlideEditing.Q32.ra | B100: 3
A101: SlideEditing.Q37.ra | B101: 3.2
... A105: SlideShow.Q37.ra | B105: 3.4
A106: Tango2.Q22.lb
A107: Tango2.Q27.lb
A108: Tango2.Q32.lb
A109: Tango2.Q37.lb
A110: FoodMarket4.Q22.lb
A111: FoodMarket4.Q27.lb
A112: FoodMarket4.Q32.lb
A113: FoodMarket4.Q37.lb
A114: CampfireParty2.Q22.lb
A115: CampfireParty2.Q27.lb
A116: CampfireParty2.Q32.lb
A117: CampfireParty2.Q37.lb
... A129: ParkRunning3.Q37.lb
A130: MarketPlace.Q22.lb | B130: 9.5
A131: MarketPlace.Q27.lb | B131: 7.6
A132: MarketPlace.Q32.lb | B132: 6.6
A133: MarketPlace.Q37.lb | B133: 6
A134: RitualDance.Q22.lb | B134: 7.4
A135: RitualDance.Q27.lb | B135: 6.5
A136: RitualDance.Q32.lb | B136: 5.9
A137: RitualDance.Q37.lb | B137: 5.5
A138: Cactus.Q22.lb | B138: 9.9
A139: Cactus.Q27.lb | B139: 6.8
A140: Cactus.Q32.lb | B140: 6.1
A141: Cactus.Q37.lb | B141: 5.6
... A209: SlideShow.Q37.lb | B209: 1.8
A210: Tango2.Q22.lp
A211: Tango2.Q27.lp
A212: Tango2.Q32.lp
A213: Tango2.Q37.lp
A214: FoodMarket4.Q22.lp
A215: FoodMarket4.Q27.lp
A216: FoodMarket4.Q32.lp
A217: FoodMarket4.Q37.lp
A218: CampfireParty2.Q22.lp
A219: CampfireParty2.Q27.lp
A220: CampfireParty2.Q32.lp
A221: CampfireParty2.Q37.lp
... A313: SlideShow.Q37.lp
