Workbook
Name _Hlk532823448: 'RA VTMvsBMS'!$B$9
Name _Hlk532823452: 'RA VTMvsBMS'!$B$10

Sheet RA VTMvsBMS
G5: VTM RA
A6: Tool | B6: Abbreviation | C6: BDR-Y | D6: BDR-U | E6: BDR-V | F6: Tester EncTime | G6: Tester DecTime | H6: XChecker EncTime | I6: XChecker DecTime | J6: Ave BW | K6: Max BW | L6: Pixel usage
A7: ='VTM Tools'!A7 -> Chroma separate tree | B7: ='VTM Tools'!B7 -> CST | C7: ='VTM Tools'!J7 -> 0.0030161919 | D7: ='VTM Tools'!K7 -> 0.024388804 | E7: ='VTM Tools'!L7 -> 0.025754063 | F7: ='VTM Tools'!M7 -> 1.01 | G7: ='VTM Tools'!N7 -> 1.01 | H7: ='VTM Tools'!O7 -> 1.0023676 | I7: ='VTM Tools'!P7 -> 0.99577068
A8: ='VTM Tools'!A8 -> Dependent quantization | B8: ='VTM Tools'!B8 -> DQ | C8: ='VTM Tools'!J8 -> 0.016624248 | D8: ='VTM Tools'!K8 -> 0.0051479565 | E8: ='VTM Tools'!L8 -> 0.00057946409 | F8: ='VTM Tools'!M8 -> 0.94990911 | G8: ='VTM Tools'!N8 -> 1.0161608 | H8: ='VTM Tools'!O8 -> 0.96 | I8: ='VTM Tools'!P8 -> 1.02
A9: ='VTM Tools'!A9 -> Cross-component linear model | B9: ='VTM Tools'!B9 -> CCLM | C9: ='VTM Tools'!J9 -> 0.0095044253 | D9: ='VTM Tools'!K9 -> 0.16611113 | E9: ='VTM Tools'!L9 -> 0.16666516 | F9: ='VTM Tools'!M9 -> 0.99 | G9: ='VTM Tools'!N9 -> 1 | H9: ='VTM Tools'!O9 -> 1.0032335 | I9: ='VTM Tools'!P9 -> 1.0285699
A10: ='VTM Tools'!A10 -> multiple transform set | B10: ='VTM Tools'!B10 -> MTS | C10: ='VTM Tools'!J10 -> 0.012611921 | D10: ='VTM Tools'!K10 -> 0.011357591 | E10: ='VTM Tools'!L10 -> 0.012777932 | F10: ='VTM Tools'!M10 -> 0.89775158 | G10: ='VTM Tools'!N10 -> 0.96965124 | H10: ='VTM Tools'!O10 -> 0.89451567 | I10: ='VTM Tools'!P10 -> 0.97561904
A11: ='VTM Tools'!A11 -> Adaptive loop filter | B11: ='VTM Tools'!B11 -> ALF | C11: ='VTM Tools'!J11 -> 0.036804416 | D11: ='VTM Tools'!K11 -> 0.035410087 | E11: ='VTM Tools'!L11 -> 0.031538506 | F11: ='VTM Tools'!M11 -> 1.000046 | G11: ='VTM Tools'!N11 -> 0.86555187 | H11: ='VTM Tools'!O11 -> 1.01 | I11: ='VTM Tools'!P11 -> 0.87
A12: ='VTM Tools'!A12 -> Affine motion model | B12: ='VTM Tools'!B12 -> AFF | C12: ='VTM Tools'!J12 -> 0.025662893 | D12: ='VTM Tools'!K12 -> 0.018506358 | E12: ='VTM Tools'!L12 -> 0.017872872 | F12: ='VTM Tools'!M12 -> 0.89 | G12: ='VTM Tools'!N12 -> 0.98 | H12: ='VTM Tools'!O12 -> 0.89 | I12: ='VTM Tools'!P12 -> 0.97
A13: ='VTM Tools'!A13 -> subblock-based temporal merging candidates | B13: ='VTM Tools'!B13 -> SBTMC | C13: ='VTM Tools'!J13 -> 0.005348817 | D13: ='VTM Tools'!K13 -> 0.0042049023 | E13: ='VTM Tools'!L13 -> 0.0047786616 | F13: ='VTM Tools'!M13 -> 1.0024156 | G13: ='VTM Tools'!N13 -> 0.99417465 | H13: ='VTM Tools'!O13 -> 1 | I13: ='VTM Tools'!P13 -> 0.99
A14: ='VTM Tools'!A14 -> Adaptive motion vector resolution | B14: ='VTM Tools'!B14 -> AMVR | C14: ='VTM Tools'!J14 -> 0.0088032563 | D14: ='VTM Tools'!K14 -> 0.01390071 | E14: ='VTM Tools'!L14 -> 0.014138162 | F14: ='VTM Tools'!M14 -> 0.9118098 | G14: ='VTM Tools'!N14 -> 1.0088571 | H14: ='VTM Tools'!O14 -> 0.91 | I14: ='VTM Tools'!P14 -> 1.01
A15: ='VTM Tools'!A15 -> History based motion vector prediction | B15: ='VTM Tools'!B15 -> HMVP | C15: ='VTM Tools'!J15 -> 0.0042070767 | D15: ='VTM Tools'!K15 -> 0.0048527274 | E15: ='VTM Tools'!L15 -> 0.0049147945 | F15: ='VTM Tools'!M15 -> 1.0158587 | G15: ='VTM Tools'!N15 -> 1.0029636 | H15: ='VTM Tools'!O15 -> 1.01 | I15: ='VTM Tools'!P15 -> 1
A16: ='VTM Tools'!A16 -> Pairwise merge candidate | B16: ='VTM Tools'!B16 -> PMC | C16: ='VTM Tools'!J16 -> 0.0012975508 | D16: ='VTM Tools'!K16 -> 0.00073937004 | E16: ='VTM Tools'!L16 -> 0.00050006141 | F16: ='VTM Tools'!M16 -> 1.0028021 | G16: ='VTM Tools'!N16 -> 1.0026636 | H16: ='VTM Tools'!O16 -> 1 | I16: ='VTM Tools'!P16 -> 1
A17: ='VTM Tools'!A17 -> Triangular partition | B17: ='VTM Tools'!B17 -> TAP | C17: ='VTM Tools'!J17 -> 0.0037195177 | D17: ='VTM Tools'!K17 -> 0.0065736535 | E17: ='VTM Tools'!L17 -> 0.0067231473 | F17: ='VTM Tools'!M17 -> 0.90430429 | G17: ='VTM Tools'!N17 -> 1.0089371 | H17: ='VTM Tools'!O17 -> 0.9 | I17: ='VTM Tools'!P17 -> 1.03
A18: ='VTM Tools'!A18 -> Bi-directional optical flow | B18: ='VTM Tools'!B18 -> BDOF | C18: ='VTM Tools'!J18 -> 0.011880323 | D18: ='VTM Tools'!K18 -> 0.0039424581 | E18: ='VTM Tools'!L18 -> 0.0025956288 | F18: ='VTM Tools'!M18 -> 0.93039366 | G18: ='VTM Tools'!N18 -> 0.95660719 | H18: ='VTM Tools'!O18 -> 0.91 | I18: ='VTM Tools'!P18 -> 0.93
... A24: ='VTM Tools'!A24 -> Sample adaptive offset | B24: ='VTM Tools'!B24 -> SAO | C24: ='VTM Tools'!J24 -> 0.0070950039 | D24: ='VTM Tools'!K24 -> 0.012070923 | E24: ='VTM Tools'!L24 -> 0.011741527 | F24: ='VTM Tools'!M24 -> 1.0362944 | G24: ='VTM Tools'!N24 -> 1.0174077 | H24: ='VTM Tools'!O24 -> 1.02 | I24: ='VTM Tools'!P24 -> 0.99

Sheet VTM Tools
A1: Tools included in BMS2.0.1/VTM2.0.1
A2: Test Model | B2: BMS2.0.1
A3: Anchor | B3: VTM onfig
A4: Tool on/off | B4: off
F5: AI | M5: RA | Q5: LD | T5: LDB | X5: AI | Z5: RA | AB5: LDB
A6: Tool | B6: Abbreviation | C6: BDR-Y | D6: BDR-U | E6: BDR-V | F6: Tester EncTime | G6: Tester DecTime | H6: XChecker EncTime | I6: XChecker DecTime | J6: BDR-Y | K6: BDR-U | L6: BDR-V | M6: Tester EncTime | N6: Tester DecTime | O6: XChecker EncTime | P6: XChecker DecTime | Q6: BDR-Y | R6: BDR-U | S6: BDR-V | T6: Tester EncTime | U6: Tester DecTime | V6: XChecker EncTime | W6: XChecker DecTime | X6: Enc Time diff | Y6: Dec Time Diff | Z6: Enc Time diff | AA6: Dec Time Diff | AB6: Enc Time diff | AC6: Dec Time Diff
A7: Chroma separate tree | B7: CST | C7: 0.021372237 | D7: -0.032775808 | E7: -0.026191558 | F7: 1.29 | G7: 1.02 | H7: 1.3104055 | I7: 0.99308132 | J7: 0.0030161919 | K7: 0.024388804 | L7: 0.025754063 | M7: 1.01 | N7: 1.01 | O7: 1.0023676 | P7: 0.99577068 | Q7: 0.0014731443 | R7: -0.005428417 | S7: -0.00031621778 | T7: 1.01 | U7: 1 | V7: 1.0024709 | W7: 1.0117032 | X7: =F7/H7-1 -> -0.015571896 | Y7: =G7/I7-1 -> 0.027106223 | Z7: =M7/O7-1 -> 0.0076143954 | AA7: =N7/P7-1 -> 0.014289761 | AB7: =T7/V7-1 -> 0.0075104979 | AC7: =U7/W7-1 -> -0.011567852
A8: Dependent quantization | B8: DQ | C8: 0.0191 | D8: 0.0115 | E8: 0.0086 | F8: 0.82 | G8: 1.01 | H8: 0.8355532 | I8: 1.0103882 | J8: 0.016624248 | K8: 0.0051479565 | L8: 0.00057946409 | M8: 0.94990911 | N8: 1.0161608 | O8: 0.96 | P8: 1.02 | Q8: 0.014839307 | R8: 0.0086255748 | S8: -0.0031458046 | T8: 0.95247848 | U8: 1.0259571 | V8: 0.95637471 | W8: 1.01 | X8: =F8/H8-1 -> -0.018614256 | Y8: =G8/I8-1 -> -0.0003842487 | Z8: =M8/O8-1 -> -0.01051134 | AA8: =N8/P8-1 -> -0.0037639334 | AB8: =T8/V8-1 -> -0.0040739537 | AC8: =U8/W8-1 -> 0.015799079
A9: Cross-component linear model | B9: CCLM | C9: 0.020687671 | D9: 0.1875866 | E9: 0.18662614 | F9: 0.99 | G9: 1 | H9: 0.99184937 | I9: 0.99940582 | J9: 0.0095044253 | K9: 0.16611113 | L9: 0.16666516 | M9: 0.99 | N9: 1 | O9: 1.0032335 | P9: 1.0285699 | Q9: 0.00075580835 | R9: 0.042527755 | S9: 0.046676124 | T9: 1 | U9: 1 | V9: 1.0014476 | W9: 1.0461548 | X9: =F9/H9-1 -> -0.0018645649 | Y9: =G9/I9-1 -> 0.00059453783 | Z9: =M9/O9-1 -> -0.013190879 | AA9: =N9/P9-1 -> -0.027776309 | AB9: =T9/V9-1 -> -0.0014455022 | AC9: =U9/W9-1 -> -0.044118535
A10: multiple transform set | B10: MTS | C10: 0.028107485 | D10: 0.023534154 | E10: 0.02378133 | F10: 0.46706574 | G10: 0.8481404 | H10: 0.4726217 | I10: 0.84351619 | J10: 0.012611921 | K10: 0.011357591 | L10: 0.012777932 | M10: 0.89775158 | N10: 0.96965124 | O10: 0.89451567 | P10: 0.97561904 | Q10: 0.0033747677 | R10: 0.0054291866 | S10: 0.0067399511 | T10: 0.95521361 | U10: 1.0156587 | V10: 0.95827764 | W10: 1.0004219 | X10: =F10/H10-1 -> -0.011755617 | Y10: =G10/I10-1 -> 0.0054820624 | Z10: =M10/O10-1 -> 0.0036174976 | AA10: =N10/P10-1 -> -0.0061169398 | AB10: =T10/V10-1 -> -0.0031974381 | AC10: =U10/W10-1 -> 0.015230389
A11: Adaptive loop filter | B11: ALF | C11: 0.022508725 | D11: 0.030491785 | E11: 0.031802805 | F11: 0.99461578 | G11: 0.8791944 | H11: 1 | I11: 0.9 | J11: 0.036804416 | K11: 0.035410087 | L11: 0.031538506 | M11: 1.000046 | N11: 0.86555187 | O11: 1.01 | P11: 0.87 | Q11: 0.025856056 | R11: 0.033773767 | S11: 0.034022237 | T11: 1.0099324 | U11: 0.89422147 | V11: 1.01 | W11: 0.89 | X11: =F11/H11-1 -> -0.0053842198 | Y11: =G11/I11-1 -> -0.023117334 | Z11: =M11/O11-1 -> -0.0098554293 | AA11: =N11/P11-1 -> -0.0051127963 | AB11: =T11/V11-1 -> -6.6891023e-05 | AC11: =U11/W11-1 -> 0.0047432218
A12: Affine motion model | B12: AFF | J12: 0.025662893 | K12: 0.018506358 | L12: 0.017872872 | M12: 0.89 | N12: 0.98 | O12: 0.89 | P12: 0.97 | Q12: 0.021021057 | R12: 0.013446137 | S12: 0.015127356 | T12: 0.82 | U12: 0.96 | V12: 0.81 | W12: 0.95 | X12: =F12/H12-1 -> #DIV/0! | Y12: =G12/I12-1 -> #DIV/0! | Z12: =M12/O12-1 -> 0 | AA12: =N12/P12-1 -> 0.010309278 | AB12: =T12/V12-1 -> 0.012345679 | AC12: =U12/W12-1 -> 0.010526316
A13: subblock-based temporal merging candidates | B13: SBTMC | J13: 0.005348817 | K13: 0.0042049023 | L13: 0.0047786616 | M13: 1.0024156 | N13: 0.99417465 | O13: 1 | P13: 0.99 | Q13: 0.0063269489 | R13: 0.0072517981 | S13: 0.0056866366 | T13: 0.99943033 | U13: 0.96704711 | V13: 1.01 | W13: 0.99 | X13: =F13/H13-1 -> #DIV/0! | Y13: =G13/I13-1 -> #DIV/0! | Z13: =M13/O13-1 -> 0.0024156345 | AA13: =N13/P13-1 -> 0.004216823 | AB13: =T13/V13-1 -> -0.010465018 | AC13: =U13/W13-1 -> -0.023184742
A14: Adaptive motion vector resolution | B14: AMVR | J14: 0.0088032563 | K14: 0.01390071 | L14: 0.014138162 | M14: 0.9118098 | N14: 1.0088571 | O14: 0.91 | P14: 1.01 | Q14: 0.0054297623 | R14: 0.0093620368 | S14: 0.0096680446 | T14: 0.86863385 | U14: 1.0063661 | V14: 0.89 | W14: 1.01 | X14: =F14/H14-1 -> #DIV/0! | Y14: =G14/I14-1 -> #DIV/0! | Z14: =M14/O14-1 -> 0.0019887952 | AA14: =N14/P14-1 -> -0.0011315564 | AB14: =T14/V14-1 -> -0.024006913 | AC14: =U14/W14-1 -> -0.0035978971
A15: History based motion vector prediction | B15: HMVP | J15: 0.0042070767 | K15: 0.0048527274 | L15: 0.0049147945 | M15: 1.0158587 | N15: 1.0029636 | O15: 1.01 | P15: 1 | Q15: 0.0025053771 | R15: 0.0021026358 | S15: 0.0027536733 | T15: 0.99736314 | U15: 0.9815895 | V15: 1.02 | W15: 1.02 | X15: =F15/H15-1 -> #DIV/0! | Y15: =G15/I15-1 -> #DIV/0! | Z15: =M15/O15-1 -> 0.0058006868 | AA15: =N15/P15-1 -> 0.0029636484 | AB15: =T15/V15-1 -> -0.022192997 | AC15: =U15/W15-1 -> -0.037657351
A16: Pairwise merge candidate | B16: PMC | J16: 0.0012975508 | K16: 0.00073937004 | L16: 0.00050006141 | M16: 1.0028021 | N16: 1.0026636 | O16: 1 | P16: 1 | Q16: 0.00011329824 | R16: -0.00082572379 | S16: -0.0011479384 | T16: 1.0040858 | U16: 1.0277177 | V16: 1 | W16: 1 | X16: =F16/H16-1 -> #DIV/0! | Y16: =G16/I16-1 -> #DIV/0! | Z16: =M16/O16-1 -> 0.0028020597 | AA16: =N16/P16-1 -> 0.0026636257 | AB16: =T16/V16-1 -> 0.0040858097 | AC16: =U16/W16-1 -> 0.027717712
A17: Triangular partition | B17: TAP | J17: 0.0037195177 | K17: 0.0065736535 | L17: 0.0067231473 | M17: 0.90430429 | N17: 1.0089371 | O17: 0.9 | P17: 1.03 | Q17: 0.0089315362 | R17: 0.011941887 | S17: 0.011840607 | T17: 0.88171948 | U17: 1.038807 | V17: 0.87 | W17: 1.04 | X17: =F17/H17-1 -> #DIV/0! | Y17: =G17/I17-1 -> #DIV/0! | Z17: =M17/O17-1 -> 0.0047825438 | AA17: =N17/P17-1 -> -0.020449429 | AB17: =T17/V17-1 -> 0.013470663 | AC17: =U17/W17-1 -> -0.0011471156
A18: Bi-directional optical flow | B18: BDOF | J18: 0.011880323 | K18: 0.0039424581 | L18: 0.0025956288 | M18: 0.93039366 | N18: 0.95660719 | O18: 0.91 | P18: 0.93 | X18: =F18/H18-1 -> #DIV/0! | Y18: =G18/I18-1 -> #DIV/0! | Z18: =M18/O18-1 -> 0.022410617 | AA18: =N18/P18-1 -> 0.028609886 | AB18: =T18/V18-1 -> #DIV/0! | AC18: =U18/W18-1 -> #DIV/0!
A19: Combined intra/inter prediction | B19: CIIP | J19: 0.0047348632 | K19: 0.0023142588 | L19: 0.0027925233 | M19: 0.95737907 | N19: 1.0030408 | O19: 0.95 | P19: 1 | Q19: 0.0047316373 | R19: 0.0053993996 | S19: 0.0059320267 | T19: 0.9566326 | U19: 1.02473 | V19: 0.95 | W19: 1 | X19: =F19/H19-1 -> #DIV/0! | Y19: =G19/I19-1 -> #DIV/0! | Z19: =M19/O19-1 -> 0.0077674399 | AA19: =N19/P19-1 -> 0.0030408469 | AB19: =T19/V19-1 -> 0.0069816819 | AC19: =U19/W19-1 -> 0.024730035
A20: Merge with MVD | B20: MMVD | J20: 0.00855022 | K20: 0.0063431029 | L20: 0.0065450933 | M20: 0.88941106 | N20: 1.0088393 | O20: 0.88 | P20: 1 | Q20: 0.0020785632 | R20: 0.0008820884 | S20: -0.00019373386 | T20: 0.94996344 | U20: 0.98694145 | V20: 0.95 | W20: 1 | X20: =F20/H20-1 -> #DIV/0! | Y20: =G20/I20-1 -> #DIV/0! | Z20: =M20/O20-1 -> 0.010694388 | AA20: =N20/P20-1 -> 0.0088392813 | AB20: =T20/V20-1 -> -3.8484079e-05 | AC20: =U20/W20-1 -> -0.013058551
A21: Bi-predictive weighted averaging | B21: BPWA | J21: 0.0043685929 | K21: 0.0065221312 | L21: 0.0066429262 | M21: 0.97442566 | N21: 1.0109409 | O21: 0.97 | P21: 1 | Q21: 0.0030864773 | R21: 0.0028765455 | S21: 0.0024961832 | T21: 0.96061828 | U21: 0.99548302 | V21: 0.97 | W21: 1.01 | X21: =F21/H21-1 -> #DIV/0! | Y21: =G21/I21-1 -> #DIV/0! | Z21: =M21/O21-1 -> 0.0045625377 | AA21: =N21/P21-1 -> 0.010940915 | AB21: =T21/V21-1 -> -0.0096718714 | AC21: =U21/W21-1 -> -0.014373246
A22: Multi-reference line prediction | B22: MRLP | C22: 0.0054115082 | D22: 0.0026491149 | E22: 0.0028033924 | F22: 0.94613109 | G22: 0.98002456 | H22: 0.95 | I22: 1.03 | J22: 0.0026491974 | K22: 0.0013332666 | L22: 0.0013507184 | M22: 0.98840282 | N22: 0.97472416 | O22: 0.99 | P22: 1 | Q22: 0.0011925325 | R22: 0.0015674466 | S22: 0.0014998184 | T22: 0.99772706 | U22: 0.98395489 | V22: 1 | W22: 1 | X22: =F22/H22-1 -> -0.0040725394 | Y22: =G22/I22-1 -> -0.048519843 | Z22: =M22/O22-1 -> -0.0016133157 | AA22: =N22/P22-1 -> -0.025275843 | AB22: =T22/V22-1 -> -0.0022729382 | AC22: =U22/W22-1 -> -0.016045113
A23: Current picture referencing, tool on test | B23: CPR | C23: -0.0027347188 | D23: -0.0039694873 | E23: -0.0033391366 | F23: 1.3687374 | G23: 0.99830153 | H23: 1.33 | I23: 1 | J23: 0.00085262595 | K23: -0.00010947336 | L23: 0.00045667888 | M23: 0.99600931 | N23: 1.0010105 | O23: 0.99 | P23: 0.99 | Q23: 0.0014003691 | R23: 0.0026380367 | S23: 5.6054405e-05 | T23: 1.0696387 | U23: 0.98775666 | V23: 1.06 | W23: 1 | X23: =F23/H23-1 -> 0.029125836 | Y23: =G23/I23-1 -> -0.0016984696 | Z23: =M23/O23-1 -> 0.0060700126 | AA23: =N23/P23-1 -> 0.011121746 | AB23: =T23/V23-1 -> 0.0090931172 | AC23: =U23/W23-1 -> -0.012243337
A24: Sample adaptive offset | B24: SAO | C24: 0.0030129981 | D24: 0.0041372644 | E24: 0.0072437504 | F24: 0.99803353 | G24: 1.0063628 | H24: 1 | I24: 0.98 | J24: 0.0070950039 | K24: 0.012070923 | L24: 0.011741527 | M24: 1.0362944 | N24: 1.0174077 | O24: 1.02 | P24: 0.99 | Q24: 0.014063292 | R24: 0.03247729 | S24: 0.04203978 | T24: 1.0107003 | U24: 0.96929921 | V24: 1 | W24: 0.98 | X24: =F24/H24-1 -> -0.0019664726 | Y24: =G24/I24-1 -> 0.026900852 | Z24: =M24/O24-1 -> 0.015974896 | AA24: =N24/P24-1 -> 0.027684566 | AB24: =T24/V24-1 -> 0.010700328 | AC24: =U24/W24-1 -> -0.010919175
C27: AI | E27: RA | H27: LDB
A28: Tool | B28: Abbreviation | C28: Pixel usage | D28: Pixel usage | E28: Ave mem BW | F28: Max mem BW | G28: Pixel usage | H28: Ave mem BW | I28: Max mem BW
A29: Cross-component linear model | B29: CCLM | C29: 0.51 | D29: 0.034 | G29: 0.0084
A30: Adaptive loop filter | B30: ALF | C30: 0.99 | D30: 0.62 | G30: 0.5865
A31: Affine motion model | B31: AFF | D31: 0.24 | E31: 0.99 | F31: 1.06 | G31: 0.28 | H31: 0.97 | I31: 1.03
A32: subblock-based temporal merging candidates | B32: SBTMC | D32: 0.16 | E32: 0.95 | F32: 0.94 | G32: 0.1538 | H32: 0.97 | I32: 0.98
A33: Adaptive motion vector resolution | B33: AMVR | D33: 0.035 | E33: 1.02 | F33: 1.02 | G33: 0.0237 | H33: 1.01 | I33: 1
A34: Triangular partition | B34: TAP | D34: 0.023 | E34: 1 | G34: 0.0467 | H34: 0.98
A35: Bi-directional optical flow | B35: BDOF | D35: 0.42 | E35: 0.98
A36: Combined intra/inter prediction | B36: CIIP | D36: 0.0154 | E36: 0.99 | G36: 0.0185 | H36: 1
A37: Merge with MVD | B37: MMVD | D37: 0.1039 | E37: 0.99 | G37: 0.0837 | H37: 0.98
A38: Bi-predictive weighted averaging | B38: BPWA | D38: 0.1 | E38: 1 | F38: 1 | G38: 0.07 | H38: 1 | I38: 0.99
A39: Multi-reference line prediction | B39: MRLP | C39: 0.073 | D39: 0.0076 | G39: 0.0039

Sheet VTM Tools-Fig
F1: weighting factor
F2: 6
B3: ='VTM Tools'!B7 -> CST | C3: ='VTM Tools'!J7 -> 0.0030161919 | D3: =AVERAGE('VTM Tools'!M7,'VTM Tools'!O7) -> 1.0061838 | E3: =AVERAGE('VTM Tools'!N7,'VTM Tools'!P7) -> 1.0028853 | F3: =(D3+F2*E3)/(F2+1) -> 1.0033565
B4: ='VTM Tools'!B8 -> DQ | C4: ='VTM Tools'!J8 -> 0.016624248 | D4: =AVERAGE('VTM Tools'!M8,'VTM Tools'!O8) -> 0.95495456 | E4: =AVERAGE('VTM Tools'!N8,'VTM Tools'!P8) -> 1.0180804 | F4: =(D4+F2*E4)/(F2+1) -> 1.0090624
B5: ='VTM Tools'!B9 -> CCLM | C5: ='VTM Tools'!J9 -> 0.0095044253 | D5: =AVERAGE('VTM Tools'!M9,'VTM Tools'!O9) -> 0.99661677 | E5: =AVERAGE('VTM Tools'!N9,'VTM Tools'!P9) -> 1.0142849 | F5: =(D5+F2*E5)/(F2+1) -> 1.0117609
B6: ='VTM Tools'!B10 -> MTS | C6: ='VTM Tools'!J10 -> 0.012611921 | D6: =AVERAGE('VTM Tools'!M10,'VTM Tools'!O10) -> 0.89613363 | E6: =AVERAGE('VTM Tools'!N10,'VTM Tools'!P10) -> 0.97263514 | F6: =(D6+F2*E6)/(F2+1) -> 0.96170635
B7: ='VTM Tools'!B11 -> ALF | C7: ='VTM Tools'!J11 -> 0.036804416 | D7: =AVERAGE('VTM Tools'!M11,'VTM Tools'!O11) -> 1.005023 | E7: =AVERAGE('VTM Tools'!N11,'VTM Tools'!P11) -> 0.86777593 | F7: =(D7+F2*E7)/(F2+1) -> 0.88738266
B8: ='VTM Tools'!B12 -> AFF | C8: ='VTM Tools'!J12 -> 0.025662893 | D8: =AVERAGE('VTM Tools'!M12,'VTM Tools'!O12) -> 0.89 | E8: =AVERAGE('VTM Tools'!N12,'VTM Tools'!P12) -> 0.975 | F8: =(D8+F2*E8)/(F2+1) -> 0.96285714
B9: ='VTM Tools'!B13 -> SBTMC | C9: ='VTM Tools'!J13 -> 0.005348817 | D9: =AVERAGE('VTM Tools'!M13,'VTM Tools'!O13) -> 1.0012078 | E9: =AVERAGE('VTM Tools'!N13,'VTM Tools'!P13) -> 0.99208733 | F9: =(D9+F2*E9)/(F2+1) -> 0.99339025
B10: ='VTM Tools'!B14 -> AMVR | C10: ='VTM Tools'!J14 -> 0.0088032563 | D10: =AVERAGE('VTM Tools'!M14,'VTM Tools'!O14) -> 0.9109049 | E10: =AVERAGE('VTM Tools'!N14,'VTM Tools'!P14) -> 1.0094286 | F10: =(D10+F2*E10)/(F2+1) -> 0.99535376
B11: ='VTM Tools'!B15 -> HMVP | C11: ='VTM Tools'!J15 -> 0.0042070767 | D11: =AVERAGE('VTM Tools'!M15,'VTM Tools'!O15) -> 1.0129293 | E11: =AVERAGE('VTM Tools'!N15,'VTM Tools'!P15) -> 1.0014818 | F11: =(D11+F2*E11)/(F2+1) -> 1.0031172
B12: ='VTM Tools'!B16 -> PMC | C12: ='VTM Tools'!J16 -> 0.0012975508 | D12: =AVERAGE('VTM Tools'!M16,'VTM Tools'!O16) -> 1.001401 | E12: =AVERAGE('VTM Tools'!N16,'VTM Tools'!P16) -> 1.0013318 | F12: =(D12+F2*E12)/(F2+1) -> 1.0013417
B13: ='VTM Tools'!B17 -> TAP | C13: ='VTM Tools'!J17 -> 0.0037195177 | D13: =AVERAGE('VTM Tools'!M17,'VTM Tools'!O17) -> 0.90215214 | E13: =AVERAGE('VTM Tools'!N17,'VTM Tools'!P17) -> 1.0194685 | F13: =(D13+F2*E13)/(F2+1) -> 1.0027091
B14: ='VTM Tools'!B18 -> BDOF | C14: ='VTM Tools'!J18 -> 0.011880323 | D14: =AVERAGE('VTM Tools'!M18,'VTM Tools'!O18) -> 0.92019683 | E14: =AVERAGE('VTM Tools'!N18,'VTM Tools'!P18) -> 0.9433036 | F14: =(D14+F2*E14)/(F2+1) -> 0.94000263
B15: ='VTM Tools'!B19 -> CIIP | C15: ='VTM Tools'!J19 -> 0.0047348632 | D15: =AVERAGE('VTM Tools'!M19,'VTM Tools'!O19) -> 0.95368953 | E15: =AVERAGE('VTM Tools'!N19,'VTM Tools'!P19) -> 1.0015204 | F15: =(D15+F2*E15)/(F2+1) -> 0.99468744
B16: ='VTM Tools'!B20 -> MMVD | C16: ='VTM Tools'!J20 -> 0.00855022 | D16: =AVERAGE('VTM Tools'!M20,'VTM Tools'!O20) -> 0.88470553 | E16: =AVERAGE('VTM Tools'!N20,'VTM Tools'!P20) -> 1.0044196 | F16: =(D16+F2*E16)/(F2+1) -> 0.98731762
B17: ='VTM Tools'!B21 -> BPWA | C17: ='VTM Tools'!J21 -> 0.0043685929 | D17: =AVERAGE('VTM Tools'!M21,'VTM Tools'!O21) -> 0.97221283 | E17: =AVERAGE('VTM Tools'!N21,'VTM Tools'!P21) -> 1.0054705 | F17: =(D17+F2*E17)/(F2+1) -> 1.0007194
B18: ='VTM Tools'!B22 -> MRLP | C18: ='VTM Tools'!J22 -> 0.0026491974 | D18: =AVERAGE('VTM Tools'!M22,'VTM Tools'!O22) -> 0.98920141 | E18: =AVERAGE('VTM Tools'!N22,'VTM Tools'!P22) -> 0.98736208 | F18: =(D18+F2*E18)/(F2+1) -> 0.98762484
B19: ='VTM Tools'!B23 -> CPR | C19: ='VTM Tools'!J23 -> 0.00085262595 | D19: =AVERAGE('VTM Tools'!M23,'VTM Tools'!O23) -> 0.99300466 | E19: =AVERAGE('VTM Tools'!N23,'VTM Tools'!P23) -> 0.99550526 | F19: =(D19+F2*E19)/(F2+1) -> 0.99514803
B20: ='VTM Tools'!B24 -> SAO | C20: ='VTM Tools'!J24 -> 0.0070950039 | D20: =AVERAGE('VTM Tools'!M24,'VTM Tools'!O24) -> 1.0281472 | E20: =AVERAGE('VTM Tools'!N24,'VTM Tools'!P24) -> 1.0037039 | F20: =(D20+F2*E20)/(F2+1) -> 1.0071958
