Workbook

Sheet Test-J0090 (Renesas)
H1: D | I1: D | J1: B | K1: B | L1: C | M1: C | N1: A | O1: A | R1: D | S1: D | T1: B | U1: B | V1: C | W1: C | X1: A | Y1: A
H2: config1 | I2: config1 | J2: config2 | K2: config2 | L2: config3 | M2: config3 | N2: config4 | O2: config4 | R2: config1 | S2: config1 | T2: config2 | U2: config2 | V2: config3 | W2: config3 | X2: config4 | Y2: config4
G3: P01S01C1R1
G4: P01S01C1R2
G5: P01S01C1R3
G6: P01S01C1R4
G7: P01S02C1R1
G8: P01S02C1R2
G9: P01S02C1R3
G10: P01S02C1R4
G11: P01S03C1R1
G12: P01S03C1R2
G13: P01S03C1R3
G14: P01S03C1R4
... G22: P01S05C1R4
C23: S10 | D23: 60 | E23: BQTerrace | F23: R1 | G23: P01S10C1R1 | H23: 99.55 | I23: 36.9 | J23: 99.58 | K23: 17.2 | L23: 99.53 | M23: 19.2 | N23: 99.35 | O23: 26.5 | Q23: P01S10C2R1 | R23: 99.74 | S23: 18.2 | T23: 99.72 | U23: 9.5 | V23: 99.71 | W23: 10.1 | X23: 99.51 | Y23: 17
D24: =D23 -> 60 | E24: BQTerrace | F24: R2 | G24: P01S10C1R2 | H24: 99.55 | I24: 37.2 | J24: 99.58 | K24: 17.5 | L24: 99.54 | M24: 19.4 | N24: 99.36 | O24: 26.8 | Q24: P01S10C2R2 | R24: 99.72 | S24: 20.4 | T24: 99.71 | U24: 10.5 | V24: 99.7 | W24: 11.1 | X24: 99.5 | Y24: 18.2
D25: =D24 -> 60 | E25: BQTerrace | F25: R3 | G25: P01S10C1R3 | H25: 99.56 | I25: 37.4 | J25: 99.59 | K25: 17.5 | L25: 99.54 | M25: 19.4 | N25: 99.37 | O25: 26.9 | Q25: P01S10C2R3 | R25: 99.69 | S25: 23.8 | T25: 99.69 | U25: 12 | V25: 99.67 | W25: 12.7 | X25: 99.48 | Y25: 20
D26: =D25 -> 60 | E26: BQTerrace | F26: R4 | G26: P01S10C1R4 | H26: 99.55 | I26: 38 | J26: 99.58 | K26: 17.8 | L26: 99.54 | M26: 19.4 | N26: 99.36 | O26: 27.3 | Q26: P01S10C2R4 | R26: 99.67 | S26: 26.4 | T26: 99.67 | U26: 13.2 | V26: 99.65 | W26: 13.9 | X26: 99.46 | Y26: 21.3
C27: S11 | D27: 60 | E27: RitualDance | F27: R1 | G27: P01S11C1R1 | H27: 99.56 | I27: 32.2 | J27: 99.58 | K27: 15.5 | L27: 99.54 | M27: 16.9 | N27: 99.37 | O27: 23.2 | Q27: P01S11C2R1 | R27: 99.74 | S27: 15 | T27: 99.71 | U27: 8.4 | V27: 99.7 | W27: 8.7 | X27: 99.52 | Y27: 14.3
D28: =D27 -> 60 | E28: RitualDance | F28: R2 | G28: P01S11C1R2 | H28: 99.57 | I28: 32.3 | J28: 99.58 | K28: 15.5 | L28: 99.55 | M28: 16.7 | N28: 99.37 | O28: 23.4 | Q28: P01S11C2R2 | R28: 99.74 | S28: 15.4 | T28: 99.71 | U28: 8.7 | V28: 99.7 | W28: 8.9 | X28: 99.53 | Y28: 14.3
D29: =D28 -> 60 | E29: RitualDance | F29: R3 | G29: P01S11C1R3 | H29: 99.57 | I29: 32.8 | J29: 99.59 | K29: 15.5 | L29: 99.56 | M29: 16.6 | N29: 99.37 | O29: 23.7 | Q29: P01S11C2R3 | R29: 99.75 | S29: 15.7 | T29: 99.72 | U29: 8.9 | V29: 99.71 | W29: 9.1 | X29: 99.54 | Y29: 14.4
D30: =D29 -> 60 | E30: RitualDance | F30: R4 | G30: P01S11C1R4 | H30: 99.56 | I30: 33.9 | J30: 99.59 | K30: 15.9 | L30: 99.56 | M30: 16.9 | N30: 99.37 | O30: 24.5 | Q30: P01S11C2R4 | R30: 99.75 | S30: 16.7 | T30: 99.72 | U30: 9.2 | V30: 99.71 | W30: 9.5 | X30: 99.55 | Y30: 14.9
C31: S12 | D31: 60 | E31: MarketPlace | F31: R1 | G31: P01S12C1R1 | H31: 99.55 | I31: 35 | J31: 99.57 | K31: 16.7 | L31: 99.52 | M31: 18.4 | N31: 99.35 | O31: 25.2 | Q31: P01S12C2R1 | R31: 99.76 | S31: 15.1 | T31: 99.74 | U31: 8.2 | V31: 99.72 | W31: 8.6 | X31: 99.51 | Y31: 15.2
D32: =D31 -> 60 | E32: MarketPlace | F32: R2 | G32: P01S12C1R2 | H32: 99.55 | I32: 35.4 | J32: 99.58 | K32: 16.8 | L32: 99.53 | M32: 18.5 | N32: 99.36 | O32: 25.6 | Q32: P01S12C2R2 | R32: 99.76 | S32: 15.5 | T32: 99.74 | U32: 8.4 | V32: 99.73 | W32: 8.8 | X32: 99.53 | Y32: 15.4
D33: =D32 -> 60 | E33: MarketPlace | F33: R3 | G33: P01S12C1R3 | H33: 99.56 | I33: 35.9 | J33: 99.58 | K33: 17.1 | L33: 99.54 | M33: 18.7 | N33: 99.37 | O33: 25.9 | Q33: P01S12C2R3 | R33: 99.77 | S33: 15.8 | T33: 99.75 | U33: 8.6 | V33: 99.74 | W33: 8.9 | X33: 99.54 | Y33: 15.5
D34: =D33 -> 60 | E34: MarketPlace | F34: R4 | G34: P01S12C1R4 | H34: 99.56 | I34: 36.8 | J34: 99.59 | K34: 17.3 | L34: 99.55 | M34: 18.8 | N34: 99.37 | O34: 26.5 | Q34: P01S12C2R4 | R34: 99.77 | S34: 16.4 | T34: 99.75 | U34: 8.8 | V34: 99.74 | W34: 9.2 | X34: 99.55 | Y34: 15.9
C35: S13 | D35: 50 | E35: BasketBallDrive | F35: R1 | G35: P01S13C1R1 | H35: 99.56 | I35: 36.7 | J35: 99.58 | K35: 17.6 | L35: 99.54 | M35: 19.1 | N35: 99.37 | O35: 26.3 | Q35: P01S13C2R1 | R35: 99.76 | S35: 15.7 | T35: 99.73 | U35: 8.6 | V35: 99.72 | W35: 9 | X35: 99.53 | Y35: 15.2
D36: =D35 -> 50 | E36: BasketBallDrive | F36: R2 | G36: P01S13C1R2 | H36: 99.56 | I36: 36.9 | J36: 99.58 | K36: 17.5 | L36: 99.55 | M36: 19 | N36: 99.37 | O36: 26.5 | Q36: P01S13C2R2 | R36: 99.76 | S36: 16.6 | T36: 99.74 | U36: 9 | V36: 99.73 | W36: 9.3 | X36: 99.54 | Y36: 15.8
D37: =D36 -> 50 | E37: BasketBallDrive | F37: R3 | G37: P01S13C1R3 | H37: 99.56 | I37: 37.5 | J37: 99.58 | K37: 17.6 | L37: 99.55 | M37: 18.9 | N37: 99.37 | O37: 26.9 | Q37: P01S13C2R3 | R37: 99.75 | S37: 17.8 | T37: 99.73 | U37: 9.6 | V37: 99.73 | W37: 9.9 | X37: 99.54 | Y37: 16.4
D38: =D37 -> 50 | E38: BasketBallDrive | F38: R4 | G38: P01S13C1R4 | H38: 99.55 | I38: 38.5 | J38: 99.58 | K38: 17.9 | L38: 99.55 | M38: 19.1 | N38: 99.35 | O38: 27.6 | Q38: P01S13C2R4 | R38: 99.74 | S38: 19.4 | T38: 99.73 | U38: 10.2 | V38: 99.72 | W38: 10.5 | X38: 99.54 | Y38: 17.4
C39: S14 | D39: 50 | E39: Cactus | F39: R1 | G39: P01S14C1R1 | H39: 99.21 | I39: 35 | J39: 99.28 | K39: 16 | L39: 99.2 | M39: 17.7 | N39: 98.87 | O39: 25.2 | Q39: P01S14C2R1 | R39: 99.59 | S39: 12.9 | T39: 99.52 | U39: 7.7 | V39: 99.5 | W39: 8 | X39: 99.2 | Y39: 12.7
D40: =D39 -> 50 | E40: Cactus | F40: R2 | G40: P01S14C1R2 | H40: 99.24 | I40: 35 | J40: 99.31 | K40: 15.9 | L40: 99.24 | M40: 17.5 | N40: 98.9 | O40: 25.3 | Q40: P01S14C2R2 | R40: 99.59 | S40: 13.6 | T40: 99.52 | U40: 8 | V40: 99.5 | W40: 8.3 | X40: 99.23 | Y40: 13
D41: =D40 -> 50 | E41: Cactus | F41: R3 | G41: P01S14C1R3 | H41: 99.26 | I41: 35.4 | J41: 99.34 | K41: 15.8 | L41: 99.28 | M41: 17.3 | N41: 98.93 | O41: 25.7 | Q41: P01S14C2R3 | R41: 99.61 | S41: 14.3 | T41: 99.54 | U41: 8.4 | V41: 99.53 | W41: 8.6 | X41: 99.27 | Y41: 13.3
D42: =D41 -> 50 | E42: Cactus | F42: R4 | G42: P01S14C1R4 | H42: 99.27 | I42: 35.7 | J42: 99.35 | K42: 15.9 | L42: 99.3 | M42: 17.1 | N42: 98.93 | O42: 26 | Q42: P01S14C2R4 | R42: 99.6 | S42: 15.4 | T42: 99.54 | U42: 8.8 | V42: 99.53 | W42: 9.1 | X42: 99.28 | Y42: 13.8

Sheet CrossCheck-J0092 (Sharp)
H1: RA | I1: RA | J1: RA | K1: RA | L1: RA | M1: RA | N1: RA | O1: RA | R1: LB | S1: LB | T1: LB | U1: LB | V1: LB | W1: LB | X1: LB | Y1: LB | AA1: RA | AB1: RA | AC1: RA | AD1: RA | AE1: RA | AF1: RA | AG1: RA | AH1: RA | AK1: LB | AL1: LB | AM1: LB | AN1: LB | AO1: LB | AP1: LB | AQ1: LB | AR1: LB
H2: D | I2: D | J2: B | K2: B | L2: C | M2: C | N2: A | O2: A | R2: D | S2: D | T2: B | U2: B | V2: C | W2: C | X2: A | Y2: A | AA2: D | AB2: D | AC2: B | AD2: B | AE2: C | AF2: C | AG2: A | AH2: A | AK2: D | AL2: D | AM2: B | AN2: B | AO2: C | AP2: C | AQ2: A | AR2: A
H3: config1 | I3: config1 | J3: config2 | K3: config2 | L3: config3 | M3: config3 | N3: config4 | O3: config4 | R3: config1 | S3: config1 | T3: config2 | U3: config2 | V3: config3 | W3: config3 | X3: config4 | Y3: config4 | AA3: config1 | AB3: config1 | AC3: config2 | AD3: config2 | AE3: config3 | AF3: config3 | AG3: config4 | AH3: config4 | AK3: config1 | AL3: config1 | AM3: config2 | AN3: config2 | AO3: config3 | AP3: config3 | AQ3: config4 | AR3: config4
G4: P01S01C1R1 | H4: 99.55 | I4: 143.6 | J4: 99.56 | K4: 71.1 | L4: 99.59 | M4: 65.6 | N4: 99.37 | O4: 100.3 | Z4: P01S01C1R1
G5: P01S01C1R2 | H5: 99.56 | I5: 145.2 | J5: 99.56 | K5: 71.4 | L5: 99.6 | M5: 66 | N5: 99.38 | O5: 101.1 | Z5: P01S01C1R2
G6: P01S01C1R3 | H6: 99.57 | I6: 144.6 | J6: 99.58 | K6: 71.5 | L6: 99.61 | M6: 66 | N6: 99.4 | O6: 100.9 | Z6: P01S01C1R3
G7: P01S01C1R4 | H7: 99.58 | I7: 145.4 | J7: 99.58 | K7: 71.8 | L7: 99.62 | M7: 65.8 | N7: 99.41 | O7: 101.5 | Z7: P01S01C1R4
G8: P01S02C1R1 | H8: 99.49 | I8: 151.2 | J8: 99.51 | K8: 72.9 | L8: 99.56 | M8: 65.9 | N8: 99.3 | O8: 104.9 | Z8: P01S02C1R1
G9: P01S02C1R2 | H9: 99.51 | I9: 152.3 | J9: 99.52 | K9: 73.2 | L9: 99.57 | M9: 66.1 | N9: 99.31 | O9: 105.8 | Z9: P01S02C1R2
G10: P01S02C1R3 | H10: 99.5 | I10: 153.9 | J10: 99.53 | K10: 72.8 | L10: 99.58 | M10: 65.5 | N10: 99.31 | O10: 107 | Z10: P01S02C1R3
G11: P01S02C1R4 | H11: 99.5 | I11: 156.9 | J11: 99.53 | K11: 73.5 | L11: 99.58 | M11: 65.7 | N11: 99.31 | O11: 109.1 | Z11: P01S02C1R4
G12: P01S03C1R1 | H12: 99.57 | I12: 137.3 | J12: 99.57 | K12: 69.2 | L12: 99.6 | M12: 64.2 | N12: 99.4 | O12: 96.9 | Z12: P01S03C1R1
G13: P01S03C1R2 | H13: 99.58 | I13: 134.5 | J13: 99.57 | K13: 68.3 | L13: 99.6 | M13: 63.1 | N13: 99.4 | O13: 95.5 | Z13: P01S03C1R2
G14: P01S03C1R3 | H14: 99.58 | I14: 134.7 | J14: 99.57 | K14: 67.9 | L14: 99.6 | M14: 62.7 | N14: 99.4 | O14: 95.8 | Z14: P01S03C1R3
G15: P01S03C1R4 | H15: 99.57 | I15: 138.8 | J15: 99.57 | K15: 69.1 | L15: 99.61 | M15: 63.3 | N15: 99.39 | O15: 98.3 | Z15: P01S03C1R4
... G23: P01S05C1R4 | H23: 99.37 | I23: 101.7 | J23: 99.35 | K23: 52.8 | L23: 99.39 | M23: 49 | N23: 99.12 | O23: 71.2 | Z23: P01S05C1R4
C24: S10 | D24: 60 | E24: BQTerrace | F24: R1 | G24: P01S10C1R1 | H24: 99.55 | I24: 36.9 | J24: 99.58 | K24: 17.2 | L24: 99.53 | M24: 19.2 | N24: 99.35 | O24: 26.6 | Q24: P01S10C2R1 | R24: 99.74 | S24: 18.1 | T24: 99.72 | U24: 9.5 | V24: 99.71 | W24: 10.1 | X24: 99.51 | Y24: 16.9 | Z24: P01S10C1R1 | AA24: =H24-'Test-J0090 (Renesas)'!H23 -> 0 | AB24: =I24-'Test-J0090 (Renesas)'!I23 -> 0 | AC24: =J24-'Test-J0090 (Renesas)'!J23 -> 0 | AD24: =K24-'Test-J0090 (Renesas)'!K23 -> 0 | AE24: =L24-'Test-J0090 (Renesas)'!L23 -> 0 | AF24: =M24-'Test-J0090 (Renesas)'!M23 -> 0 | AG24: =N24-'Test-J0090 (Renesas)'!N23 -> 0 | AH24: =O24-'Test-J0090 (Renesas)'!O23 -> 0.1 | AJ24: P01S10C2R1 | AK24: =R24-'Test-J0090 (Renesas)'!R23 -> 0 | AL24: =S24-'Test-J0090 (Renesas)'!S23 -> -0.1 | AM24: =T24-'Test-J0090 (Renesas)'!T23 -> 0 | AN24: =U24-'Test-J0090 (Renesas)'!U23 -> 0 | AO24: =V24-'Test-J0090 (Renesas)'!V23 -> 0 | AP24: =W24-'Test-J0090 (Renesas)'!W23 -> 0 | AQ24: =X24-'Test-J0090 (Renesas)'!X23 -> 0 | AR24: =Y24-'Test-J0090 (Renesas)'!Y23 -> -0.1
D25: =D24 -> 60 | E25: BQTerrace | F25: R2 | G25: P01S10C1R2 | H25: 99.55 | I25: 37.2 | J25: 99.58 | K25: 17.4 | L25: 99.54 | M25: 19.3 | N25: 99.36 | O25: 26.8 | Q25: P01S10C2R2 | R25: 99.72 | S25: 20.5 | T25: 99.71 | U25: 10.5 | V25: 99.7 | W25: 11.1 | X25: 99.5 | Y25: 18.3 | Z25: P01S10C1R2 | AA25: =H25-'Test-J0090 (Renesas)'!H24 -> 0 | AB25: =I25-'Test-J0090 (Renesas)'!I24 -> 0 | AC25: =J25-'Test-J0090 (Renesas)'!J24 -> 0 | AD25: =K25-'Test-J0090 (Renesas)'!K24 -> -0.1 | AE25: =L25-'Test-J0090 (Renesas)'!L24 -> 0 | AF25: =M25-'Test-J0090 (Renesas)'!M24 -> -0.1 | AG25: =N25-'Test-J0090 (Renesas)'!N24 -> 0 | AH25: =O25-'Test-J0090 (Renesas)'!O24 -> 0 | AJ25: P01S10C2R2 | AK25: =R25-'Test-J0090 (Renesas)'!R24 -> 0 | AL25: =S25-'Test-J0090 (Renesas)'!S24 -> 0.1 | AM25: =T25-'Test-J0090 (Renesas)'!T24 -> 0 | AN25: =U25-'Test-J0090 (Renesas)'!U24 -> 0 | AO25: =V25-'Test-J0090 (Renesas)'!V24 -> 0 | AP25: =W25-'Test-J0090 (Renesas)'!W24 -> 0 | AQ25: =X25-'Test-J0090 (Renesas)'!X24 -> 0 | AR25: =Y25-'Test-J0090 (Renesas)'!Y24 -> 0.1
D26: =D25 -> 60 | E26: BQTerrace | F26: R3 | G26: P01S10C1R3 | H26: 99.56 | I26: 37.5 | J26: 99.59 | K26: 17.5 | L26: 99.55 | M26: 19.3 | N26: 99.37 | O26: 26.9 | Q26: P01S10C2R3 | R26: 99.69 | S26: 23.8 | T26: 99.69 | U26: 12 | V26: 99.67 | W26: 12.7 | X26: 99.48 | Y26: 20 | Z26: P01S10C1R3 | AA26: =H26-'Test-J0090 (Renesas)'!H25 -> 0 | AB26: =I26-'Test-J0090 (Renesas)'!I25 -> 0.1 | AC26: =J26-'Test-J0090 (Renesas)'!J25 -> 0 | AD26: =K26-'Test-J0090 (Renesas)'!K25 -> 0 | AE26: =L26-'Test-J0090 (Renesas)'!L25 -> 0.01 | AF26: =M26-'Test-J0090 (Renesas)'!M25 -> -0.1 | AG26: =N26-'Test-J0090 (Renesas)'!N25 -> 0 | AH26: =O26-'Test-J0090 (Renesas)'!O25 -> 0 | AJ26: P01S10C2R3 | AK26: =R26-'Test-J0090 (Renesas)'!R25 -> 0 | AL26: =S26-'Test-J0090 (Renesas)'!S25 -> 0 | AM26: =T26-'Test-J0090 (Renesas)'!T25 -> 0 | AN26: =U26-'Test-J0090 (Renesas)'!U25 -> 0 | AO26: =V26-'Test-J0090 (Renesas)'!V25 -> 0 | AP26: =W26-'Test-J0090 (Renesas)'!W25 -> 0 | AQ26: =X26-'Test-J0090 (Renesas)'!X25 -> 0 | AR26: =Y26-'Test-J0090 (Renesas)'!Y25 -> 0
D27: =D26 -> 60 | E27: BQTerrace | F27: R4 | G27: P01S10C1R4 | H27: 99.55 | I27: 38 | J27: 99.58 | K27: 17.8 | L27: 99.54 | M27: 19.4 | N27: 99.36 | O27: 27.3 | Q27: P01S10C2R4 | R27: 99.67 | S27: 26.3 | T27: 99.67 | U27: 13.2 | V27: 99.65 | W27: 13.9 | X27: 99.47 | Y27: 21.2 | Z27: P01S10C1R4 | AA27: =H27-'Test-J0090 (Renesas)'!H26 -> 0 | AB27: =I27-'Test-J0090 (Renesas)'!I26 -> 0 | AC27: =J27-'Test-J0090 (Renesas)'!J26 -> 0 | AD27: =K27-'Test-J0090 (Renesas)'!K26 -> 0 | AE27: =L27-'Test-J0090 (Renesas)'!L26 -> 0 | AF27: =M27-'Test-J0090 (Renesas)'!M26 -> 0 | AG27: =N27-'Test-J0090 (Renesas)'!N26 -> 0 | AH27: =O27-'Test-J0090 (Renesas)'!O26 -> 0 | AJ27: P01S10C2R4 | AK27: =R27-'Test-J0090 (Renesas)'!R26 -> 0 | AL27: =S27-'Test-J0090 (Renesas)'!S26 -> -0.1 | AM27: =T27-'Test-J0090 (Renesas)'!T26 -> 0 | AN27: =U27-'Test-J0090 (Renesas)'!U26 -> 0 | AO27: =V27-'Test-J0090 (Renesas)'!V26 -> 0 | AP27: =W27-'Test-J0090 (Renesas)'!W26 -> 0 | AQ27: =X27-'Test-J0090 (Renesas)'!X26 -> 0.01 | AR27: =Y27-'Test-J0090 (Renesas)'!Y26 -> -0.1
C28: S11 | D28: 60 | E28: RitualDance | F28: R1 | G28: P01S11C1R1 | H28: 99.56 | I28: 32.2 | J28: 99.58 | K28: 15.4 | L28: 99.54 | M28: 16.8 | N28: 99.37 | O28: 23.2 | Q28: P01S11C2R1 | R28: 99.75 | S28: 15 | T28: 99.71 | U28: 8.4 | V28: 99.7 | W28: 8.7 | X28: 99.52 | Y28: 14.2 | Z28: P01S11C1R1 | AA28: =H28-'Test-J0090 (Renesas)'!H27 -> 0 | AB28: =I28-'Test-J0090 (Renesas)'!I27 -> 0 | AC28: =J28-'Test-J0090 (Renesas)'!J27 -> 0 | AD28: =K28-'Test-J0090 (Renesas)'!K27 -> -0.1 | AE28: =L28-'Test-J0090 (Renesas)'!L27 -> 0 | AF28: =M28-'Test-J0090 (Renesas)'!M27 -> -0.1 | AG28: =N28-'Test-J0090 (Renesas)'!N27 -> 0 | AH28: =O28-'Test-J0090 (Renesas)'!O27 -> 0 | AJ28: P01S11C2R1 | AK28: =R28-'Test-J0090 (Renesas)'!R27 -> 0.01 | AL28: =S28-'Test-J0090 (Renesas)'!S27 -> 0 | AM28: =T28-'Test-J0090 (Renesas)'!T27 -> 0 | AN28: =U28-'Test-J0090 (Renesas)'!U27 -> 0 | AO28: =V28-'Test-J0090 (Renesas)'!V27 -> 0 | AP28: =W28-'Test-J0090 (Renesas)'!W27 -> 0 | AQ28: =X28-'Test-J0090 (Renesas)'!X27 -> 0 | AR28: =Y28-'Test-J0090 (Renesas)'!Y27 -> -0.1
D29: =D28 -> 60 | E29: RitualDance | F29: R2 | G29: P01S11C1R2 | H29: 99.57 | I29: 32.3 | J29: 99.58 | K29: 15.5 | L29: 99.55 | M29: 16.7 | N29: 99.37 | O29: 23.4 | Q29: P01S11C2R2 | R29: 99.74 | S29: 15.5 | T29: 99.71 | U29: 8.7 | V29: 99.7 | W29: 8.9 | X29: 99.52 | Y29: 14.3 | Z29: P01S11C1R2 | AA29: =H29-'Test-J0090 (Renesas)'!H28 -> 0 | AB29: =I29-'Test-J0090 (Renesas)'!I28 -> 0 | AC29: =J29-'Test-J0090 (Renesas)'!J28 -> 0 | AD29: =K29-'Test-J0090 (Renesas)'!K28 -> 0 | AE29: =L29-'Test-J0090 (Renesas)'!L28 -> 0 | AF29: =M29-'Test-J0090 (Renesas)'!M28 -> 0 | AG29: =N29-'Test-J0090 (Renesas)'!N28 -> 0 | AH29: =O29-'Test-J0090 (Renesas)'!O28 -> 0 | AJ29: P01S11C2R2 | AK29: =R29-'Test-J0090 (Renesas)'!R28 -> 0 | AL29: =S29-'Test-J0090 (Renesas)'!S28 -> 0.1 | AM29: =T29-'Test-J0090 (Renesas)'!T28 -> 0 | AN29: =U29-'Test-J0090 (Renesas)'!U28 -> 0 | AO29: =V29-'Test-J0090 (Renesas)'!V28 -> 0 | AP29: =W29-'Test-J0090 (Renesas)'!W28 -> 0 | AQ29: =X29-'Test-J0090 (Renesas)'!X28 -> -0.01 | AR29: =Y29-'Test-J0090 (Renesas)'!Y28 -> 0
D30: =D29 -> 60 | E30: RitualDance | F30: R3 | G30: P01S11C1R3 | H30: 99.57 | I30: 32.8 | J30: 99.59 | K30: 15.5 | L30: 99.56 | M30: 16.6 | N30: 99.37 | O30: 23.7 | Q30: P01S11C2R3 | R30: 99.75 | S30: 15.9 | T30: 99.72 | U30: 8.9 | V30: 99.71 | W30: 9.1 | X30: 99.54 | Y30: 14.5 | Z30: P01S11C1R3 | AA30: =H30-'Test-J0090 (Renesas)'!H29 -> 0 | AB30: =I30-'Test-J0090 (Renesas)'!I29 -> 0 | AC30: =J30-'Test-J0090 (Renesas)'!J29 -> 0 | AD30: =K30-'Test-J0090 (Renesas)'!K29 -> 0 | AE30: =L30-'Test-J0090 (Renesas)'!L29 -> 0 | AF30: =M30-'Test-J0090 (Renesas)'!M29 -> 0 | AG30: =N30-'Test-J0090 (Renesas)'!N29 -> 0 | AH30: =O30-'Test-J0090 (Renesas)'!O29 -> 0 | AJ30: P01S11C2R3 | AK30: =R30-'Test-J0090 (Renesas)'!R29 -> 0 | AL30: =S30-'Test-J0090 (Renesas)'!S29 -> 0.2 | AM30: =T30-'Test-J0090 (Renesas)'!T29 -> 0 | AN30: =U30-'Test-J0090 (Renesas)'!U29 -> 0 | AO30: =V30-'Test-J0090 (Renesas)'!V29 -> 0 | AP30: =W30-'Test-J0090 (Renesas)'!W29 -> 0 | AQ30: =X30-'Test-J0090 (Renesas)'!X29 -> 0 | AR30: =Y30-'Test-J0090 (Renesas)'!Y29 -> 0.1
D31: =D30 -> 60 | E31: RitualDance | F31: R4 | G31: P01S11C1R4 | H31: 99.56 | I31: 33.9 | J31: 99.59 | K31: 15.8 | L31: 99.56 | M31: 16.8 | N31: 99.37 | O31: 24.5 | Q31: P01S11C2R4 | R31: 99.75 | S31: 16.8 | T31: 99.72 | U31: 9.2 | V31: 99.71 | W31: 9.5 | X31: 99.54 | Y31: 15 | Z31: P01S11C1R4 | AA31: =H31-'Test-J0090 (Renesas)'!H30 -> 0 | AB31: =I31-'Test-J0090 (Renesas)'!I30 -> 0 | AC31: =J31-'Test-J0090 (Renesas)'!J30 -> 0 | AD31: =K31-'Test-J0090 (Renesas)'!K30 -> -0.1 | AE31: =L31-'Test-J0090 (Renesas)'!L30 -> 0 | AF31: =M31-'Test-J0090 (Renesas)'!M30 -> -0.1 | AG31: =N31-'Test-J0090 (Renesas)'!N30 -> 0 | AH31: =O31-'Test-J0090 (Renesas)'!O30 -> 0 | AJ31: P01S11C2R4 | AK31: =R31-'Test-J0090 (Renesas)'!R30 -> 0 | AL31: =S31-'Test-J0090 (Renesas)'!S30 -> 0.1 | AM31: =T31-'Test-J0090 (Renesas)'!T30 -> 0 | AN31: =U31-'Test-J0090 (Renesas)'!U30 -> 0 | AO31: =V31-'Test-J0090 (Renesas)'!V30 -> 0 | AP31: =W31-'Test-J0090 (Renesas)'!W30 -> 0 | AQ31: =X31-'Test-J0090 (Renesas)'!X30 -> -0.01 | AR31: =Y31-'Test-J0090 (Renesas)'!Y30 -> 0.1
C32: S12 | D32: 60 | E32: MarketPlace | F32: R1 | G32: P01S12C1R1 | H32: 99.55 | I32: 35 | J32: 99.57 | K32: 16.7 | L32: 99.52 | M32: 18.5 | N32: 99.35 | O32: 25.3 | Q32: P01S12C2R1 | R32: 99.76 | S32: 15 | T32: 99.74 | U32: 8.2 | V32: 99.72 | W32: 8.6 | X32: 99.52 | Y32: 15.1 | Z32: P01S12C1R1 | AA32: =H32-'Test-J0090 (Renesas)'!H31 -> 0 | AB32: =I32-'Test-J0090 (Renesas)'!I31 -> 0 | AC32: =J32-'Test-J0090 (Renesas)'!J31 -> 0 | AD32: =K32-'Test-J0090 (Renesas)'!K31 -> 0 | AE32: =L32-'Test-J0090 (Renesas)'!L31 -> 0 | AF32: =M32-'Test-J0090 (Renesas)'!M31 -> 0.1 | AG32: =N32-'Test-J0090 (Renesas)'!N31 -> 0 | AH32: =O32-'Test-J0090 (Renesas)'!O31 -> 0.1 | AJ32: P01S12C2R1 | AK32: =R32-'Test-J0090 (Renesas)'!R31 -> 0 | AL32: =S32-'Test-J0090 (Renesas)'!S31 -> -0.1 | AM32: =T32-'Test-J0090 (Renesas)'!T31 -> 0 | AN32: =U32-'Test-J0090 (Renesas)'!U31 -> 0 | AO32: =V32-'Test-J0090 (Renesas)'!V31 -> 0 | AP32: =W32-'Test-J0090 (Renesas)'!W31 -> 0 | AQ32: =X32-'Test-J0090 (Renesas)'!X31 -> 0.01 | AR32: =Y32-'Test-J0090 (Renesas)'!Y31 -> -0.1
D33: =D32 -> 60 | E33: MarketPlace | F33: R2 | G33: P01S12C1R2 | H33: 99.56 | I33: 35.4 | J33: 99.58 | K33: 16.9 | L33: 99.53 | M33: 18.6 | N33: 99.36 | O33: 25.6 | Q33: P01S12C2R2 | R33: 99.76 | S33: 15.5 | T33: 99.74 | U33: 8.4 | V33: 99.73 | W33: 8.8 | X33: 99.53 | Y33: 15.3 | Z33: P01S12C1R2 | AA33: =H33-'Test-J0090 (Renesas)'!H32 -> 0.01 | AB33: =I33-'Test-J0090 (Renesas)'!I32 -> 0 | AC33: =J33-'Test-J0090 (Renesas)'!J32 -> 0 | AD33: =K33-'Test-J0090 (Renesas)'!K32 -> 0.1 | AE33: =L33-'Test-J0090 (Renesas)'!L32 -> 0 | AF33: =M33-'Test-J0090 (Renesas)'!M32 -> 0.1 | AG33: =N33-'Test-J0090 (Renesas)'!N32 -> 0 | AH33: =O33-'Test-J0090 (Renesas)'!O32 -> 0 | AJ33: P01S12C2R2 | AK33: =R33-'Test-J0090 (Renesas)'!R32 -> 0 | AL33: =S33-'Test-J0090 (Renesas)'!S32 -> 0 | AM33: =T33-'Test-J0090 (Renesas)'!T32 -> 0 | AN33: =U33-'Test-J0090 (Renesas)'!U32 -> 0 | AO33: =V33-'Test-J0090 (Renesas)'!V32 -> 0 | AP33: =W33-'Test-J0090 (Renesas)'!W32 -> 0 | AQ33: =X33-'Test-J0090 (Renesas)'!X32 -> 0 | AR33: =Y33-'Test-J0090 (Renesas)'!Y32 -> -0.1
D34: =D33 -> 60 | E34: MarketPlace | F34: R3 | G34: P01S12C1R3 | H34: 99.56 | I34: 36 | J34: 99.58 | K34: 17.1 | L34: 99.54 | M34: 18.7 | N34: 99.37 | O34: 26 | Q34: P01S12C2R3 | R34: 99.77 | S34: 15.9 | T34: 99.75 | U34: 8.6 | V34: 99.74 | W34: 8.9 | X34: 99.54 | Y34: 15.6 | Z34: P01S12C1R3 | AA34: =H34-'Test-J0090 (Renesas)'!H33 -> 0 | AB34: =I34-'Test-J0090 (Renesas)'!I33 -> 0.1 | AC34: =J34-'Test-J0090 (Renesas)'!J33 -> 0 | AD34: =K34-'Test-J0090 (Renesas)'!K33 -> 0 | AE34: =L34-'Test-J0090 (Renesas)'!L33 -> 0 | AF34: =M34-'Test-J0090 (Renesas)'!M33 -> 0 | AG34: =N34-'Test-J0090 (Renesas)'!N33 -> 0 | AH34: =O34-'Test-J0090 (Renesas)'!O33 -> 0.1 | AJ34: P01S12C2R3 | AK34: =R34-'Test-J0090 (Renesas)'!R33 -> 0 | AL34: =S34-'Test-J0090 (Renesas)'!S33 -> 0.1 | AM34: =T34-'Test-J0090 (Renesas)'!T33 -> 0 | AN34: =U34-'Test-J0090 (Renesas)'!U33 -> 0 | AO34: =V34-'Test-J0090 (Renesas)'!V33 -> 0 | AP34: =W34-'Test-J0090 (Renesas)'!W33 -> 0 | AQ34: =X34-'Test-J0090 (Renesas)'!X33 -> 0 | AR34: =Y34-'Test-J0090 (Renesas)'!Y33 -> 0.1
D35: =D34 -> 60 | E35: MarketPlace | F35: R4 | G35: P01S12C1R4 | H35: 99.56 | I35: 36.8 | J35: 99.59 | K35: 17.4 | L35: 99.55 | M35: 18.9 | N35: 99.37 | O35: 26.6 | Q35: P01S12C2R4 | R35: 99.77 | S35: 16.4 | T35: 99.75 | U35: 8.8 | V35: 99.74 | W35: 9.2 | X35: 99.55 | Y35: 15.9 | Z35: P01S12C1R4 | AA35: =H35-'Test-J0090 (Renesas)'!H34 -> 0 | AB35: =I35-'Test-J0090 (Renesas)'!I34 -> 0 | AC35: =J35-'Test-J0090 (Renesas)'!J34 -> 0 | AD35: =K35-'Test-J0090 (Renesas)'!K34 -> 0.1 | AE35: =L35-'Test-J0090 (Renesas)'!L34 -> 0 | AF35: =M35-'Test-J0090 (Renesas)'!M34 -> 0.1 | AG35: =N35-'Test-J0090 (Renesas)'!N34 -> 0 | AH35: =O35-'Test-J0090 (Renesas)'!O34 -> 0.1 | AJ35: P01S12C2R4 | AK35: =R35-'Test-J0090 (Renesas)'!R34 -> 0 | AL35: =S35-'Test-J0090 (Renesas)'!S34 -> 0 | AM35: =T35-'Test-J0090 (Renesas)'!T34 -> 0 | AN35: =U35-'Test-J0090 (Renesas)'!U34 -> 0 | AO35: =V35-'Test-J0090 (Renesas)'!V34 -> 0 | AP35: =W35-'Test-J0090 (Renesas)'!W34 -> 0 | AQ35: =X35-'Test-J0090 (Renesas)'!X34 -> 0 | AR35: =Y35-'Test-J0090 (Renesas)'!Y34 -> 0
C36: S13 | D36: 50 | E36: BasketBallDrive | F36: R1 | G36: P01S13C1R1 | H36: 99.56 | I36: 36.7 | J36: 99.58 | K36: 17.5 | L36: 99.54 | M36: 19 | N36: 99.37 | O36: 26.3 | Q36: P01S13C2R1 | R36: 99.76 | S36: 15.7 | T36: 99.73 | U36: 8.6 | V36: 99.72 | W36: 9 | X36: 99.53 | Y36: 15.2 | Z36: P01S13C1R1 | AA36: =H36-'Test-J0090 (Renesas)'!H35 -> 0 | AB36: =I36-'Test-J0090 (Renesas)'!I35 -> 0 | AC36: =J36-'Test-J0090 (Renesas)'!J35 -> 0 | AD36: =K36-'Test-J0090 (Renesas)'!K35 -> -0.1 | AE36: =L36-'Test-J0090 (Renesas)'!L35 -> 0 | AF36: =M36-'Test-J0090 (Renesas)'!M35 -> -0.1 | AG36: =N36-'Test-J0090 (Renesas)'!N35 -> 0 | AH36: =O36-'Test-J0090 (Renesas)'!O35 -> 0 | AJ36: P01S13C2R1 | AK36: =R36-'Test-J0090 (Renesas)'!R35 -> 0 | AL36: =S36-'Test-J0090 (Renesas)'!S35 -> 0 | AM36: =T36-'Test-J0090 (Renesas)'!T35 -> 0 | AN36: =U36-'Test-J0090 (Renesas)'!U35 -> 0 | AO36: =V36-'Test-J0090 (Renesas)'!V35 -> 0 | AP36: =W36-'Test-J0090 (Renesas)'!W35 -> 0 | AQ36: =X36-'Test-J0090 (Renesas)'!X35 -> 0 | AR36: =Y36-'Test-J0090 (Renesas)'!Y35 -> 0
D37: =D36 -> 50 | E37: BasketBallDrive | F37: R2 | G37: P01S13C1R2 | H37: 99.56 | I37: 36.9 | J37: 99.58 | K37: 17.5 | L37: 99.55 | M37: 18.9 | N37: 99.37 | O37: 26.5 | Q37: P01S13C2R2 | R37: 99.76 | S37: 16.7 | T37: 99.74 | U37: 9 | V37: 99.73 | W37: 9.4 | X37: 99.54 | Y37: 15.9 | Z37: P01S13C1R2 | AA37: =H37-'Test-J0090 (Renesas)'!H36 -> 0 | AB37: =I37-'Test-J0090 (Renesas)'!I36 -> 0 | AC37: =J37-'Test-J0090 (Renesas)'!J36 -> 0 | AD37: =K37-'Test-J0090 (Renesas)'!K36 -> 0 | AE37: =L37-'Test-J0090 (Renesas)'!L36 -> 0 | AF37: =M37-'Test-J0090 (Renesas)'!M36 -> -0.1 | AG37: =N37-'Test-J0090 (Renesas)'!N36 -> 0 | AH37: =O37-'Test-J0090 (Renesas)'!O36 -> 0 | AJ37: P01S13C2R2 | AK37: =R37-'Test-J0090 (Renesas)'!R36 -> 0 | AL37: =S37-'Test-J0090 (Renesas)'!S36 -> 0.1 | AM37: =T37-'Test-J0090 (Renesas)'!T36 -> 0 | AN37: =U37-'Test-J0090 (Renesas)'!U36 -> 0 | AO37: =V37-'Test-J0090 (Renesas)'!V36 -> 0 | AP37: =W37-'Test-J0090 (Renesas)'!W36 -> 0.1 | AQ37: =X37-'Test-J0090 (Renesas)'!X36 -> 0 | AR37: =Y37-'Test-J0090 (Renesas)'!Y36 -> 0.1
D38: =D37 -> 50 | E38: BasketBallDrive | F38: R3 | G38: P01S13C1R3 | H38: 99.56 | I38: 37.5 | J38: 99.58 | K38: 17.7 | L38: 99.55 | M38: 19 | N38: 99.37 | O38: 26.9 | Q38: P01S13C2R3 | R38: 99.75 | S38: 17.9 | T38: 99.73 | U38: 9.5 | V38: 99.73 | W38: 9.9 | X38: 99.54 | Y38: 16.5 | Z38: P01S13C1R3 | AA38: =H38-'Test-J0090 (Renesas)'!H37 -> 0 | AB38: =I38-'Test-J0090 (Renesas)'!I37 -> 0 | AC38: =J38-'Test-J0090 (Renesas)'!J37 -> 0 | AD38: =K38-'Test-J0090 (Renesas)'!K37 -> 0.1 | AE38: =L38-'Test-J0090 (Renesas)'!L37 -> 0 | AF38: =M38-'Test-J0090 (Renesas)'!M37 -> 0.1 | AG38: =N38-'Test-J0090 (Renesas)'!N37 -> 0 | AH38: =O38-'Test-J0090 (Renesas)'!O37 -> 0 | AJ38: P01S13C2R3 | AK38: =R38-'Test-J0090 (Renesas)'!R37 -> 0 | AL38: =S38-'Test-J0090 (Renesas)'!S37 -> 0.1 | AM38: =T38-'Test-J0090 (Renesas)'!T37 -> 0 | AN38: =U38-'Test-J0090 (Renesas)'!U37 -> -0.1 | AO38: =V38-'Test-J0090 (Renesas)'!V37 -> 0 | AP38: =W38-'Test-J0090 (Renesas)'!W37 -> 0 | AQ38: =X38-'Test-J0090 (Renesas)'!X37 -> 0 | AR38: =Y38-'Test-J0090 (Renesas)'!Y37 -> 0.1
D39: =D38 -> 50 | E39: BasketBallDrive | F39: R4 | G39: P01S13C1R4 | H39: 99.55 | I39: 38.4 | J39: 99.58 | K39: 17.8 | L39: 99.55 | M39: 19 | N39: 99.35 | O39: 27.6 | Q39: P01S13C2R4 | R39: 99.74 | S39: 19.4 | T39: 99.73 | U39: 10.2 | V39: 99.72 | W39: 10.5 | X39: 99.54 | Y39: 17.3 | Z39: P01S13C1R4 | AA39: =H39-'Test-J0090 (Renesas)'!H38 -> 0 | AB39: =I39-'Test-J0090 (Renesas)'!I38 -> -0.1 | AC39: =J39-'Test-J0090 (Renesas)'!J38 -> 0 | AD39: =K39-'Test-J0090 (Renesas)'!K38 -> -0.1 | AE39: =L39-'Test-J0090 (Renesas)'!L38 -> 0 | AF39: =M39-'Test-J0090 (Renesas)'!M38 -> -0.1 | AG39: =N39-'Test-J0090 (Renesas)'!N38 -> 0 | AH39: =O39-'Test-J0090 (Renesas)'!O38 -> 0 | AJ39: P01S13C2R4 | AK39: =R39-'Test-J0090 (Renesas)'!R38 -> 0 | AL39: =S39-'Test-J0090 (Renesas)'!S38 -> 0 | AM39: =T39-'Test-J0090 (Renesas)'!T38 -> 0 | AN39: =U39-'Test-J0090 (Renesas)'!U38 -> 0 | AO39: =V39-'Test-J0090 (Renesas)'!V38 -> 0 | AP39: =W39-'Test-J0090 (Renesas)'!W38 -> 0 | AQ39: =X39-'Test-J0090 (Renesas)'!X38 -> 0 | AR39: =Y39-'Test-J0090 (Renesas)'!Y38 -> -0.1
C40: S14 | D40: 50 | E40: Cactus | F40: R1 | G40: P01S14C1R1 | H40: 99.22 | I40: 34.9 | J40: 99.28 | K40: 16 | L40: 99.2 | M40: 17.7 | N40: 98.87 | O40: 25.2 | Q40: P01S14C2R1 | R40: 99.59 | S40: 13 | T40: 99.52 | U40: 7.7 | V40: 99.5 | W40: 8 | X40: 99.2 | Y40: 12.8 | Z40: P01S14C1R1 | AA40: =H40-'Test-J0090 (Renesas)'!H39 -> 0.01 | AB40: =I40-'Test-J0090 (Renesas)'!I39 -> -0.1 | AC40: =J40-'Test-J0090 (Renesas)'!J39 -> 0 | AD40: =K40-'Test-J0090 (Renesas)'!K39 -> 0 | AE40: =L40-'Test-J0090 (Renesas)'!L39 -> 0 | AF40: =M40-'Test-J0090 (Renesas)'!M39 -> 0 | AG40: =N40-'Test-J0090 (Renesas)'!N39 -> 0 | AH40: =O40-'Test-J0090 (Renesas)'!O39 -> 0 | AJ40: P01S14C2R1 | AK40: =R40-'Test-J0090 (Renesas)'!R39 -> 0 | AL40: =S40-'Test-J0090 (Renesas)'!S39 -> 0.1 | AM40: =T40-'Test-J0090 (Renesas)'!T39 -> 0 | AN40: =U40-'Test-J0090 (Renesas)'!U39 -> 0 | AO40: =V40-'Test-J0090 (Renesas)'!V39 -> 0 | AP40: =W40-'Test-J0090 (Renesas)'!W39 -> 0 | AQ40: =X40-'Test-J0090 (Renesas)'!X39 -> 0 | AR40: =Y40-'Test-J0090 (Renesas)'!Y39 -> 0.1
D41: =D40 -> 50 | E41: Cactus | F41: R2 | G41: P01S14C1R2 | H41: 99.24 | I41: 35 | J41: 99.31 | K41: 16 | L41: 99.24 | M41: 17.5 | N41: 98.9 | O41: 25.3 | Q41: P01S14C2R2 | R41: 99.6 | S41: 13.6 | T41: 99.52 | U41: 8 | V41: 99.51 | W41: 8.3 | X41: 99.23 | Y41: 13 | Z41: P01S14C1R2 | AA41: =H41-'Test-J0090 (Renesas)'!H40 -> 0 | AB41: =I41-'Test-J0090 (Renesas)'!I40 -> 0 | AC41: =J41-'Test-J0090 (Renesas)'!J40 -> 0 | AD41: =K41-'Test-J0090 (Renesas)'!K40 -> 0.1 | AE41: =L41-'Test-J0090 (Renesas)'!L40 -> 0 | AF41: =M41-'Test-J0090 (Renesas)'!M40 -> 0 | AG41: =N41-'Test-J0090 (Renesas)'!N40 -> 0 | AH41: =O41-'Test-J0090 (Renesas)'!O40 -> 0 | AJ41: P01S14C2R2 | AK41: =R41-'Test-J0090 (Renesas)'!R40 -> 0.01 | AL41: =S41-'Test-J0090 (Renesas)'!S40 -> 0 | AM41: =T41-'Test-J0090 (Renesas)'!T40 -> 0 | AN41: =U41-'Test-J0090 (Renesas)'!U40 -> 0 | AO41: =V41-'Test-J0090 (Renesas)'!V40 -> 0.01 | AP41: =W41-'Test-J0090 (Renesas)'!W40 -> 0 | AQ41: =X41-'Test-J0090 (Renesas)'!X40 -> 0 | AR41: =Y41-'Test-J0090 (Renesas)'!Y40 -> 0
D42: =D41 -> 50 | E42: Cactus | F42: R3 | G42: P01S14C1R3 | H42: 99.26 | I42: 35.4 | J42: 99.34 | K42: 15.9 | L42: 99.28 | M42: 17.3 | N42: 98.93 | O42: 25.7 | Q42: P01S14C2R3 | R42: 99.61 | S42: 14.2 | T42: 99.54 | U42: 8.3 | V42: 99.53 | W42: 8.6 | X42: 99.27 | Y42: 13.3 | Z42: P01S14C1R3 | AA42: =H42-'Test-J0090 (Renesas)'!H41 -> 0 | AB42: =I42-'Test-J0090 (Renesas)'!I41 -> 0 | AC42: =J42-'Test-J0090 (Renesas)'!J41 -> 0 | AD42: =K42-'Test-J0090 (Renesas)'!K41 -> 0.1 | AE42: =L42-'Test-J0090 (Renesas)'!L41 -> 0 | AF42: =M42-'Test-J0090 (Renesas)'!M41 -> 0 | AG42: =N42-'Test-J0090 (Renesas)'!N41 -> 0 | AH42: =O42-'Test-J0090 (Renesas)'!O41 -> 0 | AJ42: P01S14C2R3 | AK42: =R42-'Test-J0090 (Renesas)'!R41 -> 0 | AL42: =S42-'Test-J0090 (Renesas)'!S41 -> -0.1 | AM42: =T42-'Test-J0090 (Renesas)'!T41 -> 0 | AN42: =U42-'Test-J0090 (Renesas)'!U41 -> -0.1 | AO42: =V42-'Test-J0090 (Renesas)'!V41 -> 0 | AP42: =W42-'Test-J0090 (Renesas)'!W41 -> 0 | AQ42: =X42-'Test-J0090 (Renesas)'!X41 -> 0 | AR42: =Y42-'Test-J0090 (Renesas)'!Y41 -> 0
D43: =D42 -> 50 | E43: Cactus | F43: R4 | G43: P01S14C1R4 | H43: 99.27 | I43: 35.7 | J43: 99.35 | K43: 15.9 | L43: 99.3 | M43: 17.1 | N43: 98.93 | O43: 26 | Q43: P01S14C2R4 | R43: 99.6 | S43: 15.3 | T43: 99.54 | U43: 8.8 | V43: 99.53 | W43: 9.1 | X43: 99.28 | Y43: 13.8 | Z43: P01S14C1R4 | AA43: =H43-'Test-J0090 (Renesas)'!H42 -> 0 | AB43: =I43-'Test-J0090 (Renesas)'!I42 -> 0 | AC43: =J43-'Test-J0090 (Renesas)'!J42 -> 0 | AD43: =K43-'Test-J0090 (Renesas)'!K42 -> 0 | AE43: =L43-'Test-J0090 (Renesas)'!L42 -> 0 | AF43: =M43-'Test-J0090 (Renesas)'!M42 -> 0 | AG43: =N43-'Test-J0090 (Renesas)'!N42 -> 0 | AH43: =O43-'Test-J0090 (Renesas)'!O42 -> 0 | AJ43: P01S14C2R4 | AK43: =R43-'Test-J0090 (Renesas)'!R42 -> 0 | AL43: =S43-'Test-J0090 (Renesas)'!S42 -> -0.1 | AM43: =T43-'Test-J0090 (Renesas)'!T42 -> 0 | AN43: =U43-'Test-J0090 (Renesas)'!U42 -> 0 | AO43: =V43-'Test-J0090 (Renesas)'!V42 -> 0 | AP43: =W43-'Test-J0090 (Renesas)'!W42 -> 0 | AQ43: =X43-'Test-J0090 (Renesas)'!X42 -> 0 | AR43: =Y43-'Test-J0090 (Renesas)'!Y42 -> 0
