Workbook

Sheet evolution
C1: ECM group Off vs ECM anchor | L1: ECM group Off vs VTM11ECMxx anchor
B2: G1 off | C2: Inter template matching tools | T2: G2 off | U2: Tools interleaving the list derivation with the intra prediction/reconstruction process | AL2: G3 off | AM2: Intra and IBC template matching (with search) related tools | BD2: G4 off | BE2: Tools requiring more processing on the neighboring reconstructed samples than VVC | BV2: G5 off | CN2: G1-5 off
B3: AI | C3: Y | D3: U | E3: V | F3: VMAF | G3: VMAF-NEG | H3: EncT | I3: DecT | J3: mPeakR | K3: mHWMR | L3: Y | M3: U | N3: V | O3: VMAF | P3: VMAF-NEG | Q3: EncT | R3: DecT | T3: AI | U3: Y | V3: U | W3: V | X3: VMAF | Y3: VMAF-NEG | Z3: EncT | AA3: DecT | AB3: mPeakR | AC3: mHWMR | AD3: Y | AE3: U | AF3: V | AG3: VMAF | AH3: VMAF-NEG | AI3: EncT | AJ3: DecT | AL3: AI | AM3: Y | AN3: U | AO3: V | AP3: VMAF | AQ3: VMAF-NEG | AR3: EncT | AS3: DecT | AT3: mPeakR | AU3: mHWMR | AV3: Y | AW3: U | AX3: V | AY3: VMAF | AZ3: VMAF-NEG | BA3: EncT | BB3: DecT | BD3: AI | BE3: Y | BF3: U | BG3: V | BH3: VMAF | BI3: VMAF-NEG | BJ3: EncT | BK3: DecT | BL3: mPeakR | BM3: mHWMR | BN3: Y | BO3: U | BP3: V | BQ3: VMAF | BR3: VMAF-NEG | BS3: EncT | BT3: DecT | BV3: AI | BW3: Y | BX3: U | BY3: V | BZ3: VMAF | CA3: VMAF-NEG | CB3: EncT | CC3: DecT | CD3: mPeakR | CE3: mHWMR | CF3: Y | CG3: U | CH3: V | CI3: VMAF | CJ3: VMAF-NEG | CK3: EncT | CL3: DecT | CN3: AI | CO3: Y | CP3: U | CQ3: V | CR3: VMAF | CS3: VMAF-NEG | CT3: EncT | CU3: DecT | CV3: mPeakR | CW3: mHWMR | CX3: Y | CY3: U | CZ3: V | DA3: VMAF | DB3: VMAF-NEG | DC3: EncT | DD3: DecT
B4: ecm-8.1 | C4: -5.7744925e-05 | D4: -5.3872107e-05 | E4: -5.4108637e-05 | H4: 1.0019868 | I4: 1.0015686 | L4: -0.09869249 | M4: -0.19241129 | N4: -0.20226462 | O4: -0.097313841 | P4: -0.20249014 | T4: =B4 -> ecm-8.1 | U4: 0.004737227 | V4: 0.0061375361 | W4: 0.0067717637 | Z4: 0.83107587 | AA4: 0.89405742 | AD4: -0.094373755 | AE4: -0.18761418 | AF4: -0.1968426 | AG4: -0.092930407 | AH4: -0.19710999 | AL4: =T4 -> ecm-8.1 | AM4: 0.010927195 | AN4: 0.010081224 | AO4: 0.010865529 | AR4: 0.83554038 | AS4: 0.86341999 | AV4: -0.088705495 | AW4: -0.18411002 | AX4: -0.1933106 | AY4: -0.08744681 | AZ4: -0.19356111 | BD4: =AL4 -> ecm-8.1 | BE4: 0.013134249 | BF4: 0.040671164 | BG4: 0.037596325 | BJ4: 0.87435323 | BK4: 0.97195984 | BN4: -0.087103168 | BO4: -0.16168974 | BP4: -0.17410422 | BQ4: -0.085662345 | BR4: -0.17419359 | BV4: =BD4 -> ecm-8.1 | CN4: =BV4 -> ecm-8.1 | CO4: 0.03181028 | CP4: 0.059521645 | CQ4: 0.057593973 | CT4: 0.58158145 | CU4: 0.71179224 | CX4: -0.070161397 | CY4: -0.14637636 | CZ4: -0.15785327 | DA4: -0.068897387 | DB4: -0.15800314
B5: ecm-9.0 | C5: -5.902199e-05 | D5: -5.5237503e-05 | E5: -5.5522798e-05 | H5: 0.99907534 | I5: 0.99839192 | J5: 0.99994704 | K5: 1.0004992 | L5: -0.11611936 | M5: -0.2277375 | N5: -0.23785969 | Q5: 7.1000786 | R5: 4.5862958 | T5: =B5 -> ecm-9.0 | U5: 0.0048076427 | V5: 0.0065000798 | W5: 0.0067734689 | Z5: 0.89129977 | AA5: 0.9471203 | AB5: 0.99961538 | AC5: 1.0196327 | AD5: -0.11175653 | AE5: -0.22264632 | AF5: -0.23242386 | AI5: 6.695412 | AJ5: 4.1897027 | AL5: =T5 -> ecm-9.0 | AM5: 0.017882873 | AN5: 0.031450259 | AO5: 0.034485708 | AP5: 0.017076202 | AQ5: 0.017824745 | AR5: 0.81703292 | AS5: 0.77949158 | AT5: 0.99983695 | AU5: 0.99953228 | AV5: -0.10018633 | AW5: -0.203902 | AX5: -0.21231492 | AY5: -0.098502285 | AZ5: -0.21240207 | BA5: 6.4205647 | BB5: 3.4572441 | BD5: =AL5 -> ecm-9.0 | BE5: 0.013587599 | BF5: 0.051837731 | BG5: 0.048579538 | BH5: 0.012380133 | BI5: 0.012169503 | BJ5: 0.87981788 | BK5: 0.98391937 | BL5: 0.99995171 | BM5: 0.99956052 | BN5: -0.10419132 | BO5: -0.18988643 | BP5: -0.20296625 | BQ5: -0.10218921 | BR5: -0.20295397 | BS5: 6.9139535 | BT5: 4.3639335 | BV5: =BD5 -> ecm-9.0 | CN5: =BV5 -> ecm-9.0 | CO5: 0.04040427 | CP5: 0.096043082 | CQ5: 0.095118724 | CR5: 0.037984093 | CS5: 0.038743982 | CT5: 0.58176787 | CU5: 0.67011604 | CV5: 0.99929648 | CW5: 0.99818761 | CX5: -0.08048682 | CY5: -0.15717336 | CZ5: -0.16849367 | DA5: -0.078719446 | DB5: -0.16862783 | DC5: 4.5717598 | DD5: 2.9721357
B6: ecm-10.0 | C6: -5.9765914e-05 | D6: -5.5873323e-05 | E6: -5.6240576e-05 | H6: 1.0005737 | I6: 1.0172442 | J6: 0.99980335 | K6: 1.0987763 | L6: -0.12496836 | M6: -0.23528044 | N6: -0.24633822 | Q6: 7.5716943 | R6: 4.6859064 | T6: =B6 -> ecm-10.0 | U6: 0.0048514406 | V6: 0.0073502317 | W6: 0.0073321391 | Z6: 0.88016277 | AA6: 0.94515889 | AB6: 0.99909533 | AD6: -0.12061578 | AE6: -0.2296334 | AF6: -0.24059819 | AG6: -0.1185964 | AH6: -0.24061139 | AI6: 7.1553195 | AJ6: 4.3479925 | AL6: =T6 -> ecm-10.0 | AM6: 0.018475127 | AN6: 0.033905362 | AO6: 0.036150241 | AP6: 0.018116951 | AQ6: 0.018801447 | AR6: 0.74191276 | AS6: 0.64954025 | AT6: 0.99957887 | AU6: 0.99929665 | AV6: -0.10887793 | AW6: -0.21120693 | AX6: -0.22061903 | AY6: -0.10713792 | AZ6: -0.22075953 | BA6: 6.5767781 | BB6: 3.0418077 | BD6: =AL6 -> ecm-10.0 | BE6: 0.013500632 | BF6: 0.055146713 | BG6: 0.051941009 | BH6: 0.013209084 | BI6: 0.012294904 | BJ6: 0.81278875 | BK6: 0.84147486 | BL6: 0.99965396 | BM6: 0.99966945 | BN6: -0.11339893 | BO6: -0.19682649 | BP6: -0.21038223 | BQ6: -0.11133194 | BR6: -0.21045738 | BS6: 7.2050671 | BT6: 3.9406406 | BV6: =BD6 -> ecm-10.0 | CN6: =BV6 -> ecm-10.0 | CO6: 0.040738561 | CP6: 0.099931165 | CQ6: 0.099302314 | CR6: 0.039272243 | CS6: 0.039824912 | CT6: 0.53863605 | CU6: 0.55453282 | CV6: 0.99889826 | CW6: 0.99694147 | CX6: -0.089623678 | CY6: -0.16423865 | CZ6: -0.17594001 | DA6: -0.08776529 | DB6: -0.17622211 | DC6: 4.7748063 | DD6: 2.5968864
B7: ecm-11.0 | C7: -4.5948306e-05 | D7: -4.3029544e-05 | E7: -4.3101812e-05 | F7: #VALUE! | G7: #VALUE! | H7: 1.0004336 | I7: 0.99936547 | J7: 1 | K7: 0.99997075 | L7: -0.12809789 | M7: -0.23731195 | N7: -0.2481768 | O7: -0.12585417 | P7: -0.24837846 | Q7: 7.6243582 | R7: 4.3321017 | T7: =B7 -> ecm-11.0 | U7: 0.0049099792 | V7: 0.0070881631 | W7: 0.0077258664 | X7: #VALUE! | Y7: #VALUE! | Z7: 0.90897529 | AA7: 0.95361091 | AB7: 1.0129449 | AC7: 0.99701239 | AD7: -0.12371135 | AE7: -0.2319155 | AF7: -0.24229917 | AG7: -0.12144375 | AH7: -0.24240228 | AI7: 6.9195907 | AJ7: 4.1322532 | AL7: =T7 -> ecm-11.0 | AM7: 0.019346063 | AN7: 0.034569874 | AO7: 0.037658928 | AP7: 0.022239034 | AQ7: 0.021849759 | AR7: 0.7861251 | AS7: 0.7731892 | AT7: 0.98446792 | AU7: 0.97848615 | AV7: -0.11132312 | AW7: -0.21286086 | AX7: -0.22163529 | AY7: -0.10933164 | AZ7: -0.22188447 | BA7: 6.1729861 | BB7: 2.824317 | BD7: =AL7 -> ecm-11.0 | BE7: 0.013656059 | BF7: 0.055772806 | BG7: 0.053068605 | BH7: 0.012061501 | BI7: 0.011884188 | BJ7: 0.86075555 | BK7: 0.9463238 | BL7: 1.0055824 | BM7: 1.004144 | BN7: -0.11645041 | BO7: -0.19864711 | BP7: -0.21169449 | BQ7: -0.11411881 | BR7: -0.21185675 | BS7: 6.7590159 | BT7: 3.4567456 | BV7: =BD7 -> ecm-11.0 | CN7: =BV7 -> ecm-11.0 | CO7: 0.041751204 | CP7: 0.10166358 | CQ7: 0.10175828 | CR7: 0.044651027 | CS7: 0.043771245 | CT7: 0.58419467 | CU7: 0.66786494 | CV7: 0.99019147 | CW7: 0.98647711 | CX7: -0.0919999 | CY7: -0.16520242 | CZ7: -0.17622499 | DA7: -0.089908471 | DB7: -0.17665468 | DC7: 4.5873431 | DD7: 2.439587
B8: ecm-12.0 | C8: -6.0163964e-05 | D8: -5.6215045e-05 | E8: -5.6472838e-05 | F8: #VALUE! | G8: #VALUE! | H8: 0.99946294 | I8: 0.99887391 | J8: 0.99909398 | K8: 1.0000142 | L8: -0.1366195 | M8: -0.25280263 | N8: -0.2660931 | O8: -0.13422227 | P8: -0.266078 | Q8: 7.9818467 | R8: 4.5764822 | T8: =B8 -> ecm-12.0 | U8: 0.0042170889 | V8: 0.0065081955 | W8: 0.0070548292 | X8: #VALUE! | Y8: #VALUE! | Z8: 0.92057639 | AA8: 0.95352851 | AB8: 1.0052541 | AC8: 0.99742458 | AD8: -0.13286732 | AE8: -0.24788096 | AF8: -0.26076247 | AG8: -0.13046755 | AH8: -0.26081962 | AI8: 7.874964 | AJ8: 4.3432268 | AL8: =T8 -> ecm-12.0 | AM8: 0.020925502 | AN8: 0.040677109 | AO8: 0.044965375 | AP8: 0.023670742 | AQ8: 0.023747925 | AR8: 0.74508946 | AS8: 0.77202469 | AT8: 0.9936648 | AU8: 0.9887476 | AV8: -0.11862643 | AW8: -0.22454096 | AX8: -0.23523184 | AY8: -0.11658471 | AZ8: -0.2353983 | BA8: 6.6971927 | BB8: 3.2057891 | BD8: =AL8 -> ecm-12.0 | BE8: 0.0085703072 | BF8: 0.035766156 | BG8: 0.034755949 | BH8: 0.0072454164 | BI8: 0.0075606851 | BJ8: 0.84893245 | BK8: 0.97104038 | BL8: 0.99362086 | BM8: 0.99001596 | BN8: -0.12929568 | BO8: -0.22836927 | BP8: -0.24233931 | BQ8: -0.12698317 | BR8: -0.24267958 | BS8: 7.6305794 | BT8: 4.0321905 | BV8: =BD8 -> ecm-12.0 | CN8: =BV8 -> ecm-12.0 | CO8: 0.048334257 | CP8: 0.1114113 | CQ8: 0.11386792 | CR8: 0.051220714 | CS8: 0.050731106 | CT8: 0.54968518 | CU8: 0.64680221 | CV8: 0.98569476 | CW8: 0.97816312 | CX8: -0.095287855 | CY8: -0.1752994 | CZ8: -0.18748803 | DA8: -0.093224352 | DB8: -0.18775675 | DC8: 4.9408129 | DD8: 2.6858098
B9: ecm-13.0 | C9: -6.1136927e-05 | D9: -5.734739e-05 | E9: -5.7487282e-05 | F9: #VALUE! | G9: #VALUE! | H9: 0.99834949 | I9: 0.99637595 | J9: 0.99830463 | K9: 1.0000174 | L9: -0.1522355 | M9: -0.17240727 | N9: -0.18999479 | O9: -0.15002138 | P9: -0.19103298 | Q9: 9.5023692 | R9: 4.6377766 | T9: =B9 -> ecm-13.0 | U9: 0.0030990448 | V9: 0.0053482018 | W9: 0.0057304873 | X9: #VALUE! | Y9: #VALUE! | Z9: 0.92211721 | AA9: 0.96070089 | AB9: 1.0033843 | AC9: 0.99792755 | AD9: -0.14951552 | AE9: -0.16813018 | AF9: -0.18524773 | AG9: -0.14731683 | AH9: -0.18642675 | AI9: 8.7767843 | AJ9: 4.4717218 | AL9: =T9 -> ecm-13.0 | AM9: 0.021748487 | AN9: 0.042835783 | AO9: 0.047609413 | AP9: 0.024071192 | AQ9: 0.024414902 | AR9: 0.75028852 | AS9: 0.75850013 | AT9: 0.9933001 | AU9: 0.98806312 | AV9: -0.13383246 | AW9: -0.13989198 | AX9: -0.15464782 | AY9: -0.13196111 | AZ9: -0.15595561 | BA9: 6.5541427 | BB9: 3.0064125 | BD9: =AL9 -> ecm-13.0 | BE9: 0.01434227 | BF9: 0.057738679 | BG9: 0.058783405 | BH9: 0.011996215 | BI9: 0.011738128 | BJ9: 0.82560291 | BK9: 0.90550622 | BL9: 0.98639039 | BM9: 0.98011279 | BN9: -0.14041175 | BO9: -0.12951867 | BP9: -0.14705023 | BQ9: -0.13818403 | BR9: -0.14820997 | BS9: 7.2120514 | BT9: 3.58909 | BV9: =BD9 -> ecm-13.0 | CN9: =BV9 -> ecm-13.0 | CO9: 0.045515241 | CP9: 0.11009775 | CQ9: 0.11384845 | CR9: 0.046513955 | CS9: 0.04657563 | CT9: 0.53746776 | CU9: 0.60935008 | CV9: 0.99219628 | CW9: 0.98589127 | CX9: -0.11405404 | CY9: -0.089155202 | CZ9: -0.1052343 | DA9: -0.11220033 | DB9: -0.10667071 | DC9: 4.6950478 | DD9: 2.4152372
B10: ecm-14.0 | C10: -7.4893256e-05 | D10: -7.0320662e-05 | E10: -7.0540835e-05 | F10: #VALUE! | G10: #VALUE! | H10: 1.00261 | I10: 1.0040337 | J10: 1.0006116 | K10: 1.0001497 | L10: -0.15368909 | M10: -0.17990329 | N10: -0.19988112 | O10: -0.15158728 | P10: -0.20056768 | Q10: 9.711421 | R10: 5.3310378 | T10: =B10 -> ecm-14.0 | U10: 0.0027989266 | V10: 0.0044755664 | W10: 0.0054530307 | X10: #VALUE! | Y10: #VALUE! | Z10: 0.92728883 | AA10: 0.96544239 | AB10: 1.0215801 | AC10: 0.99763049 | AD10: -0.15121944 | AE10: -0.17625361 | AF10: -0.19541073 | AG10: -0.14911709 | AH10: -0.19619724 | AI10: 8.9818493 | AJ10: 5.1261326 | AL10: =T10 -> ecm-14.0 | AM10: 0.0223465 | AN10: 0.04307141 | AO10: 0.047923836 | AP10: 0.025167564 | AQ10: 0.025672005 | AR10: 0.74837753 | AS10: 0.7349387 | AT10: 1.0016436 | AU10: 1.0006112 | AV10: -0.13480107 | AW10: -0.14729689 | AX10: -0.16441465 | AY10: -0.13302478 | AZ10: -0.16536203 | BA10: 6.7367661 | BB10: 3.3824009 | BD10: =AL10 -> ecm-14.0 | BE10: 0.015189109 | BF10: 0.056460852 | BG10: 0.057294214 | BH10: 0.012396736 | BI10: 0.012340219 | BJ10: 0.81454073 | BK10: 0.87239361 | BL10: 0.99391585 | BM10: 0.99070638 | BN10: -0.14116817 | BO10: -0.13802817 | BP10: -0.15796003 | BQ10: -0.13905336 | BR10: -0.1587373 | BS10: 7.3323559 | BT10: 4.0150082 | BV10: =BD10 -> ecm-14.0 | CN10: =BV10 -> ecm-14.0 | CO10: 0.046467847 | CP10: 0.10827106 | CQ10: 0.11360547 | CR10: 0.047102711 | CS10: 0.047367718 | CT10: 0.5355767 | CU10: 0.58661558 | CV10: 1.0088135 | CW10: 1.0100145 | CX10: -0.11477325 | CY10: -0.098301862 | CZ10: -0.11561394 | DA10: -0.11307921 | DB10: -0.11664457 | DC10: 4.8211695 | DD10: 2.6997749
B11: ecm-15.0 | C11: -7.5370292e-05 | D11: -7.070321e-05 | E11: -7.0997464e-05 | F11: #VALUE! | G11: #VALUE! | H11: 1.0161121 | I11: 1.0134256 | J11: 1.0005965 | K11: 1.0004247 | L11: -0.16140527 | M11: -0.1865145 | N11: -0.20661256 | O11: -0.15915413 | P11: -0.20733048 | Q11: 19.267824 | R11: 12.17341 | T11: =B11 -> ecm-15.0 | U11: 0.0021505187 | V11: 0.004214565 | W11: 0.005444481 | X11: #VALUE! | Y11: #VALUE! | Z11: 0.92832271 | AA11: 0.95831183 | AB11: 0.99465337 | AC11: 0.99485442 | AD11: -0.15951507 | AE11: -0.1831594 | AF11: -0.20214304 | AG11: -0.15729428 | AH11: -0.20298584 | AI11: 9.9278469 | AJ11: 5.8511599 | AL11: =T11 -> ecm-15.0 | AM11: 0.020674488 | AN11: 0.043586321 | AO11: 0.047668764 | AP11: #VALUE! | AQ11: #VALUE! | AR11: 0.70845997 | AS11: 0.8159081 | AT11: 0.99707942 | AU11: 0.99932752 | AV11: -0.1441167 | AW11: -0.15417054 | AX11: -0.17170676 | AY11: -0.14225512 | AZ11: -0.17260432 | BA11: 7.1693023 | BB11: 4.8565184 | BD11: =AL11 -> ecm-15.0 | BE11: 0.015364133 | BF11: 0.062313876 | BG11: 0.063265394 | BH11: 0.012538533 | BI11: 0.012188947 | BJ11: 0.83679282 | BK11: 0.88609983 | BL11: 0.99509855 | BM11: 0.99298365 | BN11: -0.14882893 | BO11: -0.14063195 | BP11: -0.16025985 | BQ11: -0.14660139 | BR11: -0.16112544 | BS11: 7.6008383 | BT11: 4.3750418 | BV11: =BD11 -> ecm-15.0 | CN11: =BV11 -> ecm-15.0 | CO11: 0.043442221 | CP11: 0.11144983 | CQ11: 0.11675325 | CR11: 0.043047843 | CS11: 0.043479731 | CT11: 0.53426555 | CU11: 0.66369865 | CV11: 0.99732571 | CW11: 0.99574819 | CX11: -0.12539232 | CY11: -0.10349252 | CZ11: -0.1205655 | DA11: -0.12357439 | DB11: -0.12166583 | DC11: 4.852893 | DD11: 3.2769551
B12: ecm-16.0 | C12: -6.4807349e-05 | D12: -6.1503741e-05 | E12: -6.1883976e-05 | F12: #VALUE! | G12: #VALUE! | H12: 0.91556118 | I12: 1.031264 | J12: #DIV/0! | K12: #DIV/0! | L12: -0.16536199 | M12: -0.19170178 | N12: -0.21170345 | O12: -0.16309762 | P12: -0.2123253 | Q12: 10.927246 | R12: 6.417501 | T12: =B12 -> ecm-16.0 | U12: 0.0020627838 | V12: 0.0044148695 | W12: 0.0047218803 | X12: 0.0050812644 | Y12: 0.007243302 | Z12: 0.93565321 | AA12: 0.96498963 | AB12: 0.98610539 | AC12: 0.99513006 | AD12: -0.16355907 | AE12: -0.18827342 | AF12: -0.2078515 | AG12: -0.16126445 | AH12: -0.20865847 | AI12: 11.103907 | AJ12: 5.5243841 | AL12: =T12 -> ecm-16.0 | AM12: 0.02347671 | AN12: 0.045526365 | AO12: 0.050022832 | AP12: #VALUE! | AQ12: #VALUE! | AR12: 0.70371347 | AS12: 0.81026104 | AT12: 1.0009974 | AU12: 0.9998518 | AV12: -0.14584646 | AW12: -0.15796262 | AX12: -0.17519054 | AY12: -0.14399319 | AZ12: -0.17599194 | BA12: 8.0657421 | BB12: 4.9832742 | BD12: =AL12 -> ecm-16.0 | BE12: 0.014610495 | BF12: 0.064376424 | BG12: 0.065086358 | BH12: 0.012100291 | BI12: 0.01211637 | BJ12: 0.85347318 | BK12: 0.92050003 | BL12: 0.99661167 | BM12: 0.99408912 | BN12: -0.15348142 | BO12: -0.14461397 | BP12: -0.16448609 | BQ12: -0.15122397 | BR12: -0.16531169 | BS12: 8.2178095 | BT12: 4.6821304 | BV12: =BD12 -> ecm-16.0 | BW12: 0.048448646 | BX12: 0.044682279 | BY12: 0.046279011 | BZ12: #REF! | CA12: #REF! | CB12: 0.80262714 | CC12: 0.8663307 | CD12: 0.8677173 | CF12: -0.12500054 | CG12: -0.15662855 | CH12: -0.17590227 | CI12: #REF! | CJ12: #REF! | CK12: 7.7556827 | CL12: 4.7916709 | CN12: =BV12 -> ecm-16.0 | CO12: 0.11000646 | CP12: 0.17657983 | CQ12: 0.1849692 | CR12: 0.098574431 | CS12: 0.10175629 | CT12: 0.33112616 | CU12: 0.40214148 | CV12: 0.90818104 | CW12: 0.87015048 | CX12: -0.074109148 | CY12: -0.059012356 | CZ12: -0.07422027 | DA12: -0.073010981 | DB12: -0.075326867 | DC12: 3.7797231 | DD12: 2.007727
B13: ecm-17.0 | C13: -6.5127797e-05 | D13: -6.1789736e-05 | E13: -6.2172479e-05 | F13: #VALUE! | G13: #VALUE! | H13: 0.99375151 | I13: 1.0005639 | J13: 1.0061462 | K13: 1.035063 | L13: -0.16716228 | M13: -0.19879026 | N13: -0.21835018 | O13: -0.16487323 | P13: -0.219024 | Q13: 9.7758609 | R13: 6.2783944 | T13: =B13 -> ecm-17.0 | U13: 0.0020512471 | V13: 0.0044488986 | W13: 0.0048770431 | X13: #VALUE! | Y13: #VALUE! | Z13: 0.93033229 | AA13: 0.96217807 | AB13: 0.99589268 | AC13: 0.99548433 | AD13: -0.16537857 | AE13: -0.19528113 | AF13: -0.21449601 | AG13: -0.16307384 | AH13: -0.21524505 | AI13: 10.078191 | AJ13: 5.8104938 | AL13: =T13 -> ecm-17.0 | AM13: 0.024149387 | AN13: 0.047029271 | AO13: 0.051084313 | AP13: #VALUE! | AQ13: #VALUE! | AR13: 0.69804884 | AS13: 0.81513681 | AT13: 0.99897593 | AU13: 0.99934276 | AV13: -0.14716287 | AW13: -0.16454809 | AX13: -0.18168529 | AY13: -0.14528579 | AZ13: -0.18245854 | BA13: 7.3896939 | BB13: 4.8543965 | BD13: =AL13 -> ecm-17.0 | BE13: 0.012346819 | BF13: 0.050197433 | BG13: 0.050684793 | BH13: #VALUE! | BI13: #VALUE! | BJ13: 0.856768 | BK13: 0.93434783 | BL13: 0.99919951 | BM13: 0.99760665 | BN13: -0.15701663 | BO13: -0.16201878 | BP13: -0.18140554 | BQ13: -0.15481329 | BR13: -0.18232419 | BS13: 9.4866663 | BT13: 5.7952953 | BV13: =BD13 -> ecm-17.0 | BW13: 0.049550517 | BX13: 0.044035272 | BY13: 0.046937778 | BZ13: #REF! | CA13: #REF! | CB13: 0.80806245 | CC13: 0.87173919 | CD13: 0.86563128 | CE13: -0.12597797 | CF13: -0.12597797 | CG13: -0.16441485 | CH13: -0.18242093 | CI13: #REF! | CJ13: #REF! | CK13: 7.7471111 | CL13: 4.9067011 | CN13: =BV13 -> ecm-17.0 | CO13: 0.11274855 | CP13: 0.1946077 | CQ13: 0.20154991 | CR13: 0.10101509 | CS13: 0.10448201 | CT13: 0.36240392 | CU13: 0.37774687 | CV13: 0.9032588 | CW13: 0.86421196 | CX13: -0.07385051 | CY13: -0.054538009 | CZ13: -0.070496061 | DA13: -0.072773068 | DB13: -0.07170143 | DC13: 3.5370449 | DD13: 2.0116896
B15: RA | C15: Y | D15: U | E15: V | F15: VMAF | G15: VMAF-NEG | H15: EncT | I15: DecT | J15: mPeakR | K15: mHWMR | L15: Y | M15: U | N15: V | O15: VMAF | P15: VMAF-NEG | Q15: EncT | R15: DecT | T15: RA | U15: Y | V15: U | W15: V | X15: VMAF | Y15: VMAF-NEG | Z15: EncT | AA15: DecT | AB15: mPeakR | AC15: mHWMR | AD15: Y | AE15: U | AF15: V | AG15: VMAF | AH15: VMAF-NEG | AI15: EncT | AJ15: DecT | AL15: RA | AM15: Y | AN15: U | AO15: V | AP15: VMAF | AQ15: VMAF-NEG | AR15: EncT | AS15: DecT | AT15: mPeakR | AU15: mHWMR | AV15: Y | AW15: U | AX15: V | AY15: VMAF | AZ15: VMAF-NEG | BA15: EncT | BB15: DecT | BD15: RA | BE15: Y | BF15: U | BG15: V | BH15: VMAF | BI15: VMAF-NEG | BJ15: EncT | BK15: DecT | BL15: mPeakR | BM15: mHWMR | BN15: Y | BO15: U | BP15: V | BQ15: VMAF | BR15: VMAF-NEG | BS15: EncT | BT15: DecT | BV15: RA | BW15: Y | BX15: U | BY15: V | BZ15: VMAF | CA15: VMAF-NEG | CB15: EncT | CC15: DecT | CD15: mPeakR | CE15: mHWMR | CF15: Y | CG15: U | CH15: V | CI15: VMAF | CJ15: VMAF-NEG | CK15: EncT | CL15: DecT | CN15: RA | CO15: Y | CP15: U | CQ15: V | CR15: VMAF | CS15: VMAF-NEG | CT15: EncT | CU15: DecT | CV15: mPeakR | CW15: mHWMR | CX15: Y | CY15: U | CZ15: V | DA15: VMAF | DB15: VMAF-NEG | DC15: EncT | DD15: DecT
B16: =B4 -> ecm-8.1 | C16: 0.036953666 | D16: 0.039789639 | E16: 0.041832541 | H16: 0.8523361 | I16: 0.76872641 | L16: -0.16891746 | M16: -0.23597284 | N16: -0.24812835 | T16: =T4 -> ecm-8.1 | U16: 0.015510452 | V16: 0.010070511 | W16: 0.013203705 | Z16: 0.88020152 | AA16: 0.96164233 | AD16: -0.1861792 | AE16: -0.25752973 | AF16: -0.26893898 | AL16: =AL4 -> ecm-8.1 | AM16: 0.0047288184 | AN16: 0.0028475469 | AO16: 0.0057025133 | AR16: 0.95945068 | AS16: 0.98583847 | AV16: -0.19480444 | AW16: -0.26288013 | AX16: -0.27427364 | BD16: =BD4 -> ecm-8.1 | BE16: 0.0078182968 | BF16: 0.029050874 | BG16: 0.032237559 | BJ16: 0.93840646 | BK16: 0.99452448 | BN16: -0.1923132 | BO16: -0.24445511 | BP16: -0.25651978 | BV16: =BV4 -> ecm-8.1 | CN16: =CN4 -> ecm-8.1 | CO16: 0.068124646 | CP16: 0.089456919 | CQ16: 0.09802688 | CT16: 0.66016492 | CU16: 0.7312831 | CX16: -0.1438559 | CY16: -0.20026688 | CZ16: -0.20889389
B17: =B5 -> ecm-9.0 | C17: 0.039282248 | D17: 0.042410596 | E17: 0.043057188 | H17: 0.86206337 | I17: 0.77091819 | J17: 1.0009509 | K17: 0.99248872 | L17: -0.17920445 | M17: -0.25520938 | N17: -0.26930615 | Q17: 6.2879961 | R17: 7.5653913 | T17: =T5 -> ecm-9.0 | U17: 0.017308869 | V17: 0.0093849018 | W17: 0.011470914 | Z17: 0.88966123 | AA17: 0.97722224 | AB17: 1.0006639 | AC17: 1.0004334 | AD17: -0.19651874 | AE17: -0.27821166 | AF17: -0.29118912 | AI17: 6.1780278 | AJ17: 8.976847 | AL17: =AL5 -> ecm-9.0 | AM17: 0.008557001 | AN17: 0.01845277 | AO17: 0.023495713 | AP17: 0.0082786217 | AQ17: 0.0085151709 | AR17: 0.96578942 | AS17: 0.98677833 | AT17: 0.99956199 | AU17: 1.000048 | AV17: -0.20348181 | AW17: -0.27162159 | AX17: -0.28371917 | AY17: -0.18884177 | AZ17: -0.18646928 | BA17: 6.7865699 | BB17: 8.2063869 | BD17: =BD5 -> ecm-9.0 | BE17: 0.0075239627 | BF17: 0.035591942 | BG17: 0.039414909 | BH17: 0.0049527735 | BI17: 0.0058905793 | BJ17: 0.94961466 | BK17: 1.0091004 | BL17: 0.99936458 | BM17: 0.99882877 | BN17: -0.20429098 | BO17: -0.26025768 | BP17: -0.27357528 | BQ17: -0.19162324 | BR17: -0.18865223 | BS17: 6.6729104 | BT17: 8.3920252 | BV17: =BV5 -> ecm-9.0 | CN17: =CN5 -> ecm-9.0 | CO17: 0.07637469 | CP17: 0.11423029 | CQ17: 0.12688122 | CR17: 0.074136264 | CS17: 0.075700659 | CT17: 0.64824997 | CU17: 0.74916847 | CV17: 0.9995972 | CW17: 0.99096355 | CX17: -0.14968578 | CY17: -0.20441056 | CZ17: -0.21282923 | DA17: -0.13599856 | DB17: -0.13243824 | DC17: 4.5552308 | DD17: 6.2303418
B18: =B6 -> ecm-10.0 | C18: 0.039754195 | D18: 0.041489674 | E18: 0.04184877 | H18: 0.82157785 | I18: 0.77499975 | J18: 1.0000988 | K18: 1.1694508 | L18: -0.19120317 | M18: -0.28054777 | N18: -0.29763616 | Q18: 5.5414229 | R18: 7.0070142 | T18: =T6 -> ecm-10.0 | U18: 0.016950959 | V18: 0.0096497563 | W18: 0.011793356 | Z18: 0.89491975 | AA18: 0.97323266 | AB18: 0.99904771 | AD18: -0.2090496 | AE18: -0.30214154 | AF18: -0.31849436 | AG18: #VALUE! | AH18: #VALUE! | AI18: 6.5641111 | AJ18: 8.799473 | AL18: =AL6 -> ecm-10.0 | AM18: 0.0095545885 | AN18: 0.025152859 | AO18: 0.032181682 | AP18: 0.0089104162 | AQ18: 0.009410313 | AR18: 0.85178978 | AS18: 0.85965506 | AT18: 1.0000717 | AU18: 0.99944081 | AV18: -0.21482837 | AW18: -0.29234747 | AX18: -0.30656978 | AY18: -0.19638226 | AZ18: -0.19434153 | BA18: 6.749076 | BB18: 7.3238963 | BD18: =BD6 -> ecm-10.0 | BE18: 0.007343227 | BF18: 0.038188018 | BG18: 0.040352313 | BH18: 0.0070469502 | BI18: 0.00681635 | BJ18: 0.83984112 | BK18: 0.87837597 | BL18: 1.0000865 | BM18: 0.99943282 | BN18: -0.21655989 | BO18: -0.28440946 | BP18: -0.30140711 | BQ18: -0.19794559 | BR18: -0.19647821 | BS18: 6.654402 | BT18: 7.4833904 | BV18: =BV6 -> ecm-10.0 | CN18: =CN6 -> ecm-10.0 | CO18: 0.077510501 | CP18: 0.11887686 | CQ18: 0.13477215 | CR18: 0.075373164 | CS18: 0.076607308 | CT18: 0.57654656 | CU18: 0.63710309 | CV18: 0.99651584 | CW18: 0.98190584 | CX18: -0.16170403 | CY18: -0.22901038 | CZ18: -0.23935359 | DA18: -0.14361918 | DB18: -0.14089112 | DC18: 4.5682124 | DD18: 5.427848
B19: =B7 -> ecm-11.0 | C19: 0.041292396 | D19: 0.040710987 | E19: 0.041077697 | F19: #VALUE! | G19: #VALUE! | H19: 0.8560527 | I19: 0.75070227 | J19: 0.99509341 | K19: 0.99697135 | L19: -0.19346794 | M19: -0.29145651 | N19: -0.30903238 | O19: #VALUE! | P19: #VALUE! | Q19: 6.4840557 | R19: 6.6846339 | T19: =T7 -> ecm-11.0 | U19: 0.017964625 | V19: 0.01338295 | W19: 0.016666035 | X19: #VALUE! | Y19: #VALUE! | Z19: 0.89719786 | AA19: 0.96845015 | AB19: 0.9984514 | AC19: 1.0489688 | AD19: -0.21154708 | AE19: -0.30944816 | AF19: -0.32537106 | AG19: #VALUE! | AH19: #VALUE! | AI19: 6.9539538 | AJ19: 8.8707403 | AL19: =AL7 -> ecm-11.0 | AM19: 0.0099484055 | AN19: 0.027393287 | AO19: 0.03236921 | AP19: 0.010335048 | AQ19: 0.010041001 | AR19: 0.94765407 | AS19: 0.98355545 | AT19: 0.99811112 | AU19: 0.99779633 | AV19: -0.21785634 | AW19: -0.30103737 | AX19: -0.31676602 | AY19: #VALUE! | AZ19: #VALUE! | BA19: 6.7928004 | BB19: 7.2807392 | BD19: =BD7 -> ecm-11.0 | BE19: 0.0070326075 | BF19: 0.037857612 | BG19: 0.039529973 | BH19: 0.0053093094 | BI19: 0.0056922172 | BJ19: 0.93007965 | BK19: 0.99804254 | BL19: 0.99821042 | BM19: 0.99783477 | BN19: -0.22011938 | BO19: -0.29487129 | BP19: -0.31265395 | BQ19: #VALUE! | BR19: #VALUE! | BS19: 6.6668266 | BT19: 7.3879795 | BV19: =BV7 -> ecm-11.0 | CN19: =CN7 -> ecm-11.0 | CO19: 0.080263653 | CP19: 0.12761413 | CQ19: 0.14147766 | CR19: 0.077327555 | CS19: 0.078490458 | CT19: 0.64595605 | CU19: 0.71659513 | CV19: 0.99345527 | CW19: 0.97329357 | CX19: -0.16319131 | CY19: -0.23424447 | CZ19: -0.24593535 | DA19: #VALUE! | DB19: #VALUE! | DC19: 4.6302239 | DD19: 5.3045736
B20: =B8 -> ecm-12.0 | C20: 0.041347986 | D20: 0.040046388 | E20: 0.041478125 | F20: #VALUE! | G20: #VALUE! | H20: 0.84429853 | I20: 0.74070089 | J20: 0.9976946 | K20: 0.99661443 | L20: -0.20849544 | M20: -0.30530256 | N20: -0.3261147 | O20: #VALUE! | P20: #VALUE! | Q20: 7.8338946 | R20: 7.0191318 | T20: =T8 -> ecm-12.0 | U20: 0.022149438 | V20: 0.01402379 | W20: 0.017356137 | X20: #VALUE! | Y20: #VALUE! | Z20: 0.83830631 | AA20: 0.96823992 | AB20: 0.99412755 | AC20: 1.053338 | AD20: -0.22298765 | AE20: -0.32214832 | AF20: -0.34183352 | AG20: #VALUE! | AH20: #VALUE! | AI20: 7.6412457 | AJ20: 9.2045027 | AL20: =AL8 -> ecm-12.0 | AM20: 0.010802061 | AN20: 0.028725876 | AO20: 0.034830019 | AP20: 0.012496938 | AQ20: 0.011870901 | AR20: 0.93746572 | AS20: 0.98102658 | AT20: 1.0000491 | AU20: 0.99964013 | AV20: -0.23184155 | AW20: -0.31344172 | AX20: -0.33217848 | AY20: #VALUE! | AZ20: #VALUE! | BA20: 8.0044639 | BB20: 7.9847829 | BD20: =BD8 -> ecm-12.0 | BE20: 0.004130217 | BF20: 0.020272568 | BG20: 0.019737535 | BH20: 0.0043427636 | BI20: 0.0040811172 | BJ20: 0.93351015 | BK20: 0.99932653 | BL20: 0.99912689 | BM20: 0.99848594 | BN20: -0.23691618 | BO20: -0.31926281 | BP20: -0.34124638 | BQ20: #VALUE! | BR20: #VALUE! | BS20: 7.9706896 | BT20: 8.1337301 | BV20: =BV8 -> ecm-12.0 | CN20: =CN8 -> ecm-12.0 | CO20: 0.092578805 | CP20: 0.13187274 | CQ20: 0.14945172 | CR20: 0.092051422 | CS20: 0.093623995 | CT20: 0.58812243 | CU20: 0.71128797 | CV20: 0.99219053 | CW20: 0.96282658 | CX20: -0.16934035 | CY20: -0.24580618 | CZ20: -0.25960466 | DA20: #VALUE! | DB20: #VALUE! | DC20: 5.0216287 | DD20: 5.7893233
B21: =B9 -> ecm-13.0 | C21: 0.044106331 | D21: 0.043901841 | E21: 0.04555977 | F21: #VALUE! | G21: #VALUE! | H21: 0.82785155 | I21: 0.71884608 | J21: 0.99701157 | K21: 0.99735664 | L21: -0.22206289 | M21: -0.22579713 | N21: -0.25428468 | O21: #VALUE! | P21: #VALUE! | Q21: 6.9462902 | R21: 6.9061727 | T21: =T9 -> ecm-13.0 | U21: 0.01612488 | V21: 0.012092352 | W21: 0.01556318 | X21: #VALUE! | Y21: #VALUE! | Z21: 0.86037108 | AA21: 0.97637619 | AB21: 0.99868462 | AC21: 1.0508425 | AD21: -0.24306526 | AE21: -0.24871199 | AF21: -0.27598939 | AG21: #VALUE! | AH21: #VALUE! | AI21: 7.2191533 | AJ21: 9.3803428 | AL21: =AL9 -> ecm-13.0 | AM21: 0.01117763 | AN21: 0.030843399 | AO21: 0.038551801 | AP21: 0.011309469 | AQ21: 0.010907274 | AR21: 0.93541585 | AS21: 0.9773654 | AT21: 0.99793494 | AU21: 0.99724653 | AV21: -0.24684061 | AW21: -0.23618866 | AX21: -0.26218287 | AY21: #VALUE! | AZ21: #VALUE! | BA21: 7.0890419 | BB21: 7.7841433 | BD21: =BD9 -> ecm-13.0 | BE21: 0.0080180527 | BF21: 0.037651174 | BG21: 0.041659565 | BH21: 0.0077785198 | BI21: 0.0074597753 | BJ21: 0.92506064 | BK21: 0.99816552 | BL21: 0.99912746 | BM21: 0.99832984 | BN21: -0.2492143 | BO21: -0.23186612 | BP21: -0.2601149 | BQ21: #VALUE! | BR21: #VALUE! | BS21: 7.0105651 | BT21: 7.9498041 | BV21: =BV9 -> ecm-13.0 | CN21: =CN9 -> ecm-13.0 | CO21: 0.088242892 | CP21: 0.13724592 | CQ21: 0.15569445 | CR21: 0.086448377 | CS21: 0.086981708 | CT21: 0.59049754 | CU21: 0.68627446 | CV21: 0.99471437 | CW21: 0.96574151 | CX21: -0.18923327 | CY21: -0.15968329 | CZ21: -0.18175813 | DA21: #VALUE! | DB21: #VALUE! | DC21: 4.4750812
B22: =B10 -> ecm-14.0 | C22: 0.048671633 | D22: 0.046708493 | E22: 0.048952458 | F22: #VALUE! | G22: #VALUE! | H22: 0.83749236 | I22: 0.66635057 | J22: 0.99955702 | K22: 0.99847277 | L22: -0.22312111 | M22: -0.23576062 | N22: -0.26357497 | O22: #VALUE! | P22: #VALUE! | Q22: 7.7763542 | R22: 7.9845492 | T22: =T10 -> ecm-14.0 | U22: 0.016213409 | V22: 0.010546141 | W22: 0.014882978 | X22: #VALUE! | Y22: #VALUE! | Z22: 0.86787096 | AA22: 0.97112201 | AB22: 0.99715825 | AC22: 1.0522593 | AD22: -0.24732411 | AE22: -0.26165351 | AF22: -0.28787987 | AG22: #VALUE! | AH22: #VALUE! | AI22: 8.0584282 | AJ22: 11.636475 | AL22: =AL10 -> ecm-14.0 | AM22: 0.011381994 | AN22: 0.030222158 | AO22: 0.039073716 | AP22: 0.011935452 | AQ22: 0.011230508 | AR22: 0.92118232 | AS22: 0.96057056 | AT22: 0.99913028 | AU22: 0.99861957 | AV22: -0.25098836 | AW22: -0.24844873 | AX22: -0.27334645 | AY22: #VALUE! | AZ22: #VALUE! | BA22: 7.5203176 | BB22: 8.4930994 | BD22: =BD10 -> ecm-14.0 | BE22: 0.01211763 | BF22: 0.03727454 | BG22: 0.041431647 | BH22: 0.010977931 | BI22: 0.011149075 | BJ22: 0.90763104 | BK22: 0.98543703 | BL22: 1.0003323 | BM22: 0.99998239 | BN22: -0.25046684 | BO22: -0.24388729 | BP22: -0.27170041 | BQ22: #VALUE! | BR22: #VALUE! | BS22: 7.4096881 | BT22: 8.7129619 | BV22: =BV10 -> ecm-14.0 | CN22: =CN10 -> ecm-14.0 | CO22: 0.09533713 | CP22: 0.13456515 | CQ22: 0.15490333 | CR22: 0.092654244 | CS22: 0.0938589 | CT22: 0.58948211 | CU22: 0.63683234 | CV22: 0.99683865 | CW22: 0.96939024 | CX22: -0.18862076 | CY22: -0.17416623 | CZ22: -0.1946959 | DA22: #VALUE! | DB22: #VALUE! | DC22: 4.8123944 | DD22: 5.6306956
B23: =B11 -> ecm-15.0 | C23: 0.050041654 | D23: 0.048729117 | E23: 0.050818666 | F23: #VALUE! | G23: #VALUE! | H23: 0.82333355 | I23: 0.67264563 | J23: 0.99879531 | K23: 0.99688689 | L23: -0.22884563 | M23: -0.24118476 | N23: -0.26826447 | O23: #VALUE! | P23: #VALUE! | Q23: 15.550069 | R23: 16.822021 | T23: =T11 -> ecm-15.0 | U23: 0.015483675 | V23: 0.010589316 | W23: 0.013585146 | X23: #VALUE! | Y23: #VALUE! | Z23: 0.86608309 | AA23: 0.97504797 | AB23: 0.99514507 | AC23: 1.0601168 | AD23: -0.25436971 | AE23: -0.26805656 | AF23: -0.29448275 | AG23: #VALUE! | AH23: #VALUE! | AI23: 8.89408 | AJ23: 12.439814 | AL23: =AL11 -> ecm-15.0 | AM23: 0.010752406 | AN23: 0.031168906 | AO23: 0.041175036 | AP23: #VALUE! | AQ23: #VALUE! | AR23: 0.92297161 | AS23: 0.9723193 | AT23: 0.99842459 | AU23: 0.99834576 | AV23: -0.2579181 | AW23: -0.2544789 | AX23: -0.27785809 | AY23: #VALUE! | AZ23: #VALUE! | BA23: 9.1794375 | BB23: 12.143364 | BD23: =BD11 -> ecm-15.0 | BE23: 0.012012713 | BF23: 0.039674704 | BG23: 0.043394779 | BH23: 0.0095500732 | BI23: 0.010227379 | BJ23: 0.91473387 | BK23: 0.96820068 | BL23: 0.99658044 | BM23: 0.99530514 | BN23: -0.25700967 | BO23: -0.24884872 | BP23: -0.27603052 | BQ23: #VALUE! | BR23: #VALUE! | BS23: 7.6853513 | BT23: 8.7817492 | BV23: =BV11 -> ecm-15.0 | CN23: =CN11 -> ecm-15.0 | CO23: 0.095719033 | CP23: 0.14088213 | CQ23: 0.16004356 | CR23: 0.091329188 | CS23: 0.093407281 | CT23: 0.58780935 | CU23: 0.63315301 | CV23: 0.99222931 | CW23: 0.96452258 | CX23: -0.19537298 | CY23: -0.17713821 | CZ23: -0.19756993 | DA23: #VALUE! | DB23: #VALUE! | DC23: 4.9386182 | DD23: 5.7428083
B24: =B12 -> ecm-16.0 | C24: 0.049783531 | D24: 0.050003758 | E24: 0.052318239 | F24: #VALUE! | G24: #VALUE! | H24: 0.76223198 | I24: 0.68993822 | J24: #DIV/0! | K24: #DIV/0! | L24: -0.23402444 | M24: -0.2444291 | N24: -0.27139907 | O24: #VALUE! | P24: #VALUE! | Q24: 8.6354823 | R24: 9.3408389 | T24: =T12 -> ecm-16.0 | U24: 0.014968806 | V24: 0.010829233 | W24: 0.014248579 | X24: #VALUE! | Y24: #VALUE! | Z24: 0.8855635 | AA24: 0.97089928 | AB24: 0.98987801 | AC24: 1.0561234 | AD24: -0.2595987 | AE24: -0.27196763 | AF24: -0.29807446 | AG24: #VALUE! | AH24: #VALUE! | AI24: 9.9773551 | AJ24: 13.070002 | AL24: =AL12 -> ecm-16.0 | AM24: 0.011902018 | AN24: 0.033143008 | AO24: 0.04189707 | AP24: #VALUE! | AQ24: #VALUE! | AR24: 0.92029611 | AS24: 0.96866231 | AT24: 0.99916996 | AU24: 0.99940615 | AV24: -0.26191051 | AW24: -0.25722877 | AX24: -0.28146864 | AY24: #VALUE! | AZ24: #VALUE! | BA24: 9.6442985 | BB24: 12.353027 | BD24: =BD12 -> ecm-16.0 | BE24: 0.012319486 | BF24: 0.041458869 | BG24: 0.04698851 | BH24: 0.010792173 | BI24: 0.011251846 | BJ24: 0.93058906 | BK24: 0.99591048 | BL24: 0.99764933 | BM24: 0.99646037 | BN24: -0.2616317 | BO24: -0.25182989 | BP24: -0.27786468 | BQ24: #VALUE! | BR24: #VALUE! | BS24: 8.1885455 | BT24: 9.3523763 | BV24: =BV12 -> ecm-16.0 | BW24: 0.042371041 | BX24: 0.030872689 | BY24: 0.037828194 | BZ24: #REF! | CA24: #REF! | CB24: 0.93574537 | CC24: 0.92453994 | CD24: 0.91125494 | CF24: -0.23966124 | CG24: -0.25789708 | CH24: -0.28247101 | CI24: #REF! | CJ24: #REF! | CK24: 9.4307341 | CL24: 11.185211 | CN24: =CN12 -> ecm-16.0 | CO24: 0.14902173 | CP24: 0.18355722 | CQ24: 0.21012746 | CR24: 0.12142656 | CS24: 0.12863429 | CT24: 0.47039552 | CU24: 0.5767446 | CV24: 0.90113788 | CW24: 0.85539433 | CX24: -0.1618645 | CY24: -0.15135784 | CZ24: -0.16828916 | DA24: #VALUE! | DB24: #VALUE! | DC24: 4.8503927 | DD24: 5.3620032
B25: =B13 -> ecm-17.0 | C25: 0.050588318 | D25: 0.050773901 | E25: 0.053588259 | F25: #VALUE! | G25: #VALUE! | H25: 0.79046564 | I25: 0.62956067 | J25: 0.99905672 | K25: 0.99531045 | L25: -0.2356764 | M25: -0.25921298 | N25: -0.28542246 | O25: #VALUE! | P25: #VALUE! | Q25: 8.2627871 | R25: 9.5635638 | T25: =T13 -> ecm-17.0 | U25: 0.015491062 | V25: 0.012665891 | W25: 0.01579791 | X25: #VALUE! | Y25: #VALUE! | Z25: 0.85483621 | AA25: 0.95717859 | AB25: 0.99476169 | AC25: 1.0564458 | AD25: -0.26134866 | AE25: -0.2853913 | AF25: -0.31133179 | AG25: #VALUE! | AH25: #VALUE! | AI25: 9.086278 | AJ25: 14.59911 | AL25: =AL13 -> ecm-17.0 | AM25: 0.01211727 | AN25: 0.032173754 | AO25: 0.039765507 | AP25: #VALUE! | AQ25: #VALUE! | AR25: 0.92594705 | AS25: 0.9960004 | AT25: 0.99955927 | AU25: 0.99943971 | AV25: -0.26388968 | AW25: -0.27285339 | AX25: -0.29728019 | AY25: #VALUE! | AZ25: #VALUE! | BA25: 9.48906 | BB25: 12.07896 | BD25: =BD13 -> ecm-17.0 | BE25: 0.012331036 | BF25: 0.029833142 | BG25: 0.034238561 | BH25: #VALUE! | BI25: #VALUE! | BJ25: 0.950969 | BK25: 0.99017655 | BL25: 0.99711971 | BM25: 0.99603155 | BN25: -0.263765 | BO25: -0.27464034 | BP25: -0.30074161 | BQ25: #VALUE! | BR25: #VALUE! | BS25: 10.638197 | BT25: 13.194697 | BV25: =BV13 -> ecm-17.0 | BW25: 0.042523595 | BX25: 0.029173854 | BY25: 0.035308566 | BZ25: #REF! | CA25: #REF! | CB25: 0.94085674 | CC25: 0.92990112 | CD25: 0.91187818 | CE25: -0.24173907 | CF25: -0.24173907 | CG25: -0.27404286 | CH25: -0.29854834 | CI25: #REF! | CJ25: #REF! | CK25: 9.6663107 | CL25: 12.020783 | CN25: =CN13 -> ecm-17.0 | CO25: 0.15122069 | CP25: 0.18361724 | CQ25: 0.20930975 | CR25: 0.12424089 | CS25: 0.13093893 | CT25: 0.51702942 | CU25: 0.54240493 | CV25: 0.8862743 | CW25: 0.83834042 | CX25: -0.16270246 | CY25: -0.16849292 | CZ25: -0.18493735 | DA25: #VALUE! | DB25: #VALUE! | DC25: 4.9060891 | DD25: 5.612231
B27: LDB | C27: Y | D27: U | E27: V | F27: VMAF | G27: VMAF-NEG | H27: EncT | I27: DecT | J27: mPeakR | K27: mHWMR | L27: Y | M27: U | N27: V | O27: VMAF | P27: VMAF-NEG | Q27: EncT | R27: DecT | T27: LDB | U27: Y | V27: U | W27: V | X27: VMAF | Y27: VMAF-NEG | Z27: EncT | AA27: DecT | AB27: mPeakR | AC27: mHWMR | AD27: Y | AE27: U | AF27: V | AG27: VMAF | AH27: VMAF-NEG | AI27: EncT | AJ27: DecT | AL27: LDB | AM27: Y | AN27: U | AO27: V | AP27: VMAF | AQ27: VMAF-NEG | AR27: EncT | AS27: DecT | AT27: mPeakR | AU27: mHWMR | AV27: Y | AW27: U | AX27: V | AY27: VMAF | AZ27: VMAF-NEG | BA27: EncT | BB27: DecT | BD27: LDB | BE27: Y | BF27: U | BG27: V | BH27: VMAF | BI27: VMAF-NEG | BJ27: EncT | BK27: DecT | BL27: mPeakR | BM27: mHWMR | BN27: Y | BO27: U | BP27: V | BQ27: VMAF | BR27: VMAF-NEG | BS27: EncT | BT27: DecT | BV27: LDB | BW27: Y | BX27: U | BY27: V | BZ27: VMAF | CA27: VMAF-NEG | CB27: EncT | CC27: DecT | CD27: mPeakR | CE27: mHWMR | CF27: Y | CG27: U | CH27: V | CI27: VMAF | CJ27: VMAF-NEG | CK27: EncT | CL27: DecT | CN27: LDB | CO27: Y | CP27: U | CQ27: V | CR27: VMAF | CS27: VMAF-NEG | CT27: EncT | CU27: DecT | CV27: mPeakR | CW27: mHWMR | CX27: Y | CY27: U | CZ27: V | DA27: VMAF | DB27: VMAF-NEG | DC27: EncT | DD27: DecT
B28: =B16 -> ecm-8.1 | C28: 0.042868674 | D28: 0.050739449 | E28: 0.05297726 | H28: 0.7670724 | I28: 0.67621444 | L28: -0.12791475 | M28: -0.24165527 | N28: -0.23077254 | T28: =T16 -> ecm-8.1 | U28: 0.012888195 | V28: 0.01209146 | W28: 0.010045533 | Z28: 0.86007528 | AA28: 0.95078531 | AD28: -0.15308191 | AE28: -0.26898323 | AF28: -0.26158073 | AL28: =AL16 -> ecm-8.1 | AM28: 0.0023336109 | AN28: 0.0064011269 | AO28: 0.0069627509 | AR28: 0.96598443 | AS28: 0.95903543 | BD28: =BD16 -> ecm-8.1 | BV28: =BV16 -> ecm-8.1 | CN28: =CN16 -> ecm-8.1 | CO28: 0.060809512 | CP28: 0.080635146 | CQ28: 0.08159161 | CT28: 0.60073876 | CU28: 0.62062897 | CX28: -0.11285121 | CY28: -0.22043545 | CZ28: -0.21017371
B29: =B17 -> ecm-9.0 | C29: 0.044829873 | D29: 0.051267843 | E29: 0.052293478 | H29: 0.75623385 | I29: 0.66796363 | J29: 0.99962179 | K29: 0.99832504 | L29: -0.13319958 | M29: -0.25122203 | N29: -0.24379304 | Q29: 5.1435089 | R29: 4.3244374 | T29: =T17 -> ecm-9.0 | U29: 0.017138195 | V29: 0.0096384722 | W29: 0.013993523 | Z29: 0.83756565 | AA29: 0.94208349 | AB29: 0.99925085 | AC29: 0.97589965 | AD29: -0.15636223 | AE29: -0.2805214 | AF29: -0.27070197 | AI29: 5.707549 | AJ29: 6.161366 | AL29: =AL17 -> ecm-9.0 | BD29: =BD17 -> ecm-9.0 | BV29: =BV17 -> ecm-9.0 | CN29: =CN17 -> ecm-9.0 | CO29: 0.068764468 | CP29: 0.09711665 | CQ29: 0.10339607 | CR29: 0.059868928 | CS29: 0.063211448 | CT29: 0.56916145 | CU29: 0.62574679 | CV29: 0.99571076 | CW29: 0.98872245 | CX29: -0.11379384 | CY29: -0.21791293 | CZ29: -0.20863516 | DA29: -0.084338206 | DB29: -0.085876699 | DC29: 3.5021645 | DD29: 4.2246361
B30: =B18 -> ecm-10.0 | C30: 0.04603723 | D30: 0.051992983 | E30: 0.050633186 | H30: 0.76939891 | I30: 0.67482532 | J30: 1.0001976 | K30: 1.1158412 | L30: -0.13972049 | M30: -0.29097418 | N30: -0.27975997 | Q30: 4.207711 | R30: 4.6550029 | T30: =T18 -> ecm-10.0 | U30: 0.016080711 | V30: 0.0073473498 | W30: 0.0065065061 | Z30: 0.8539379 | AA30: 0.95781353 | AB30: 0.99906634 | AD30: -0.16464984 | AE30: -0.31809083 | AF30: -0.30716764 | AG30: #VALUE! | AH30: #VALUE! | AI30: 5.3099864 | AJ30: 7.0286446 | AL30: =AL18 -> ecm-10.0 | AM30: 0.0039036956 | AN30: 0.015809527 | AO30: 0.011144676 | AP30: 0.0024194691 | AQ30: 0.0025031422 | AR30: 0.85259333 | AS30: 0.86284567 | AT30: 1.0042541 | AU30: 1.0081512 | AV30: -0.17477759 | AW30: -0.31446975 | AX30: -0.30624752 | AY30: -0.13821565 | AZ30: -0.14201702 | BA30: 5.7554216 | BB30: 6.0497297 | BD30: =BD18 -> ecm-10.0 | BE30: 0.0015918136 | BF30: 0.025081643 | BG30: 0.013841271 | BH30: 0.00081891906 | BI30: 0.00051338272 | BJ30: 0.88057426 | BK30: 0.87290039 | BL30: 1.0042635 | BM30: 1.0086452 | BN30: -0.17667949 | BO30: -0.30921068 | BP30: -0.30509262 | BQ30: -0.13946759 | BR30: -0.14364095 | BS30: 5.9443065 | BT30: 6.120227 | BV30: =BV18 -> ecm-10.0 | CN30: =CN18 -> ecm-10.0 | CO30: 0.068435053 | CP30: 0.099295418 | CQ30: 0.0943719 | CR30: 0.057228619 | CS30: 0.06179275 | CT30: 0.51777566 | CU30: 0.54255802 | CV30: 1.0017287 | CW30: 0.9951493 | CX30: -0.12147517 | CY30: -0.25974076 | CZ30: -0.25015039 | DA30: -0.091070662 | DB30: -0.09125808 | DC30: 3.4952387 | DD30: 3.8040747
B31: =B19 -> ecm-11.0 | C31: 0.047370199 | D31: 0.052806452 | E31: 0.052130108 | F31: #VALUE! | G31: #VALUE! | H31: 0.75511656 | I31: 0.65498246 | J31: 0.99971279 | K31: 0.99774679 | L31: -0.14070322 | M31: -0.3196585 | N31: -0.3083552 | O31: #VALUE! | P31: #VALUE! | Q31: 4.7668868 | R31: 3.9819389 | T31: =T19 -> ecm-11.0 | U31: 0.016902848 | V31: 0.038051602 | W31: 0.036228307 | X31: #VALUE! | Y31: #VALUE! | Z31: 0.83721139 | AA31: 0.94771409 | AB31: 1.00293 | AC31: 1.002768 | AD31: -0.16580268 | AE31: -0.32922761 | AF31: -0.31871276 | AG31: #VALUE! | AH31: #VALUE! | AI31: 5.3183894 | AJ31: 5.7706558 | AL31: =AL19 -> ecm-11.0 | AM31: #VALUE! | AN31: #VALUE! | AO31: #VALUE! | AP31: #VALUE! | AQ31: #VALUE! | AR31: #NUM! | AS31: #NUM! | AT31: #NUM! | AU31: #NUM! | AV31: #VALUE! | AW31: #VALUE! | AX31: #VALUE! | AY31: #VALUE! | AZ31: #VALUE! | BA31: #NUM! | BB31: #NUM! | BD31: =BD19 -> ecm-11.0 | BE31: #VALUE! | BF31: #VALUE! | BG31: #VALUE! | BH31: #VALUE! | BI31: #VALUE! | BJ31: #NUM! | BK31: #NUM! | BL31: #NUM! | BM31: #NUM! | BN31: #VALUE! | BO31: #VALUE! | BP31: #VALUE! | BQ31: #VALUE! | BR31: #VALUE! | BS31: #NUM! | BT31: #NUM! | BV31: =BV19 -> ecm-11.0 | CN31: =CN19 -> ecm-11.0 | CO31: 0.070093351 | CP31: 0.12270358 | CQ31: 0.12399875 | CR31: 0.06096409 | CS31: 0.063727979 | CT31: 0.5696853 | CU31: 0.61911401 | CV31: 0.99463249 | CW31: 0.97990703 | CX31: -0.12195281 | CY31: -0.27638609 | CZ31: -0.26280676 | DA31: #VALUE! | DB31: #VALUE! | DC31: 3.71285 | DD31: 4.0892201
B32: =B20 -> ecm-12.0 | C32: 0.047815124 | D32: 0.05055188 | E32: 0.049626331 | F32: #VALUE! | G32: #VALUE! | H32: 0.76555471 | I32: 0.66482794 | J32: 0.99604765 | K32: 1.0038836 | L32: -0.15132464 | M32: -0.33382277 | N32: -0.32327071 | O32: #VALUE! | P32: #VALUE! | Q32: 5.638579 | R32: 4.1374203 | T32: =T20 -> ecm-12.0 | U32: 0.023077705 | V32: 0.032189478 | W32: 0.037897128 | X32: #VALUE! | Y32: #VALUE! | Z32: 0.75962618 | AA32: 0.92825581 | AB32: 0.99972261 | AC32: 1.0037937 | AD32: -0.17136642 | AE32: -0.34523513 | AF32: -0.33039434 | AG32: #VALUE! | AH32: #VALUE! | AI32: 5.5518546 | AJ32: 5.5762878 | AL32: =AL20 -> ecm-12.0 | AM32: #VALUE! | AN32: #VALUE! | AO32: #VALUE! | AP32: #VALUE! | AQ32: #VALUE! | AR32: #NUM! | AS32: #NUM! | AT32: #NUM! | AU32: #NUM! | AV32: #VALUE! | AW32: #VALUE! | AX32: #VALUE! | AY32: #VALUE! | AZ32: #VALUE! | BA32: #NUM! | BB32: #NUM! | BD32: =BD20 -> ecm-12.0 | BE32: #VALUE! | BF32: #VALUE! | BG32: #VALUE! | BH32: #VALUE! | BI32: #VALUE! | BJ32: #NUM! | BK32: #NUM! | BL32: #NUM! | BM32: #NUM! | BN32: #VALUE! | BO32: #VALUE! | BP32: #VALUE! | BQ32: #VALUE! | BR32: #VALUE! | BS32: #NUM! | BT32: #NUM! | BV32: =BV20 -> ecm-12.0 | CN32: =CN20 -> ecm-12.0 | CO32: 0.082511086 | CP32: 0.1310387 | CQ32: 0.13053055 | CR32: 0.071736059 | CS32: 0.077650663 | CT32: 0.49690973 | CU32: 0.61607198 | CV32: 0.99760552 | CW32: 0.97748138 | CX32: -0.12298242 | CY32: -0.28476331 | CZ32: -0.27216487 | DA32: #VALUE! | DB32: #VALUE! | DC32: 3.7953263 | DD32: 4.3067406
B33: =B21 -> ecm-13.0 | C33: 0.051110838 | D33: 0.050939538 | E33: 0.053144001 | F33: #VALUE! | G33: #VALUE! | H33: 0.76554518 | I33: 0.63386595 | J33: 0.99819123 | K33: 0.9993542 | L33: -0.17058483 | M33: -0.2348054 | N33: -0.22355482 | O33: #VALUE! | P33: #VALUE! | Q33: 5.8650562 | R33: 3.9660074 | T33: =T21 -> ecm-13.0 | U33: 0.01674884 | V33: 0.027897933 | W33: 0.036093504 | X33: #VALUE! | Y33: #VALUE! | Z33: 0.79935655 | AA33: 0.92055349 | AB33: 0.99555317 | AC33: 1.0354849 | AD33: -0.19793599 | AE33: -0.25183775 | AF33: -0.23568629 | AG33: #VALUE! | AH33: #VALUE! | AI33: 6.1240945 | AJ33: 5.7597697 | AL33: =AL21 -> ecm-13.0 | AM33: #VALUE! | AN33: #VALUE! | AO33: #VALUE! | AP33: #VALUE! | AQ33: #VALUE! | AR33: #NUM! | AS33: #NUM! | AT33: #NUM! | AU33: #NUM! | AV33: #VALUE! | AW33: #VALUE! | AX33: #VALUE! | AY33: #VALUE! | AZ33: #VALUE! | BA33: #NUM! | BB33: #NUM! | BD33: =BD21 -> ecm-13.0 | BE33: #VALUE! | BF33: #VALUE! | BG33: #VALUE! | BH33: #VALUE! | BI33: #VALUE! | BJ33: #NUM! | BK33: #NUM! | BL33: #NUM! | BM33: #NUM! | BN33: #VALUE! | BO33: #VALUE! | BP33: #VALUE! | BQ33: #VALUE! | BR33: #VALUE! | BS33: #NUM! | BT33: #NUM! | BV33: =BV21 -> ecm-13.0 | CN33: =CN21 -> ecm-13.0 | CO33: 0.079381674 | CP33: 0.12189621 | CQ33: 0.13094334 | CR33: 0.062382396 | CS33: 0.069059324 | CT33: 0.52375231 | CU33: 0.59326389 | CV33: 0.99458684 | CW33: 0.97304836 | CX33: -0.14826625 | CY33: -0.18572347 | CZ33: -0.16739962 | DA33: #VALUE! | DB33: #VALUE! | DC33: 3.9202089 | DD33: 4.294425
B34: =B22 -> ecm-14.0 | C34: 0.055674915 | D34: 0.060304675 | E34: 0.058447514 | F34: #VALUE! | G34: #VALUE! | H34: 0.7341403 | I34: 0.58800383 | J34: 0.99472021 | K34: 0.9991336 | L34: -0.17253238 | M34: -0.248679 | N34: -0.23151792 | O34: #VALUE! | P34: #VALUE! | Q34: 5.6372779 | R34: 4.2791859 | T34: =T22 -> ecm-14.0 | U34: 0.016513304 | V34: 0.032520612 | W34: 0.031726703 | X34: #VALUE! | Y34: #VALUE! | Z34: 0.7973626 | AA34: 0.93089601 | AB34: 0.99767813 | AC34: 1.0198443 | AD34: -0.20350521 | AE34: -0.2685056 | AF34: -0.25063622 | AG34: #VALUE! | AH34: #VALUE! | AI34: 6.1227459 | AJ34: 6.7745767 | AL34: =AL22 -> ecm-14.0 | AM34: #VALUE! | AN34: #VALUE! | AO34: #VALUE! | AP34: #VALUE! | AQ34: #VALUE! | AR34: #NUM! | AS34: #NUM! | AT34: #NUM! | AU34: #NUM! | AV34: #VALUE! | AW34: #VALUE! | AX34: #VALUE! | AY34: #VALUE! | AZ34: #VALUE! | BA34: #NUM! | BB34: #NUM! | BD34: =BD22 -> ecm-14.0 | BE34: #VALUE! | BF34: #VALUE! | BG34: #VALUE! | BH34: #VALUE! | BI34: #VALUE! | BJ34: #NUM! | BK34: #NUM! | BL34: #NUM! | BM34: #NUM! | BN34: #VALUE! | BO34: #VALUE! | BP34: #VALUE! | BQ34: #VALUE! | BR34: #VALUE! | BS34: #NUM! | BT34: #NUM! | BV34: =BV22 -> ecm-14.0 | CN34: =CN22 -> ecm-14.0 | CO34: 0.0913234 | CP34: 0.13310566 | CQ34: 0.12614063 | CR34: 0.082159489 | CS34: 0.085412237 | CT34: 0.5123438 | CU34: 0.53940481 | CV34: 0.99106317 | CW34: 0.9694746 | CX34: -0.1445609 | CY34: -0.19913232 | CZ34: -0.18313417 | DA34: #VALUE! | DB34: #VALUE! | DC34: 3.973993 | DD34: 3.9177365
B35: =B23 -> ecm-15.0 | C35: 0.058245338 | D35: 0.05996498 | E35: 0.062237407 | F35: #VALUE! | G35: #VALUE! | H35: 0.7229889 | I35: 0.60366927 | J35: 0.99881787 | K35: 0.99916828 | L35: -0.17895517 | M35: -0.25169032 | N35: -0.23846896 | O35: #VALUE! | P35: #VALUE! | Q35: 12.019088 | R35: 12.002845 | T35: =T23 -> ecm-15.0 | U35: 0.015902697 | V35: 0.032117549 | W35: 0.035248864 | X35: #VALUE! | Y35: #VALUE! | Z35: 0.81737202 | AA35: 0.92861182 | AB35: 0.99360106 | AC35: 1.0292931 | AD35: -0.21210421 | AE35: -0.27179673 | AF35: -0.25734383 | AG35: #VALUE! | AH35: #VALUE! | AI35: 7.7159497 | AJ35: 9.4083062 | AL35: =AL23 -> ecm-15.0 | AM35: 0.0052363049 | AN35: 0.013965007 | AO35: 0.015266258 | AP35: #VALUE! | AQ35: #VALUE! | AR35: 0.95131441 | AS35: 0.97962457 | AT35: 1.0009355 | AU35: 1.0004354 | AV35: -0.22020908 | AW35: -0.28474731 | AX35: -0.27171211 | AY35: #VALUE! | AZ35: #VALUE! | BA35: 8.5820853 | BB35: 9.6495426 | BD35: =BD23 -> ecm-15.0 | BE35: 0.011109876 | BF35: 0.018439862 | BG35: 0.016398974 | BH35: 0.0065817317 | BI35: 0.008683844 | BJ35: 0.94860397 | BK35: 0.96408702 | BL35: 0.99343845 | BM35: 0.99059167 | BN35: -0.21566371 | BO35: -0.28153506 | BP35: -0.27127803 | BQ35: #VALUE! | BR35: #VALUE! | BS35: 8.184072 | BT35: 7.6687392 | BV35: =BV23 -> ecm-15.0 | CN35: =CN23 -> ecm-15.0 | CO35: 0.093227726 | CP35: 0.13090549 | CQ35: 0.13815535 | CR35: 0.078188062 | CS35: 0.083655194 | CT35: 0.49641975 | CU35: 0.5497311 | CV35: 0.98657481 | CW35: 0.9637446 | CX35: -0.15185069 | CY35: -0.20398281 | CZ35: -0.18441975 | DA35: #VALUE! | DB35: #VALUE! | DC35: 4.2828568 | DD35: 4.3727841
B36: =B24 -> ecm-16.0 | C36: 0.059382726 | D36: 0.062767725 | E36: 0.064127374 | F36: #VALUE! | G36: #VALUE! | H36: 0.63968956 | I36: 0.62491135 | J36: #DIV/0! | K36: #DIV/0! | L36: -0.1820823 | M36: -0.25512029 | N36: -0.24160042 | O36: #VALUE! | P36: #VALUE! | Q36: 6.6432721 | R36: 6.2273619 | T36: =T24 -> ecm-16.0 | U36: 0.015980874 | V36: 0.031708074 | W36: 0.037933406 | X36: #VALUE! | Y36: #VALUE! | Z36: 0.83709383 | AA36: 0.92858598 | AB36: 0.99044654 | AC36: 1.0192677 | AD36: -0.21593058 | AE36: -0.27701982 | AF36: -0.25995003 | AG36: #VALUE! | AH36: #VALUE! | AI36: 8.6813907 | AJ36: 7.3885904 | AL36: =AL24 -> ecm-16.0 | AM36: 0.0058903183 | AN36: 0.016360431 | AO36: 0.022611193 | AP36: #VALUE! | AQ36: #VALUE! | AR36: 0.94554218 | AS36: 0.97659143 | AT36: 0.99986236 | AU36: 1.0003779 | AV36: -0.22354399 | AW36: -0.28737714 | AX36: -0.27101729 | AY36: #VALUE! | AZ36: #VALUE! | BA36: 8.7758956 | BB36: 9.2569049 | BD36: =BD24 -> ecm-16.0 | BE36: 0.011299403 | BF36: 0.021554637 | BG36: 0.019342877 | BH36: 0.01079994 | BI36: 0.010592717 | BJ36: 0.97931824 | BK36: 0.99281518 | BL36: 0.99570564 | BM36: 0.99340522 | BN36: -0.21943056 | BO36: -0.28395314 | BP36: -0.27358969 | BQ36: #VALUE! | BR36: #VALUE! | BS36: 8.6096674 | BT36: 7.8864559 | BV36: =BV24 -> ecm-16.0 | BW36: 0.04134467 | BX36: 0.018460237 | BY36: 0.017256561 | BZ36: #REF! | CA36: #REF! | CB36: 0.9260764 | CC36: 0.88483095 | CD36: 0.85745966 | CF36: -0.19641649 | CG36: -0.28543315 | CH36: -0.27529784 | CI36: #REF! | CJ36: #REF! | CK36: 8.0982942 | CL36: 8.2467048 | CN36: =CN24 -> ecm-16.0 | CO36: 0.13977798 | CP36: 0.15769185 | CQ36: 0.16097446 | CR36: 0.10171417 | CS36: 0.11151695 | CT36: 0.37629817 | CU36: 0.43385585 | CV36: 0.82946894 | CW36: 0.77396936 | CX36: -0.12043794 | CY36: -0.19062726 | CZ36: -0.17361768 | DA36: #VALUE! | DB36: #VALUE! | DC36: 4.2076042 | DD36: 3.5125146
B37: =B25 -> ecm-17.0 | C37: 0.059334795 | D37: 0.063517308 | E37: 0.06749488 | F37: #VALUE! | G37: #VALUE! | H37: 0.71967413 | I37: 0.57050543 | J37: 1.0095757 | K37: 1.02149 | L37: -0.18770988 | M37: -0.29243712 | N37: -0.27351066 | O37: #VALUE! | P37: #VALUE! | Q37: 6.8448329 | R37: 7.3273729 | T37: =T25 -> ecm-17.0 | U37: 0.016609083 | V37: 0.027366227 | W37: 0.036532668 | X37: #VALUE! | Y37: #VALUE! | Z37: 0.8186764 | AA37: 0.92018164 | AB37: 0.99041407 | AC37: 1.0192552 | AD37: -0.22078516 | AE37: -0.31643188 | AF37: -0.29416996 | AG37: #VALUE! | AH37: #VALUE! | AI37: 8.1067631 | AJ37: 8.4196152 | AL37: =AL25 -> ecm-17.0 | AM37: 0.0057744556 | AN37: 0.018865674 | AO37: 0.017894529 | AP37: #VALUE! | AQ37: #VALUE! | AR37: 0.9424993 | AS37: 0.99859691 | AT37: 0.99784701 | AU37: 0.99771612 | AV37: -0.22889637 | AW37: -0.3221334 | AX37: -0.30676045 | AY37: #VALUE! | AZ37: #VALUE! | BA37: 8.7581477 | BB37: 9.6801727 | BD37: =BD25 -> ecm-17.0 | BE37: 0.011545656 | BF37: 0.016874922 | BG37: 0.016535229 | BH37: #VALUE! | BI37: #VALUE! | BJ37: 0.97896376 | BK37: 0.9868957 | BL37: 0.99568921 | BM37: 0.9935409 | BN37: -0.22449009 | BO37: -0.32364704 | BP37: -0.30774747 | BQ37: #VALUE! | BR37: #VALUE! | BS37: 9.738672 | BT37: 10.233324 | BV37: =BV25 -> ecm-17.0 | BW37: 0.040742517 | BX37: 0.020546672 | BY37: 0.015013826 | BZ37: #REF! | CA37: #REF! | CB37: 0.92806909 | CC37: 0.90596202 | CD37: 0.86159593 | CE37: -0.20232649 | CF37: -0.20232649 | CG37: -0.32067694 | CH37: -0.30941861 | CI37: #REF! | CJ37: #REF! | CK37: 8.6009334 | CL37: 9.4762057 | CN37: =CN25 -> ecm-17.0 | CO37: 0.13984268 | CP37: 0.15370695 | CQ37: 0.15507515 | CR37: 0.098377317 | CS37: 0.11095436 | CT37: 0.45296153 | CU37: 0.45302789 | CV37: 0.83275074 | CW37: 0.77683905 | CX37: -0.12637894 | CY37: -0.23422725 | CZ37: -0.21469539 | DA37: #VALUE! | DB37: #VALUE! | DC37: 4.3737168 | DD37: 4.2001527

Sheet summary
C2: G1 off | D2: G2 off | E2: G3 off | F2: G4 off | G2: G5 off | H2: G1-5 off | K2: =C2 -> G1 off | L2: =D2 -> G2 off | M2: =E2 -> G3 off | N2: =F2 -> G4 off | O2: =G2 -> G5 off | P2: =H2 -> G1-5 off | S2: =K2 -> G1 off | T2: =L2 -> G2 off | U2: =M2 -> G3 off | V2: =N2 -> G4 off | W2: =O2 -> G5 off | X2: =P2 -> G1-5 off
B3: =evolution!B4 -> ecm-8.1 | C3: =evolution!C4 -> -5.7744925e-05 | D3: =evolution!U4 -> 0.004737227 | E3: =evolution!AM4 -> 0.010927195 | F3: =evolution!BE4 -> 0.013134249 | G3: =evolution!BW4 -> 0 | H3: =evolution!CO4 -> 0.03181028 | J3: =evolution!B16 -> ecm-8.1 | K3: =evolution!C16 -> 0.036953666 | L3: =evolution!U16 -> 0.015510452 | M3: =evolution!AM16 -> 0.0047288184 | N3: =evolution!BE16 -> 0.0078182968 | O3: =evolution!BW16 -> 0 | P3: =evolution!CO16 -> 0.068124646 | R3: =evolution!B28 -> ecm-8.1 | S3: =evolution!C28 -> 0.042868674 | T3: =evolution!U28 -> 0.012888195 | U3: =evolution!AM28 -> 0.0023336109 | V3: =evolution!BE28 -> 0 | W3: =evolution!BW28 -> 0 | X3: =evolution!CO28 -> 0.060809512
B4: =evolution!B5 -> ecm-9.0 | C4: =evolution!C5 -> -5.902199e-05 | D4: =evolution!U5 -> 0.0048076427 | E4: =evolution!AM5 -> 0.017882873 | F4: =evolution!BE5 -> 0.013587599 | G4: =evolution!BW5 -> 0 | H4: =evolution!CO5 -> 0.04040427 | J4: =evolution!B17 -> ecm-9.0 | K4: =evolution!C17 -> 0.039282248 | L4: =evolution!U17 -> 0.017308869 | M4: =evolution!AM17 -> 0.008557001 | N4: =evolution!BE17 -> 0.0075239627 | O4: =evolution!BW17 -> 0 | P4: =evolution!CO17 -> 0.07637469 | R4: =evolution!B29 -> ecm-9.0 | S4: =evolution!C29 -> 0.044829873 | T4: =evolution!U29 -> 0.017138195 | U4: =evolution!AM29 -> 0 | V4: =evolution!BE29 -> 0 | W4: =evolution!BW29 -> 0 | X4: =evolution!CO29 -> 0.068764468
B5: =evolution!B6 -> ecm-10.0 | C5: =evolution!C6 -> -5.9765914e-05 | D5: =evolution!U6 -> 0.0048514406 | E5: =evolution!AM6 -> 0.018475127 | F5: =evolution!BE6 -> 0.013500632 | G5: =evolution!BW6 -> 0 | H5: =evolution!CO6 -> 0.040738561 | J5: =evolution!B18 -> ecm-10.0 | K5: =evolution!C18 -> 0.039754195 | L5: =evolution!U18 -> 0.016950959 | M5: =evolution!AM18 -> 0.0095545885 | N5: =evolution!BE18 -> 0.007343227 | O5: =evolution!BW18 -> 0 | P5: =evolution!CO18 -> 0.077510501 | R5: =evolution!B30 -> ecm-10.0 | S5: =evolution!C30 -> 0.04603723 | T5: =evolution!U30 -> 0.016080711 | U5: =evolution!AM30 -> 0.0039036956 | V5: =evolution!BE30 -> 0.0015918136 | W5: =evolution!BW30 -> 0 | X5: =evolution!CO30 -> 0.068435053
B6: =evolution!B7 -> ecm-11.0 | C6: =evolution!C7 -> -4.5948306e-05 | D6: =evolution!U7 -> 0.0049099792 | E6: =evolution!AM7 -> 0.019346063 | F6: =evolution!BE7 -> 0.013656059 | G6: =evolution!BW7 -> 0 | H6: =evolution!CO7 -> 0.041751204 | J6: =evolution!B19 -> ecm-11.0 | K6: =evolution!C19 -> 0.041292396 | L6: =evolution!U19 -> 0.017964625 | M6: =evolution!AM19 -> 0.0099484055 | N6: =evolution!BE19 -> 0.0070326075 | O6: =evolution!BW19 -> 0 | P6: =evolution!CO19 -> 0.080263653 | R6: =evolution!B31 -> ecm-11.0 | S6: =evolution!C31 -> 0.047370199 | T6: =evolution!U31 -> 0.016902848 | U6: =evolution!AM31 -> #VALUE! | V6: =evolution!BE31 -> #VALUE! | W6: =evolution!BW31 -> 0 | X6: =evolution!CO31 -> 0.070093351
B7: =evolution!B8 -> ecm-12.0 | C7: =evolution!C8 -> -6.0163964e-05 | D7: =evolution!U8 -> 0.0042170889 | E7: =evolution!AM8 -> 0.020925502 | F7: =evolution!BE8 -> 0.0085703072 | G7: =evolution!BW8 -> 0 | H7: =evolution!CO8 -> 0.048334257 | J7: =evolution!B20 -> ecm-12.0 | K7: =evolution!C20 -> 0.041347986 | L7: =evolution!U20 -> 0.022149438 | M7: =evolution!AM20 -> 0.010802061 | N7: =evolution!BE20 -> 0.004130217 | O7: =evolution!BW20 -> 0 | P7: =evolution!CO20 -> 0.092578805 | R7: =evolution!B32 -> ecm-12.0 | S7: =evolution!C32 -> 0.047815124 | T7: =evolution!U32 -> 0.023077705 | U7: =evolution!AM32 -> #VALUE! | V7: =evolution!BE32 -> #VALUE! | W7: =evolution!BW32 -> 0 | X7: =evolution!CO32 -> 0.082511086
B8: =evolution!B9 -> ecm-13.0 | C8: =evolution!C9 -> -6.1136927e-05 | D8: =evolution!U9 -> 0.0030990448 | E8: =evolution!AM9 -> 0.021748487 | F8: =evolution!BE9 -> 0.01434227 | G8: =evolution!BW9 -> 0 | H8: =evolution!CO9 -> 0.045515241 | J8: =evolution!B21 -> ecm-13.0 | K8: =evolution!C21 -> 0.044106331 | L8: =evolution!U21 -> 0.01612488 | M8: =evolution!AM21 -> 0.01117763 | N8: =evolution!BE21 -> 0.0080180527 | O8: =evolution!BW21 -> 0 | P8: =evolution!CO21 -> 0.088242892 | R8: =evolution!B33 -> ecm-13.0 | S8: =evolution!C33 -> 0.051110838 | T8: =evolution!U33 -> 0.01674884 | U8: =evolution!AM33 -> #VALUE! | V8: =evolution!BE33 -> #VALUE! | W8: =evolution!BW33 -> 0 | X8: =evolution!CO33 -> 0.079381674
B9: =evolution!B10 -> ecm-14.0 | C9: =evolution!C10 -> -7.4893256e-05 | D9: =evolution!U10 -> 0.0027989266 | E9: =evolution!AM10 -> 0.0223465 | F9: =evolution!BE10 -> 0.015189109 | G9: =evolution!BW10 -> 0 | H9: =evolution!CO10 -> 0.046467847 | J9: =evolution!B22 -> ecm-14.0 | K9: =evolution!C22 -> 0.048671633 | L9: =evolution!U22 -> 0.016213409 | M9: =evolution!AM22 -> 0.011381994 | N9: =evolution!BE22 -> 0.01211763 | O9: =evolution!BW22 -> 0 | P9: =evolution!CO22 -> 0.09533713 | R9: =evolution!B34 -> ecm-14.0 | S9: =evolution!C34 -> 0.055674915 | T9: =evolution!U34 -> 0.016513304 | U9: =evolution!AM34 -> #VALUE! | V9: =evolution!BE34 -> #VALUE! | W9: =evolution!BW34 -> 0 | X9: =evolution!CO34 -> 0.0913234
B10: =evolution!B11 -> ecm-15.0 | C10: =evolution!C11 -> -7.5370292e-05 | D10: =evolution!U11 -> 0.0021505187 | E10: =evolution!AM11 -> 0.020674488 | F10: =evolution!BE11 -> 0.015364133 | G10: =evolution!BW11 -> 0 | H10: =evolution!CO11 -> 0.043442221 | J10: =evolution!B23 -> ecm-15.0 | K10: =evolution!C23 -> 0.050041654 | L10: =evolution!U23 -> 0.015483675 | M10: =evolution!AM23 -> 0.010752406 | N10: =evolution!BE23 -> 0.012012713 | O10: =evolution!BW23 -> 0 | P10: =evolution!CO23 -> 0.095719033 | R10: =evolution!B35 -> ecm-15.0 | S10: =evolution!C35 -> 0.058245338 | T10: =evolution!U35 -> 0.015902697 | U10: =evolution!AM35 -> 0.0052363049 | V10: =evolution!BE35 -> 0.011109876 | W10: =evolution!BW35 -> 0 | X10: =evolution!CO35 -> 0.093227726
B11: =evolution!B12 -> ecm-16.0 | C11: =evolution!C12 -> -6.4807349e-05 | D11: =evolution!U12 -> 0.0020627838 | E11: =evolution!AM12 -> 0.02347671 | F11: =evolution!BE12 -> 0.014610495 | G11: =evolution!BW12 -> 0.048448646 | H11: =evolution!CO12 -> 0.11000646 | J11: =evolution!B24 -> ecm-16.0 | K11: =evolution!C24 -> 0.049783531 | L11: =evolution!U24 -> 0.014968806 | M11: =evolution!AM24 -> 0.011902018 | N11: =evolution!BE24 -> 0.012319486 | O11: =evolution!BW24 -> 0.042371041 | P11: =evolution!CO24 -> 0.14902173 | R11: =evolution!B36 -> ecm-16.0 | S11: =evolution!C36 -> 0.059382726 | T11: =evolution!U36 -> 0.015980874 | U11: =evolution!AM36 -> 0.0058903183 | V11: =evolution!BE36 -> 0.011299403 | W11: =evolution!BW36 -> 0.04134467 | X11: =evolution!CO36 -> 0.13977798
B12: =evolution!B13 -> ecm-17.0 | C12: =evolution!C13 -> -6.5127797e-05 | D12: =evolution!U13 -> 0.0020512471 | E12: =evolution!AM13 -> 0.024149387 | F12: =evolution!BE13 -> 0.012346819 | G12: =evolution!BW13 -> 0.049550517 | H12: =evolution!CO13 -> 0.11274855 | J12: =evolution!B25 -> ecm-17.0 | K12: =evolution!C25 -> 0.050588318 | L12: =evolution!U25 -> 0.015491062 | M12: =evolution!AM25 -> 0.01211727 | N12: =evolution!BE25 -> 0.012331036 | O12: =evolution!BW25 -> 0.042523595 | P12: =evolution!CO25 -> 0.15122069 | R12: =evolution!B37 -> ecm-17.0 | S12: =evolution!C37 -> 0.059334795 | T12: =evolution!U37 -> 0.016609083 | U12: =evolution!AM37 -> 0.0057744556 | V12: =evolution!BE37 -> 0.011545656 | W12: =evolution!BW37 -> 0.040742517 | X12: =evolution!CO37 -> 0.13984268
