Workbook

Sheet targetRates
A1: SDR RA UHD/4K
B2: Target bit rates [kbit/s] | F2: R1/R4 | G2: R1/R4^1/3 | H2: sanity check
A3: Sequences | B3: Rate 1 | C3: Rate 2 | D3: Rate 3 | E3: Rate 4
A4: CrowdRun | B4: =report_ak2026_sdr_uhd!U12 -> 7800 | C4: =report_ak2026_sdr_uhd!V12 -> 3800 | D4: =report_ak2026_sdr_uhd!W12 -> 1900 | E4: =report_ak2026_sdr_uhd!X12 -> 900 | F4: =B4/E4 -> 8.6666667 | G4: =POWER(F4,1/3) -> 2.05408 | H4: =report_ak2026_sdr_uhd!B12 -> CrowdRun | I4: =A4=H4 -> TRUE
A5: DrivingPOV3 | B5: =report_ak2026_sdr_uhd!U17 -> 2400 | C5: =report_ak2026_sdr_uhd!V17 -> 1200 | D5: =report_ak2026_sdr_uhd!W17 -> 600 | E5: =report_ak2026_sdr_uhd!X17 -> 300 | F5: =B5/E5 -> 8 | G5: =POWER(F5,1/3) -> 2 | H5: =report_ak2026_sdr_uhd!B17 -> DrivingPOV3 | I5: =A5=H5 -> TRUE
A6: FireDance | B6: =report_al0041_sdr_uhd!U13 -> 2600 | C6: =report_al0041_sdr_uhd!V13 -> 1700 | D6: =report_al0041_sdr_uhd!W13 -> 1100 | E6: =report_al0041_sdr_uhd!X13 -> 700 | F6: =B6/E6 -> 3.7142857 | G6: =POWER(F6,1/3) -> 1.5486684 | H6: =report_al0041_sdr_uhd!B13 -> FireDance | I6: =A6=H6 -> TRUE
A7: HallwayScene | B7: =report_al0041_sdr_uhd!U18 -> 1000 | C7: =report_al0041_sdr_uhd!V18 -> 500 | D7: =report_al0041_sdr_uhd!W18 -> 200 | E7: =report_al0041_sdr_uhd!X18 -> 100 | F7: =B7/E7 -> 10 | G7: =POWER(F7,1/3) -> 2.1544347 | H7: =report_al0041_sdr_uhd!B18 -> HallwayScene | I7: =A7=H7 -> TRUE
A8: MountainBay2 | B8: =report_ak2026_sdr_uhd!U32 -> 1700 | C8: =report_ak2026_sdr_uhd!V32 -> 900 | D8: =report_ak2026_sdr_uhd!W32 -> 500 | E8: =report_ak2026_sdr_uhd!X32 -> 300 | F8: =B8/E8 -> 5.6666667 | G8: =POWER(F8,1/3) -> 1.7828271 | H8: =report_ak2026_sdr_uhd!B32 -> MountainBay2 | I8: =A8=H8 -> TRUE
A9: TaikoDrums | B9: =report_al0041_sdr_uhd!U33 -> 900 | C9: =report_al0041_sdr_uhd!V33 -> 500 | D9: =report_al0041_sdr_uhd!W33 -> 300 | E9: =report_al0041_sdr_uhd!X33 -> 200 | F9: =B9/E9 -> 4.5 | G9: =POWER(F9,1/3) -> 1.6509636 | H9: =report_al0041_sdr_uhd!B33 -> TaikoDrums | I9: =A9=H9 -> TRUE
A11: SDR RA HD
B12: Target bit rates [kbit/s]
A13: Sequences | B13: Rate 1 | C13: Rate 2 | D13: Rate 3 | E13: Rate 4
A14: DucksTakeOff | B14: =report_al0041_sdr_hd!U92 -> 16900 | C14: =report_al0041_sdr_hd!V92 -> 4700 | D14: =report_al0041_sdr_hd!W92 -> 1300 | E14: =report_al0041_sdr_hd!X92 -> 400 | F14: =B14/E14 -> 42.25 | G14: =POWER(F14,1/3) -> 3.4829099 | H14: =report_al0041_sdr_hd!B92 -> DucksTakeOff | I14: =A14=H14 -> TRUE
A15: DrivingPOV4 | B15: ='report_ak2026_sdr_hd_ra-ld'!U10 -> 1400 | C15: ='report_ak2026_sdr_hd_ra-ld'!V10 -> 600 | D15: ='report_ak2026_sdr_hd_ra-ld'!W10 -> 300 | E15: ='report_ak2026_sdr_hd_ra-ld'!X10 -> 100 | F15: =B15/E15 -> 14 | G15: =POWER(F15,1/3) -> 2.4101423 | H15: ='report_ak2026_sdr_hd_ra-ld'!B10 -> DrivingPOV4 | I15: =A15=H15 -> TRUE
A16: Metro | B16: ='report_ak2026_sdr_hd_ra-ld'!U15 -> 2000 | C16: ='report_ak2026_sdr_hd_ra-ld'!V15 -> 1000 | D16: ='report_ak2026_sdr_hd_ra-ld'!W15 -> 500 | E16: ='report_ak2026_sdr_hd_ra-ld'!X15 -> 300 | F16: =B16/E16 -> 6.6666667 | G16: =POWER(F16,1/3) -> 1.8820721 | H16: ='report_ak2026_sdr_hd_ra-ld'!B15 -> Metro | I16: =A16=H16 -> TRUE
A17: Seeking | B17: =report_al0041_sdr_hd!U97 -> 2300 | C17: =report_al0041_sdr_hd!V97 -> 1100 | D17: =report_al0041_sdr_hd!W97 -> 500 | E17: =report_al0041_sdr_hd!X97 -> 200 | F17: =B17/E17 -> 11.5 | G17: =POWER(F17,1/3) -> 2.2571787 | H17: =report_al0041_sdr_hd!B97 -> Seeking | I17: =A17=H17 -> TRUE
A18: Umbrella | B18: =report_al0041_sdr_hd!U87 -> 4500 | C18: =report_al0041_sdr_hd!V87 -> 2100 | D18: =report_al0041_sdr_hd!W87 -> 1000 | E18: =report_al0041_sdr_hd!X87 -> 400 | F18: =B18/E18 -> 11.25 | G18: =POWER(F18,1/3) -> 2.2407024 | H18: =report_al0041_sdr_hd!B87 -> Umbrella | I18: =A18=H18 -> TRUE
A20: SDR LB HD
B21: Target bit rates [kbit/s]
A22: Sequences | B22: Rate 1 | C22: Rate 2 | D22: Rate 3 | E22: Rate 4
A23: Beatriz | B23: ='report_ak2026_sdr_hd_ra-ld'!U20 -> 800 | C23: ='report_ak2026_sdr_hd_ra-ld'!V20 -> 400 | D23: ='report_ak2026_sdr_hd_ra-ld'!W20 -> 200 | E23: ='report_ak2026_sdr_hd_ra-ld'!X20 -> 100 | F23: =B23/E23 -> 8 | G23: =POWER(F23,1/3) -> 2 | H23: ='report_ak2026_sdr_hd_ra-ld'!B20 -> Beatriz | I23: =A23=H23 -> TRUE
A24: GregoryCactus2 | B24: =report_al0041_sdr_hd!U37 -> 6100 | C24: =report_al0041_sdr_hd!V37 -> 1900 | D24: =report_al0041_sdr_hd!W37 -> 600 | E24: =report_al0041_sdr_hd!X37 -> 200 | F24: =B24/E24 -> 30.5 | G24: =POWER(F24,1/3) -> 3.1243999 | H24: =report_al0041_sdr_hd!B37 -> GregoryCactus2 | I24: =A24=H24 -> TRUE
A25: GregoryScarf2 | B25: =report_al0041_sdr_hd!U47 -> 6400 | C25: =report_al0041_sdr_hd!V47 -> 2300 | D25: =report_al0041_sdr_hd!W47 -> 900 | E25: =report_al0041_sdr_hd!X47 -> 300 | F25: =B25/E25 -> 21.333333 | G25: =POWER(F25,1/3) -> 2.7734451 | H25: =report_al0041_sdr_hd!B47 -> GregoryScarf2 | I25: =A25=H25 -> TRUE
A26: OfficeWalkAtWall | B26: ='report_ak2026_sdr_hd_ra-ld'!U25 -> 900 | C26: ='report_ak2026_sdr_hd_ra-ld'!V25 -> 400 | D26: ='report_ak2026_sdr_hd_ra-ld'!W25 -> 200 | E26: ='report_ak2026_sdr_hd_ra-ld'!X25 -> 100 | F26: =B26/E26 -> 9 | G26: =POWER(F26,1/3) -> 2.0800838 | H26: ='report_ak2026_sdr_hd_ra-ld'!B25 -> OfficeWalkAtWall | I26: =A26=H26 -> TRUE
A28: HDR RA 4K
B29: Target bit rates [kbit/s]
A30: Sequences | B30: Rate 1 | C30: Rate 2 | D30: Rate 3 | E30: Rate 4
A31: AMS06 | B31: =report_ak2026_hdr_uhd!U13 -> 8700 | C31: =report_ak2026_hdr_uhd!V13 -> 4200 | D31: =report_ak2026_hdr_uhd!W13 -> 2100 | E31: =report_ak2026_hdr_uhd!X13 -> 1000 | F31: =B31/E31 -> 8.7 | G31: =POWER(F31,1/3) -> 2.0567101 | H31: =report_ak2026_hdr_uhd!B13 -> AMS06 | I31: =A31=H31 -> TRUE
A32: MeridianHDR2 | B32: =report_ak2026_hdr_uhd!U28 -> 1900 | C32: =report_ak2026_hdr_uhd!V28 -> 900 | D32: =report_ak2026_hdr_uhd!W28 -> 400 | E32: =report_ak2026_hdr_uhd!X28 -> 200 | F32: =B32/E32 -> 9.5 | G32: =POWER(F32,1/3) -> 2.1179118 | H32: =report_ak2026_hdr_uhd!B28 -> MeridianHDR2 | I32: =A32=H32 -> TRUE
A33: NeptuneFountain3R1 | B33: =report_ak2026_hdr_uhd!U33 -> 3800 | C33: =report_ak2026_hdr_uhd!V33 -> 1900 | D33: =report_ak2026_hdr_uhd!W33 -> 1000 | E33: =report_ak2026_hdr_uhd!X33 -> 500 | F33: =B33/E33 -> 7.6 | G33: =POWER(F33,1/3) -> 1.9660951 | H33: =report_ak2026_hdr_uhd!B33 -> NeptuneFountain3R1 | I33: =A33=H33 -> TRUE
A34: SparksWelding | B34: =report_ak2026_hdr_uhd!U18 -> 7400 | C34: =report_ak2026_hdr_uhd!V18 -> 2900 | D34: =report_ak2026_hdr_uhd!W18 -> 1100 | E34: =report_ak2026_hdr_uhd!X18 -> 400 | F34: =B34/E34 -> 18.5 | G34: =POWER(F34,1/3) -> 2.6447862 | H34: =report_ak2026_hdr_uhd!B18 -> SparksWelding | I34: =A34=H34 -> TRUE
A35: SubwayTreeR1 | B35: =report_ak2026_hdr_uhd!U43 -> 2100 | C35: =report_ak2026_hdr_uhd!V43 -> 1100 | D35: =report_ak2026_hdr_uhd!W43 -> 600 | E35: =report_ak2026_hdr_uhd!X43 -> 300 | F35: =B35/E35 -> 7 | G35: =POWER(F35,1/3) -> 1.9129312 | H35: =report_ak2026_hdr_uhd!B43 -> SubwayTreeR1 | I35: =A35=H35 -> TRUE
A37: HDR RA Cropped 8K
B38: Target bit rates [kbit/s]
A39: Sequences | B39: Rate 1 | C39: Rate 2 | D39: Rate 3 | E39: Rate 4
A40: ChandelierCropBR | B40: =report_ak2026_hdr_8kcrop!U21 -> 2600 | C40: =report_ak2026_hdr_8kcrop!V21 -> 1600 | D40: =report_ak2026_hdr_8kcrop!W21 -> 1000 | E40: =report_ak2026_hdr_8kcrop!X21 -> 600 | F40: =B40/E40 -> 4.3333333 | G40: =POWER(F40,1/3) -> 1.6303244 | H40: =report_ak2026_hdr_8kcrop!B21 -> ChandelierCropBR | I40: =A40=H40 -> TRUE
A41: FashionLadyCrop1 | B41: =report_al0041_hdr_8kcrop!U10 -> 2500 | C41: =report_al0041_hdr_8kcrop!V10 -> 1200 | D41: =report_al0041_hdr_8kcrop!W10 -> 600 | E41: =report_al0041_hdr_8kcrop!X10 -> 300 | F41: =B41/E41 -> 8.3333333 | G41: =POWER(F41,1/3) -> 2.0274007 | H41: =report_al0041_hdr_8kcrop!B10 -> FashionLadyCrop1 | I41: =A41=H41 -> TRUE
A42: MeltMetalCropBC | B42: =report_al0041_hdr_8kcrop!U25 -> 37500 | C42: =report_al0041_hdr_8kcrop!V25 -> 13700 | D42: =report_al0041_hdr_8kcrop!W25 -> 5000 | E42: =report_al0041_hdr_8kcrop!X25 -> 1800 | F42: =B42/E42 -> 20.833333 | G42: =POWER(F42,1/3) -> 2.751606 | H42: =report_al0041_hdr_8kcrop!B25 -> MeltMetalCropBC | I42: =A42=H42 -> TRUE
A43: WaterfallForest | B43: =report_ak2026_hdr_8kcrop!U11 -> 14700 | C43: =report_ak2026_hdr_8kcrop!V11 -> 7800 | D43: =report_ak2026_hdr_8kcrop!W11 -> 4100 | E43: =report_ak2026_hdr_8kcrop!X11 -> 2200 | F43: =B43/E43 -> 6.6818182 | G43: =POWER(F43,1/3) -> 1.8834968 | H43: =report_ak2026_hdr_8kcrop!B11 -> WaterfallForest | I43: =A43=H43 -> TRUE
A44: WomenFootball | B44: =report_ak2026_hdr_8kcrop!U16 -> 2400 | C44: =report_ak2026_hdr_8kcrop!V16 -> 1300 | D44: =report_ak2026_hdr_8kcrop!W16 -> 700 | E44: =report_ak2026_hdr_8kcrop!X16 -> 400 | F44: =B44/E44 -> 6 | G44: =POWER(F44,1/3) -> 1.8171206 | H44: =report_ak2026_hdr_8kcrop!B16 -> WomenFootball | I44: =A44=H44 -> TRUE
...

Sheet report_al0041_sdr_hd
A1: SubDir | B1: Sequence | C1: VTM-QP5 | D1: VTM-QP4 | E1: VTM-QP3 | F1: VTM-QP2 | G1: VTM-QP1 | H1: ECM-QP4 | I1: ECM-QP3 | J1: ECM-QP2 | K1: ECM-QP1 | L1: VTM-rate4 | M1: VTM-rate3 | N1: VTM-rate2 | O1: VTM-rate1 | P1: VTM-rate0 | Q1: ECM-rate4 | R1: ECM-rate3 | S1: ECM-rate2 | T1: ECM-rate1 | U1: E-V-ratio4 | V1: E-V-ratio3 | W1: E-V-ratio2 | X1: E-V-ratio1
A2: Gaming_LD_HD/ | B2: ARPG2 | C2: 43 | D2: 38 | E2: 34 | F2: 30 | G2: 28 | H2: 42 | I2: 38 | J2: 34 | K2: 30 | L2: 482.9832 | M2: 992.8128 | N2: 1752.1864 | O2: 3189.1456 | P2: 4192.46 | Q2: 477.4032 | R2: 865.4232 | S2: 1537.8136 | T2: 2780.1632 | U2: 0.9884468 | V2: 0.8716882 | W2: 0.87765411 | X2: 0.871758
A3: Gaming_LD_HD/ | B3: Level1 | C3: 46 | D3: 42 | E3: 38 | F3: 34 | G3: 30 | H3: 46 | I3: 42 | J3: 38 | K3: 34 | L3: 604.1888 | M3: 1483.8488 | N3: 3568.1352 | O3: 8285.3656 | P3: 19217.081 | Q3: 558.1008 | R3: 1376.4072 | S3: 3307.412 | T3: 7598.8624 | U3: 0.92371921 | V3: 0.92759262 | W3: 0.92693012 | X3: 0.91714268
A4: SDR_LD_HD/ | B4: GregoryCactus2 | C4: 48 | D4: 42 | E4: 36 | F4: 28 | G4: 26 | H4: 48 | I4: 42 | J4: 36 | K4: 28 | L4: 155.904 | M4: 542.6488 | N4: 1682.1256 | O4: 7200.4568 | P4: 11011.822 | Q4: 147.1624 | R4: 507.536 | S4: 1550.404 | T4: 6576.7392 | U4: 0.9439296 | V4: 0.93529369 | W4: 0.92169336 | X4: 0.91337805
A5: SDR_LD_HD/ | B5: GregoryFence2 | C5: 50 | D5: 44 | E5: 38 | F5: 30 | G5: 28 | H5: 50 | I5: 44 | J5: 38 | K5: 30 | L5: 209.46 | M5: 647.0472 | N5: 1878.4456 | O5: 7117.636 | P5: 9381.1056 | Q5: 192.7472 | R5: 606.0648 | S5: 1761.9432 | T5: 6538.3632 | U5: 0.92021006 | V5: 0.93666243 | W5: 0.93797936 | X5: 0.91861444
A6: SDR_LD_HD/ | B6: GregoryScarf2 | C6: 48 | D6: 42 | E6: 36 | F6: 28 | G6: 26 | H6: 48 | I6: 42 | J6: 36 | K6: 28 | L6: 263.6696 | M6: 737.7448 | N6: 1990.3064 | O6: 7363.0504 | P6: 10853.043 | Q6: 233.0848 | R6: 669.4496 | S6: 1828.128 | T6: 6614.7224 | U6: 0.88400331 | V6: 0.90742707 | W6: 0.91851586 | X6: 0.89836712
A7: SDR_LD_HD/ | B7: GregoryWalk1 | C7: 46 | D7: 40 | E7: 34 | F7: 28 | G7: 26 | H7: 46 | I7: 40 | J7: 34 | K7: 28 | L7: 272.9184 | M7: 802.8552 | N7: 2210.6656 | O7: 6096.152 | P7: 8958.4784 | Q7: 245.1696 | R7: 734.328 | S7: 2021.0032 | T7: 5491.7592 | U7: 0.89832565 | V7: 0.91464563 | W7: 0.91420575 | X7: 0.90085667
A8: SDR_LD_HD/ | B8: BlackSwan | C8: 40 | D8: 36 | E8: 30 | F8: 24 | G8: 22 | H8: 40 | I8: 36 | J8: 30 | K8: 24 | L8: 1780.5384 | M8: 4290.0072 | N8: 15995.886 | O8: 47030.121 | P8: 70792.082 | Q8: 1707.3808 | R8: 4128.4272 | U8: 0.95891265 | V8: 0.96233573
A9: SDR_LD_HD/ | B9: BlackSwan2 | C9: 46 | D9: 40 | E9: 34 | F9: 26 | G9: 24 | H9: 46 | I9: 40 | J9: 34 | K9: 26 | L9: 1113.6688 | M9: 3580.2504 | N9: 10046.116 | O9: 46731.173 | P9: 65120.769 | Q9: 1043.8128 | R9: 3245.6664 | U9: 0.93727399 | V9: 0.90654732
A10: SDR_LD_HD/ | B10: Camellia | C10: 44 | D10: 38 | E10: 32 | F10: 24 | G10: 22 | H10: 44 | I10: 38 | J10: 32 | K10: 24 | L10: 885.3472 | M10: 2072.6144 | N10: 4620.004 | O10: 18168.482 | P10: 28750.394 | Q10: 806.1208 | R10: 1859.4184 | S10: 4102.1288 | T10: 0 | U10: 0.91051375 | V10: 0.89713668 | W10: 0.8879059 | X10: 0
A11: SDR_RA_HD/ | B11: Dance | C11: 50 | D11: 46 | E11: 40 | F11: 34 | G11: 32 | H11: 50 | I11: 46 | J11: 40 | K11: 34 | L11: 347.588 | M11: 645.1544 | N11: 1739.8408 | O11: 4512.816 | P11: 6008.396 | Q11: 302.7744 | R11: 557.0656 | S11: 1540.576 | T11: 4004.0608 | U11: 0.87107265 | V11: 0.8634609 | W11: 0.88546952 | X11: 0.88726436
A12: SDR_RA_HD/ | B12: ParkJoy | C12: 48 | D12: 44 | E12: 40 | F12: 36 | G12: 34 | H12: 48 | I12: 44 | J12: 40 | K12: 36 | L12: 614.4016 | M12: 1374.3232 | N12: 2903.0856 | O12: 5885.5672 | P12: 8454.108 | Q12: 589.2496 | R12: 1309.012 | S12: 2740.2072 | T12: 5526.6944 | U12: 0.95906261 | V12: 0.95247755 | W12: 0.94389473 | X12: 0.93902494
A13: SDR_RA_HD/ | B13: PrincessRun | C13: 52 | D13: 48 | E13: 42 | F13: 36 | G13: 34 | H13: 52 | I13: 48 | J13: 42 | K13: 36 | L13: 248.8296 | M13: 561.2032 | N13: 1773.2784 | O13: 4949.6984 | P13: 7002.4432 | Q13: 237.5736 | R13: 530.956 | S13: 1658.716 | T13: 4576.8544 | U13: 0.95476422 | V13: 0.94610294 | W13: 0.93539514 | X13: 0.92467339
A14: SDR_RA_HD/ | B14: Umbrella | C14: 50 | D14: 46 | E14: 41 | F14: 35 | G14: 33 | H14: 50 | I14: 46 | J14: 40 | K14: 34 | L14: 462.4776 | M14: 845.7232 | N14: 1720.0512 | O14: 3991.4288 | P14: 5215.9448 | Q14: 416.3248 | R14: 744.9136 | S14: 1704.404 | T14: 3874.7648 | U14: 0.90020533 | V14: 0.88080072 | W14: 0.99090306 | X14: 0.97077137
A15: SDR_RA_HD/ | B15: DucksTakeOff | C15: 52 | D15: 44 | E15: 36 | F15: 28 | G15: 26 | H15: 52 | I15: 44 | J15: 36 | K15: 28 | L15: 262.6752 | M15: 1221.7888 | N15: 5264.0472 | O15: 23804.238 | P15: 35899 | Q15: 252.4608 | R15: 1142.364 | S15: 4936.0648 | T15: 22382.782 | U15: 0.96111395 | V15: 0.93499302 | W15: 0.93769387 | X15: 0.94028556
A16: SDR_RA_HD/ | B16: Seeking | C16: 52 | D16: 48 | E16: 44 | F16: 38 | G16: 36 | H16: 52 | I16: 48 | J16: 44 | K16: 38 | L16: 215.8112 | M16: 413.0096 | N16: 796.0408 | O16: 2006.336 | P16: 2703.0616 | Q16: 195.1384 | R16: 369.3152 | S16: 711.348 | T16: 1788.2864 | U16: 0.90420886 | V16: 0.89420488 | W16: 0.89360746 | X16: 0.8913195
A17: UGC_RA/ | B17: DaylightPortraitAnimal | C17: 48 | D17: 42 | E17: 38 | F17: 34 | G17: 32 | H17: 48 | I17: 42 | J17: 38 | K17: 34 | L17: 533.7944 | M17: 1395.5688 | N17: 2461.8312 | O17: 4183.544 | P17: 5372.4536 | Q17: 493.3072 | R17: 1287.992 | S17: 2278.384 | T17: 3870.6032 | U17: 0.92415207 | V17: 0.92291544 | W17: 0.92548344 | X17: 0.9251972
A18: UGC_RA/ | B18: NightLandscapeRunning | C18: 44 | D18: 40 | E18: 36 | F18: 32 | G18: 30 | H18: 44 | I18: 40 | J18: 36 | K18: 32 | L18: 255.4416 | M18: 434.5784 | N18: 754.2096 | O18: 1402.4896 | P18: 2038.0816 | Q18: 225.9728 | R18: 383.6776 | S18: 670.5392 | T18: 1256.428 | U18: 0.88463586 | V18: 0.88287315 | W18: 0.88906214 | X18: 0.89585548
A19: UGC_RA/ | B19: TwilightPortraitVehicle | C19: 44 | D19: 40 | E19: 36 | F19: 32 | G19: 30 | H19: 44 | I19: 40 | J19: 36 | K19: 32 | L19: 174.2768 | M19: 287.1912 | N19: 472.1352 | O19: 809.748 | P19: 1098.7616 | Q19: 142.5704 | R19: 231.8936 | S19: 386.084 | T19: 673.5 | U19: 0.81806873 | V19: 0.80745371 | W19: 0.81774034 | X19: 0.83174025
A20: gaming
A21: sdr ld hd
A22: sdr hd ra
A23: ugc
E24: 0..1 for confident..disagree | I24: ECM-MOS | J24: ECM-CI | K24: BR mismatch | M24: qp changed
A25: codec | B25: sequence | C25: QP | D25: Mean | E25: (L1n-abs(Mean))/L1n | F25: aggregated | G25: sum(abs(mean)) | H25: sum(l1n-abs(m))/l1n) | K25: initial QPs | M25: proposed QPs | O25: comments | P25: BR ratio from QP to QP | Q25: BR ratio from highest to lowest | R25: cube-root highest/loest | S25: BR using constant BR ratio | T25: rounded BR | U25: transposed BR array
A26: VTM | B26: ARPG2 | C26: QP1 | D26: 0.17647059 | E26: 0.72727273 | F26: 0.17647059 | G26: 1.0588235 | H26: 0.72727273 | I26: dropped
A27: VTM | B27: ARPG2 | C27: QP2 | D27: 0.35294118 | E27: 0 | F27: 0.52941176 | I27: dropped
A28: VTM | B28: ARPG2 | C28: QP3 | D28: 0.23529412 | E28: 0 | F28: 0.76470588 | I28: dropped
A29: VTM | B29: ARPG2 | C29: QP4 | D29: -0.29411765 | E29: 0 | F29: 0.47058824 | I29: dropped
A30: VTM | B30: ARPG2 | C30: QP5 | D30: 0 | E30: 0 | F30: 0.47058824 | I30: dropped
A31: VTM | B31: Level1 | C31: QP1 | D31: 0.41176471 | E31: 0.22222222 | F31: 0.41176471 | G31: 0.76470588 | H31: 0.62222222 | K31: 30 | L31: 19217.081
A32: VTM | B32: Level1 | C32: QP2 | D32: 0.17647059 | E32: 0.4 | F32: 0.58823529 | K32: 34 | L32: 8285.3656 | M32: 35 | N32: 6820.8608 | O32: need to degrade 1st point as it is too close to transparent quality | Q32: =N32/N35 -> 13.990889 | R32: =POWER(Q32,1/3) -> 2.4096193 | S32: =N32 -> 6820.8608 | T32: =100*INT((S32+50)/100) -> 6800 | U32: {=TRANSPOSE(T32:T35)} -> 6800 | V32: 2800 | W32: 1200 | X32: 500
A33: VTM | B33: Level1 | C33: QP3 | D33: 0 | E33: 0 | F33: 0.58823529 | K33: 38 | L33: 3568.1352 | M33: 39 | N33: 2875.5912 | P33: =N32/N33 -> 2.3719856 | S33: =S32/R32 -> 2830.6798 | T33: =100*INT((S33+50)/100) -> 2800
A34: VTM | B34: Level1 | C34: QP4 | D34: -0.17647059 | E34: 0 | F34: 0.41176471 | K34: 42 | L34: 1483.8488 | M34: 43 | N34: 1183.6912 | P34: =N33/N34 -> 2.4293424 | S34: =S33/R32 -> 1174.7415 | T34: =100*INT((S34+50)/100) -> 1200
A35: VTM | B35: Level1 | C35: QP5 | D35: 0 | E35: 0 | F35: 0.41176471 | K35: 46 | L35: 604.1888 | M35: 47 | N35: 487.5216 | P35: =N34/N35 -> 2.4279769 | S35: =S34/R32 -> 487.5216 | T35: =100*INT((S35+50)/100) -> 500
A36: VTM | B36: GregoryCactus2 | C36: QP1 | D36: 0.52941176 | E36: 0 | F36: 0.52941176 | G36: 1.4117647 | H36: 1.4318182 | K36: 26 | L36: 11011.822
A37: VTM | B37: GregoryCactus2 | C37: QP2 | D37: 0 | E37: 1 | F37: 0.52941176 | K37: 28 | L37: 7200.4568 | M37: 29 | N37: 6128.7688 | O37: need to degrade 1st point as it is too close to transparent quality | Q37: =N37/N40 -> 31.758965 | R37: =POWER(Q37,1/3) -> 3.1668108 | S37: =N37 -> 6128.7688 | T37: =100*INT((S37+50)/100) -> 6100 | U37: {=TRANSPOSE(T37:T40)} -> 6100 | V37: 1900 | W37: 600 | X37: 200
A38: VTM | B38: GregoryCactus2 | C38: QP3 | D38: -0.35294118 | E38: 0.25 | F38: 0.17647059 | K38: 36 | L38: 1682.1256 | M38: 35 | N38: 2013.616 | O38: no change as previous point was degraded | P38: =N37/N38 -> 3.0436631 | S38: =S37/R37 -> 1935.3126 | T38: =100*INT((S38+50)/100) -> 1900
A39: VTM | B39: GregoryCactus2 | C39: QP4 | D39: -0.52941176 | E39: 0.18181818 | F39: -0.35294118 | K39: 42 | L39: 542.6488 | M39: 41 | N39: 661.628 | P39: =N38/N39 -> 3.0434262 | S39: =S38/R37 -> 611.12354 | T39: =100*INT((S39+50)/100) -> 600
A40: VTM | B40: GregoryCactus2 | C40: QP5 | D40: 0 | E40: 0 | F40: -0.35294118 | K40: 48 | L40: 155.904 | M40: 47 | N40: 192.9776 | P40: =N39/N40 -> 3.4285223 | S40: =S39/R37 -> 192.9776 | T40: =100*INT((S40+50)/100) -> 200
...

Sheet report_al0041_sdr_uhd
A1: SubDir | B1: Sequence | C1: VTM-QP5 | D1: VTM-QP4 | E1: VTM-QP3 | F1: VTM-QP2 | G1: VTM-QP1 | H1: ECM-QP4 | I1: ECM-QP3 | J1: ECM-QP2 | K1: ECM-QP1 | L1: VTM-rate4 | M1: VTM-rate3 | N1: VTM-rate2 | O1: VTM-rate1 | P1: VTM-rate0 | Q1: ECM-rate4 | R1: ECM-rate3 | S1: ECM-rate2 | T1: ECM-rate1 | U1: E-V-ratio4 | V1: E-V-ratio3 | W1: E-V-ratio2 | X1: E-V-ratio1
A2: SDR_RA_UHD-4K/ | B2: FireDance | C2: 44 | D2: 42 | E2: 38 | F2: 32 | G2: 30 | H2: 44 | I2: 40 | J2: 36 | K2: 32 | L2: 586.86 | M2: 726.1992 | N2: 1108.4728 | O2: 2078.2856 | P2: 2670.208 | Q2: 473.8664 | R2: 724.748 | S2: 1099.868 | T2: 1699.2848 | U2: 0.80746072 | V2: 0.99800165 | W2: 0.99223725 | X2: 0.81763777
A3: SDR_RA_UHD-4K/ | B3: HallwayScene | C3: 50 | D3: 50 | E3: 46 | F3: 42 | G3: 38 | H3: 52 | I3: 48 | J3: 44 | K3: 40 | L3: 130.0344 | M3: 130.0344 | N3: 186.768 | O3: 279.46 | P3: 431.1232 | Q3: 86.6664 | R3: 119.6144 | S3: 175.1976 | T3: 265.388 | U3: 0.66648825 | V3: 0.91986736 | W3: 0.93804934 | X3: 0.94964575
A4: SDR_RA_UHD-4K/ | B4: OfficeScene | C4: 50 | D4: 48 | E4: 40 | F4: 36 | G4: 34 | H4: 52 | I4: 48 | J4: 40 | K4: 36 | L4: 122.8768 | M4: 147.8152 | N4: 320.372 | O4: 489.1216 | P4: 619.6912 | Q4: 91.152 | R4: 126.4744 | S4: 267.3688 | T4: 408.5672 | U4: 0.74181619 | V4: 0.85562513 | W4: 0.83455733 | X4: 0.83530803
A5: SDR_RA_UHD-4K/ | B5: Roadtrip | C5: 50 | D5: 46 | E5: 42 | F5: 34 | G5: 30 | H5: 48 | I5: 44 | J5: 40 | K5: 32 | L5: 208.3952 | M5: 301.8008 | N5: 442.1872 | O5: 981.4288 | P5: 1506.4896 | Q5: 187.416 | R5: 272.488 | S5: 398.8072 | T5: 913.7232 | U5: 0.89932974 | V5: 0.90287368 | W5: 0.90189675 | X5: 0.93101323
A6: SDR_RA_UHD-4K/ | B6: TaikoDrums | C6: 50 | D6: 44 | E6: 42 | F6: 32 | G6: 30 | H6: 52 | I6: 44 | J6: 40 | K6: 32 | L6: 154.9232 | M6: 291.4096 | N6: 361.1008 | O6: 1088.8544 | P6: 1402.3384 | Q6: 108.412 | R6: 238.6328 | S6: 360.7544 | T6: 878.4024 | U6: 0.69977899 | V6: 0.81889135 | W6: 0.99904071 | X6: 0.80672163
A7: SDR_RA_UHD-4K/ | B7: Trees | C7: 50 | D7: 48 | E7: 40 | F7: 36 | G7: 34 | H7: 52 | I7: 48 | J7: 40 | K7: 36 | L7: 1062.0432 | M7: 1532.0296 | N7: 5884.276 | O7: 10892.968 | P7: 14938.106 | Q7: 691.9784 | R7: 1439.7128 | S7: 5492.736 | T7: 10090.627 | U7: 0.65155391 | V7: 0.93974216 | W7: 0.93345995 | X7: 0.92634323
A8: SDR RA UHD
E10: 0..1 for confident..disagree | I10: ECM-MOS | J10: ECM-CI | K10: BR mismatch | M10: qp changed
A11: codec | B11: sequence | C11: QP | D11: Mean | E11: (L1n-abs(Mean))/L1n | F11: aggregated | G11: sum(abs(mean)) | H11: sum(l1n-abs(m))/l1n) | K11: initial QPs | M11: proposed QPs | O11: comments | P11: BR ratio from QP to QP | Q11: BR ratio from highest to lowest | R11: cube-root highest/loest | S11: BR using constant BR ratio | T11: rounded BR | U11: transposed BR array
A12: VTM | B12: FireDance | C12: QP1 | D12: -0.23529412 | E12: 0.33333333 | F12: -0.23529412 | G12: 1.2352941 | H12: 1.3333333 | K12: 30 | L12: 2647.002
A13: VTM | B13: FireDance | C13: QP2 | D13: 0 | E13: 1 | F13: -0.23529412 | K13: 32 | L13: 2055.078 | M13: 30 | N13: 2647.002 | O13: qp1 too far from transparent | Q13: =N13/N16 -> 3.7653244 | R13: =POWER(Q13,1/3) -> 1.5557297 | S13: =N13 -> 2647.002 | T13: =100*INT((S13+50)/100) -> 2600 | U13: {=TRANSPOSE(T13:T16)} -> 2600 | V13: 1700 | W13: 1100 | X13: 700
A14: VTM | B14: FireDance | C14: QP3 | D14: -0.35294118 | E14: 0 | F14: -0.58823529 | K14: 38 | L14: 1085.269 | M14: 34 | N14: 1673.004 | P14: =N13/N14 -> 1.5821851 | S14: =S13/R13 -> 1701.4537 | T14: =100*INT((S14+50)/100) -> 1700
A15: VTM | B15: FireDance | C15: QP4 | D15: -0.35294118 | E15: 0 | F15: -0.94117647 | K15: 42 | L15: 702.9944 | M15: 38 | N15: 1085.269 | P15: =N14/N15 -> 1.541557 | S15: =S14/R13 -> 1093.6692 | T15: =100*INT((S15+50)/100) -> 1100
A16: VTM | B16: FireDance | C16: QP5 | D16: -0.29411765 | E16: 0 | F16: -1.2352941 | K16: 44 | L16: 563.6536 | M16: 42 | N16: 702.9944 | P16: =N15/N16 -> 1.5437804 | S16: =S15/R13 -> 702.9944 | T16: =100*INT((S16+50)/100) -> 700
A17: VTM | B17: HallwayScene | C17: QP1 | D17: -0.52941176 | E17: 0.18181818 | F17: -0.52941176 | G17: 2.4117647 | H17: 0.36363636 | K17: 38 | L17: 407.9144
A18: VTM | B18: HallwayScene | C18: QP2 | D18: -0.52941176 | E18: 0.18181818 | F18: -1.0588235 | K18: 42 | L18: 256.256 | M18: 31 | N18: 1019.704 | O18: all rates very low | Q18: =N18/N21 -> 9.5452878 | R18: =POWER(Q18,1/3) -> 2.1212719 | S18: =N18 -> 1019.704 | T18: =100*INT((S18+50)/100) -> 1000 | U18: {=TRANSPOSE(T18:T21)} -> 1000 | V18: 500 | W18: 200 | X18: 100
A19: VTM | B19: HallwayScene | C19: QP3 | D19: -0.47058824 | E19: 0 | F19: -1.5294118 | K19: 46 | L19: 163.5632 | M19: 36 | N19: 518.9072 | P19: =N18/N19 -> 1.965099 | S19: =S18/R18 -> 480.70405 | T19: =100*INT((S19+50)/100) -> 500
A20: VTM | B20: HallwayScene | C20: QP4 | D20: -0.52941176 | E20: 0 | F20: -2.0588235 | K20: 50 | L20: 106.828 | M20: 44 | N20: 204.2448 | P20: =N19/N20 -> 2.540614 | S20: =S19/R18 -> 226.61124 | T20: =100*INT((S20+50)/100) -> 200
A21: VTM | B21: HallwayScene | C21: QP5 | D21: -0.35294118 | E21: 0 | F21: -2.4117647 | K21: 50 | L21: 106.828 | M21: 50 | N21: 106.828 | P21: =N20/N21 -> 1.9119032 | S21: =S20/R18 -> 106.828 | T21: =100*INT((S21+50)/100) -> 100
A22: VTM | B22: OfficeScene | C22: QP1 | D22: -0.41176471 | E22: 0.22222222 | F22: -0.41176471 | G22: 1.8235294 | H22: 0.68888889 | I22: dropped
A23: VTM | B23: OfficeScene | C23: QP2 | D23: 0.23529412 | E23: 0 | F23: -0.17647059 | I23: dropped
A24: VTM | B24: OfficeScene | C24: QP3 | D24: 0.17647059 | E24: 0 | F24: 0 | I24: dropped
A25: VTM | B25: OfficeScene | C25: QP4 | D25: -0.76470588 | E25: 0.13333333 | F25: -0.76470588 | I25: dropped
A26: VTM | B26: OfficeScene | C26: QP5 | D26: -0.23529412 | E26: 0.33333333 | F26: -1 | I26: dropped
A27: VTM | B27: Roadtrip | C27: QP1 | D27: -0.058823529 | E27: 0.8 | F27: -0.058823529 | G27: 1.5294118 | H27: 2.1119769 | I27: dropped
A28: VTM | B28: Roadtrip | C28: QP2 | D28: 0.29411765 | E28: 0.28571429 | F28: 0.23529412 | I28: dropped
A29: VTM | B29: Roadtrip | C29: QP3 | D29: -0.35294118 | E29: 0.4 | F29: -0.11764706 | I29: dropped
A30: VTM | B30: Roadtrip | C30: QP4 | D30: -0.29411765 | E30: 0.44444444 | F30: -0.41176471 | I30: dropped
A31: VTM | B31: Roadtrip | C31: QP5 | D31: -0.52941176 | E31: 0.18181818 | F31: -0.94117647 | I31: dropped
A32: VTM | B32: TaikoDrums | C32: QP1 | D32: 0.058823529 | E32: 0.8 | F32: 0.058823529 | G32: 1.2941176 | H32: 1.05 | K32: 30 | L32: 1379.13
A33: VTM | B33: TaikoDrums | C33: QP2 | D33: 0.35294118 | E33: 0 | F33: 0.41176471 | K33: 32 | L33: 1065.647 | M33: 33 | N33: 947.984 | O33: all rates very low | Q33: =N33/N36 -> 5.6774756 | R33: =POWER(Q33,1/3) -> 1.7839599 | S33: =N33 -> 947.984 | T33: =100*INT((S33+50)/100) -> 900 | U33: {=TRANSPOSE(T33:T36)} -> 900 | V33: 500 | W33: 300 | X33: 200
A34: VTM | B34: TaikoDrums | C34: QP3 | D34: -0.35294118 | E34: 0.25 | F34: 0.058823529 | K34: 42 | L34: 337.8952 | M34: 38 | N34: 532.1064 | P34: =N33/N34 -> 1.7815685 | S34: =S33/R33 -> 531.3931 | T34: =100*INT((S34+50)/100) -> 500
A35: VTM | B35: TaikoDrums | C35: QP4 | D35: -0.058823529 | E35: 0 | F35: 0 | K35: 46 | L35: 212.3688 | M35: 43 | N35: 302.2208 | P35: =N34/N35 -> 1.7606545 | S35: =S34/R33 -> 297.87278 | T35: =100*INT((S35+50)/100) -> 300
A36: VTM | B36: TaikoDrums | C36: QP5 | D36: -0.47058824 | E36: 0 | F36: -0.47058824 | K36: 50 | L36: 131.716 | M36: 48 | N36: 166.9728 | P36: =N35/N36 -> 1.8100002 | S36: =S35/R33 -> 166.9728 | T36: =100*INT((S36+50)/100) -> 200
A37: VTM | B37: Trees | C37: QP1 | D37: -0.23529412 | E37: 0.5 | F37: -0.23529412 | G37: 1.4117647 | H37: 2.1 | I37: dropped
A38: VTM | B38: Trees | C38: QP2 | D38: 0.17647059 | E38: 0.4 | F38: -0.058823529 | I38: dropped
A39: VTM | B39: Trees | C39: QP3 | D39: -0.058823529 | E39: 0.8 | F39: -0.11764706 | I39: dropped
A40: VTM | B40: Trees | C40: QP4 | D40: -0.47058824 | E40: 0.2 | F40: -0.58823529 | I40: dropped
A41: VTM | B41: Trees | C41: QP5 | D41: -0.47058824 | E41: 0.2 | F41: -1.0588235 | I41: dropped
...

Sheet report_al0041_hdr_8kcrop
A1: SubDir | B1: Sequence | C1: VTM-QP5 | D1: VTM-QP4 | E1: VTM-QP3 | F1: VTM-QP2 | G1: VTM-QP1 | H1: ECM-QP4 | I1: ECM-QP3 | J1: ECM-QP2 | K1: ECM-QP1 | L1: VTM-rate4 | M1: VTM-rate3 | N1: VTM-rate2 | O1: VTM-rate1 | P1: VTM-rate0 | Q1: ECM-rate4 | R1: ECM-rate3 | S1: ECM-rate2 | T1: ECM-rate1 | U1: E-V-ratio4 | V1: E-V-ratio3 | W1: E-V-ratio2 | X1: E-V-ratio1
A2: HDR_RA_8Kcrop/ | B2: FashionLadyCrop1 | C2: 47 | D2: 41 | E2: 35 | F2: 29 | G2: 27 | H2: 46 | I2: 40 | J2: 34 | K2: 28 | L2: 288.59242 | M2: 528.65179 | N2: 1025.7499 | O2: 2026.1861 | P2: 2549.8825 | Q2: 266.99747 | R2: 497.30274 | S2: 973.33263 | T2: 1971.1844 | U2: 0.92517147 | V2: 0.9407 | W2: 0.94889859 | X2: 0.97285457
A3: HDR_RA_8Kcrop/ | B3: FashionLadyDyncropUD | C3: 47 | D3: 41 | E3: 35 | F3: 29 | G3: 27 | H3: 46 | I3: 40 | J3: 34 | K3: 28 | L3: 269.68421 | M3: 509.08547 | N3: 1009.1255 | O3: 2080.1874 | P3: 2658.9701 | Q3: 248.16126 | R3: 477.57474 | S3: 972.99916 | T3: 2056.0143 | U3: 0.92019204 | V3: 0.93810325 | W3: 0.96420037 | X3: 0.98837939
A4: HDR_RA_8Kcrop/ | B4: MeltMetalCrop1 | C4: 50 | D4: 44 | E4: 38 | F4: 32 | G4: 30 | H4: 50 | I4: 44 | J4: 38 | K4: 32 | L4: 805.59786 | M4: 3165.1688 | N4: 9201.2098 | O4: 21933.813 | P4: 28928.196 | Q4: 767.55594 | R4: 3046.6563 | S4: 8711.2004 | T4: 20377.548 | U4: 0.95277802 | V4: 0.96255728 | W4: 0.94674511 | X4: 0.92904721
A5: HDR_RA_8Kcrop/ | B5: MeltMetalCropBC | C5: 50 | D5: 44 | E5: 38 | F5: 30 | G5: 28 | H5: 50 | I5: 44 | J5: 38 | K5: 30 | L5: 1148.0714 | M5: 4317.1726 | N5: 12220.733 | O5: 37489.321 | P5: 47032.265 | Q5: 1100.9275 | R5: 4212.7097 | S5: 11718.15 | T5: 34787.773 | U5: 0.95893639 | V5: 0.97580294 | W5: 0.95887455 | X5: 0.9279382
A6: HDR 8kCrop
E7: 0..1 for confident..disagree | I7: ECM-MOS | J7: ECM-CI | K7: BR mismatch | M7: qp changed
A8: codec | B8: sequence | C8: QP | D8: Mean | E8: (L1n-abs(Mean))/L1n | F8: aggregated | G8: sum(abs(mean)) | H8: sum(l1n-abs(m))/l1n) | K8: initial QPs | M8: proposed QPs | O8: comments | P8: BR ratio from QP to QP | Q8: BR ratio from highest to lowest | R8: cube-root highest/loest | S8: BR using constant BR ratio | T8: rounded BR | U8: transposed BR array
A9: VTM | B9: FashionLadyCrop1 | C9: QP1 | D9: -0.25 | E9: 0.6 | F9: -0.25 | G9: 0.9375 | H9: 1.2666667 | K9: 27 | L9: 2522.04
A10: VTM | B10: FashionLadyCrop1 | C10: QP2 | D10: -0.0625 | E10: 0.66666667 | F10: -0.3125 | K10: 29 | L10: 1998.336 | M10: 27 | N10: 2522.04 | O10: need to reduce drop | Q10: =N10/N13 -> 8.607175 | R10: =POWER(Q10,1/3) -> 2.0493692 | S10: =N10 -> 2522.04 | T10: =100*INT((S10+50)/100) -> 2500 | U10: {=TRANSPOSE(T10:T13)} -> 2500 | V10: 1200 | W10: 600 | X10: 300
A11: VTM | B11: FashionLadyCrop1 | C11: QP3 | D11: -0.25 | E11: 0 | F11: -0.5625 | K11: 35 | L11: 997.9048 | M11: 34 | N11: 1113.368 | O11: reduce drop / previous qp | P11: =N10/N11 -> 2.2652349 | S11: =S10/R10 -> 1230.6421 | T11: =100*INT((S11+50)/100) -> 1200
A12: VTM | B12: FashionLadyCrop1 | C12: QP4 | D12: -0.375 | E12: 0 | F12: -0.9375 | K12: 41 | L12: 500.8017 | M12: 40 | N12: 561.7882 | O12: reduce drop / previous qp | P12: =N11/N12 -> 1.9818287 | S12: =S11/R10 -> 600.49797 | T12: =100*INT((S12+50)/100) -> 600
A13: VTM | B13: FashionLadyCrop1 | C13: QP5 | K13: 47 | L13: 260.7474 | M13: 46 | N13: 293.016 | P13: =N12/N13 -> 1.9172612 | S13: =S12/R10 -> 293.016 | T13: =100*INT((S13+50)/100) -> 300
A14: VTM | B14: FashionLadyDyncropUD | C14: QP1 | D14: -0.1875 | E14: 0.57142857 | F14: -0.1875 | G14: 0.9375 | H14: 1.4714286 | I14: dropped
A15: VTM | B15: FashionLadyDyncropUD | C15: QP2 | D15: -0.1875 | E15: 0.4 | F15: -0.375 | I15: dropped
A16: VTM | B16: FashionLadyDyncropUD | C16: QP3 | D16: -0.125 | E16: 0.5 | F16: -0.5 | I16: dropped
A17: VTM | B17: FashionLadyDyncropUD | C17: QP4 | D17: -0.4375 | E17: 0 | F17: -0.9375 | I17: dropped
A18: VTM | B18: FashionLadyDyncropUD | C18: QP5 | I18: dropped
A19: VTM | B19: MeltMetalCrop1 | C19: QP1 | D19: 0.125 | E19: 0.66666667 | F19: 0.125 | G19: 0.6875 | H19: 1.6666667 | I19: dropped
A20: VTM | B20: MeltMetalCrop1 | C20: QP2 | D20: 0 | E20: 1 | F20: 0.125 | I20: dropped
A21: VTM | B21: MeltMetalCrop1 | C21: QP3 | D21: -0.1875 | E21: 0 | F21: -0.0625 | I21: dropped
A22: VTM | B22: MeltMetalCrop1 | C22: QP4 | D22: -0.375 | E22: 0 | F22: -0.4375 | I22: dropped
A23: VTM | B23: MeltMetalCrop1 | C23: QP5 | I23: dropped
A24: VTM | B24: MeltMetalCropBC | C24: QP1 | D24: 0.125 | E24: 0.5 | F24: 0.125 | G24: 1.25 | H24: 0.68181818 | K24: 28 | L24: 47004.42
A25: VTM | B25: MeltMetalCropBC | C25: QP2 | D25: -0.125 | E25: 0 | F25: 0 | K25: 30 | L25: 37461.48 | M25: 30 | N25: 37461.48 | Q25: =N25/N28 -> 20.526119 | R25: =POWER(Q25,1/3) -> 2.7380137 | S25: =N25 -> 37461.48 | T25: =100*INT((S25+50)/100) -> 37500 | U25: {=TRANSPOSE(T25:T28)} -> 37500 | V25: 13700 | W25: 5000 | X25: 1800
A26: VTM | B26: MeltMetalCropBC | C26: QP3 | D26: -0.4375 | E26: 0 | F26: -0.4375 | K26: 38 | L26: 12192.88 | M26: 37 | N26: 14174.28 | O26: reduce drop / previous qp | P26: =N25/N26 -> 2.6429194 | S26: =S25/R25 -> 13681.992 | T26: =100*INT((S26+50)/100) -> 13700
A27: VTM | B27: MeltMetalCropBC | C27: QP4 | D27: -0.5625 | E27: 0.18181818 | F27: -1 | K27: 44 | L27: 4289.328 | M27: 43 | N27: 5196.611 | O27: further reduce drop / previous qp | P27: =N26/N27 -> 2.7276007 | S27: =S26/R25 -> 4997.0502 | T27: =100*INT((S27+50)/100) -> 5000
A28: VTM | B28: MeltMetalCropBC | C28: QP5 | K28: 50 | L28: 1120.225 | M28: 48 | N28: 1825.064 | O28: same delta qp as previous point | P28: =N27/N28 -> 2.8473582 | S28: =S27/R25 -> 1825.064 | T28: =100*INT((S28+50)/100) -> 1800
A29: ECM | B29: FashionLadyCrop1 | C29: QP1 | D29: -0.25 | E29: 0 | F29: -0.25 | G29: 0.5625 | H29: 1.7333333
A30: ECM | B30: FashionLadyCrop1 | C30: QP2 | D30: 0.1875 | E30: 0.4 | F30: -0.0625 | K30: 28 | L30: 1943.824 | M30: 28 | N30: 1943.824 | Q30: =N30/N33 -> 8.1115184 | R30: =POWER(Q30,1/3) -> 2.0092504
A31: ECM | B31: FashionLadyCrop1 | C31: QP3 | D31: 0.0625 | E31: 0.66666667 | F31: 0 | K31: 34 | L31: 945.9726 | M31: 34 | N31: 945.9726 | P31: =N30/N31 -> 2.0548418
A32: ECM | B32: FashionLadyCrop1 | C32: QP4 | D32: -0.0625 | E32: 0.66666667 | F32: -0.0625 | K32: 40 | L32: 469.9427 | M32: 40 | N32: 469.9427 | P32: =N31/N32 -> 2.0129531
A33: ECM | B33: FashionLadyCrop1 | C33: QP5 | K33: 46 | L33: 239.6375 | M33: 46 | N33: 239.6375 | P33: =N32/N33 -> 1.9610566
A34: ECM | B34: FashionLadyDyncropUD | C34: QP1 | D34: -0.0625 | E34: 0.66666667 | F34: -0.0625 | G34: 0.25 | H34: 3 | I34: dropped
A35: ECM | B35: FashionLadyDyncropUD | C35: QP2 | D35: 0 | E35: 1 | F35: -0.0625 | I35: dropped
A36: ECM | B36: FashionLadyDyncropUD | C36: QP3 | D36: -0.0625 | E36: 0.66666667 | F36: -0.125 | I36: dropped
A37: ECM | B37: FashionLadyDyncropUD | C37: QP4 | D37: -0.125 | E37: 0.66666667 | F37: -0.25 | I37: dropped
A38: ECM | B38: FashionLadyDyncropUD | C38: QP5 | I38: dropped
A39: ECM | B39: MeltMetalCrop1 | C39: QP1 | D39: 0.1875 | E39: 0.66666667 | F39: 0.1875 | G39: 0.875 | H39: 0.86666667 | I39: dropped
A40: ECM | B40: MeltMetalCrop1 | C40: QP2 | D40: 0 | E40: 0 | F40: 0.1875 | I40: dropped
...

Sheet report_ak2026_hdr_8kcrop
A1: SubDir | B1: Sequence | C1: VTM-QP5 | D1: VTM-QP4 | E1: VTM-QP3 | F1: VTM-QP2 | G1: VTM-QP1 | H1: ECM-QP4 | I1: ECM-QP3 | J1: ECM-QP2 | K1: ECM-QP1 | L1: VTM-rate4 | M1: VTM-rate3 | N1: VTM-rate2 | O1: VTM-rate1 | P1: VTM-rate0 | Q1: ECM-rate4 | R1: ECM-rate3 | S1: ECM-rate2 | T1: ECM-rate1 | U1: E-V-ratio4 | V1: E-V-ratio3 | W1: E-V-ratio2 | X1: E-V-ratio1
A2: HDR_RA_8Kcrop | B2: WaterfallForest | C2: 46 | D2: 42 | E2: 40 | F2: 32 | G2: 30 | H2: 46 | I2: 42 | J2: 40 | K2: 32 | L2: 1807.7208 | M2: 3691.24 | N2: 5134.132 | O2: 16960.71 | P2: 22967.919 | Q2: 1696.0944 | R2: 3412.8992 | S2: 4710.8856 | T2: 15079.47 | U2: 0.9382502 | V2: 0.92459423 | W2: 0.91756223 | X2: 0.88908248
A3: HDR_RA_8Kcrop | B3: WomenFootball | C3: 49 | D3: 45 | E3: 39 | F3: 33 | G3: 30 | H3: 48 | I3: 44 | J3: 38 | K3: 32 | L3: 368.6528 | M3: 613.9344 | N3: 1311.188 | O3: 2731.064 | P3: 3985.1088 | Q3: 366.0712 | R3: 607.3896 | S3: 1286.0896 | T3: 2665.3776 | U3: 0.9929972 | V3: 0.98933958 | W3: 0.98085828 | X3: 0.97594842
A4: HDR_RA_8Kcrop | B4: ChandelierCropBR | C4: 52 | D4: 48 | E4: 44 | F4: 37 | G4: 35 | H4: 52 | I4: 48 | J4: 44 | K4: 36 | L4: 533.74667 | M4: 919.44 | N4: 1435.9093 | O4: 2841.9947 | P4: 3530.3 | Q4: 477.904 | R4: 853.07867 | S4: 1289.5773 | T4: 2808.028 | U4: 0.89537608 | V4: 0.92782418 | W4: 0.89809106 | X4: 0.9880483
A5: HDR_RA_8Kcrop | B5: Shells | C5: 48 | D5: 44 | E5: 36 | F5: 32 | G5: 30 | H5: 48 | I5: 44 | J5: 36 | K5: 32 | L5: 192.37643 | M5: 285.42473 | N5: 616.13178 | O5: 934.59884 | P5: 1119.9037 | Q5: 185.78091 | R5: 243.03734 | S5: 537.77925 | T5: 859.2966 | U5: 0.96571556 | V5: 0.85149365 | W5: 0.87283154 | X5: 0.91942827
A6: HDR_RA_8Kcrop | B6: SubwayTreeCropped | C6: 48 | D6: 44 | E6: 36 | F6: 32 | G6: 30 | H6: 48 | I6: 44 | J6: 36 | K6: 32 | L6: 208.7048 | M6: 394.0744 | N6: 1245.8464 | O6: 2236.1728 | P6: 3065.5472 | Q6: 196.8216 | R6: 392.3232 | S6: 1133.0504 | T6: 2030.6104 | U6: 0.94306216 | V6: 0.99555617 | W6: 0.90946235 | X6: 0.90807401
E8: 0..1 for confident..disagree | I8: ECM-MOS | J8: ECM-CI | K8: BR mismatch | M8: qp changed
A9: codec | B9: sequence | C9: QP | D9: Mean | E9: (L1n-abs(Mean))/L1n | F9: aggregated | G9: sum(abs(mean)) | H9: sum(l1n-abs(m))/l1n) | K9: initial QPs | M9: proposed QPs | O9: comments | P9: BR ratio from QP to QP | Q9: BR ratio from highest to lowest | R9: cube-root highest/loest | S9: BR using constant BR ratio | T9: rounded BR | U9: transposed BR array
A10: VTM | B10: WaterfallForest | C10: QP1 | D10: 0.55555556 | E10: 0 | F10: 0.55555556 | G10: 2.3888889 | H10: 0.64285714 | K10: 30 | L10: 22944.71
A11: VTM | B11: WaterfallForest | C11: QP2 | D11: 0.66666667 | E11: 0.14285714 | F11: 1.2222222 | K11: 32 | L11: 16937.5 | M11: 33 | N11: 14679.22 | Q11: =N11/N14 -> 6.7913385 | R11: =POWER(Q11,1/3) -> 1.8937317 | S11: =N11 -> 14679.22 | T11: =100*INT((S11+50)/100) -> 14700 | U11: {=TRANSPOSE(T11:T14)} -> 14700 | V11: 7800 | W11: 4100 | X11: 2200
A12: VTM | B12: WaterfallForest | C12: QP3 | D12: -0.11111111 | E12: 0.5 | F12: 1.1111111 | K12: 40 | L12: 5110.922 | M12: 38 | N12: 7009.724 | P12: =N11/N12 -> 2.0941224 | S12: =S11/R11 -> 7751.478 | T12: =100*INT((S12+50)/100) -> 7800
A13: VTM | B13: WaterfallForest | C13: QP4 | D13: -0.33333333 | E13: 0 | F13: 0.77777778 | K13: 42 | L13: 3668.031 | M13: 41 | N13: 4351.97 | O13: quality already too poor | P13: =N12/N13 -> 1.6107014 | S13: =S12/R11 -> 4093.2292 | T13: =100*INT((S13+50)/100) -> 4100
A14: VTM | B14: WaterfallForest | C14: QP5 | D14: 0.72222222 | E14: 0 | F14: 1.5 | K14: 46 | L14: 1784.514 | M14: 45 | N14: 2161.462 | P14: =N13/N14 -> 2.0134381 | S14: =S13/R11 -> 2161.462 | T14: =100*INT((S14+50)/100) -> 2200
A15: VTM | B15: WomenFootball | C15: QP1 | D15: 0.55555556 | E15: 0.16666667 | F15: 0.55555556 | G15: 1.5555556 | H15: 0.96031746 | K15: 30 | L15: 3961.904
A16: VTM | B16: WomenFootball | C16: QP2 | D16: 0.38888889 | E16: 0.22222222 | F16: 0.94444444 | K16: 33 | L16: 2707.858 | M16: 34 | N16: 2405.965 | Q16: =N16/N19 -> 6.0897803 | R16: =POWER(Q16,1/3) -> 1.8261392 | S16: =N16 -> 2405.965 | T16: =100*INT((S16+50)/100) -> 2400 | U16: {=TRANSPOSE(T16:T19)} -> 2400 | V16: 1300 | W16: 700 | X16: 400
A17: VTM | B17: WomenFootball | C17: QP3 | D17: 0.16666667 | E17: 0 | F17: 1.1111111 | K17: 39 | L17: 1287.984 | M17: 39 | N17: 1287.984 | P17: =N16/N17 -> 1.8680085 | S17: =S16/R16 -> 1317.5146 | T17: =100*INT((S17+50)/100) -> 1300
A18: VTM | B18: WomenFootball | C18: QP4 | D18: -0.16666667 | E18: 0.57142857 | F18: 0.94444444 | K18: 45 | L18: 590.7256 | M18: 44 | N18: 670.7064 | P18: =N17/N18 -> 1.9203395 | S18: =S17/R16 -> 721.47545 | T18: =100*INT((S18+50)/100) -> 700
A19: VTM | B19: WomenFootball | C19: QP5 | D19: -0.27777778 | E19: 0 | F19: 0.66666667 | K19: 49 | L19: 345.4488 | M19: 48 | N19: 395.0824 | P19: =N18/N19 -> 1.6976367 | S19: =S18/R16 -> 395.0824 | T19: =100*INT((S19+50)/100) -> 400
A20: VTM | B20: ChandelierCropBR | C20: QP1 | D20: 0.44444444 | E20: 0.2 | F20: 0.44444444 | G20: 1.2777778 | H20: 1.7 | K20: 35 | L20: 3530.3
A21: VTM | B21: ChandelierCropBR | C21: QP2 | D21: 0.44444444 | E21: 0.2 | F21: 0.88888889 | K21: 37 | L21: 2841.9947 | M21: 38 | N21: 2575.4973 | Q21: =N21/N24 -> 4.3040397 | R21: =POWER(Q21,1/3) -> 1.6266424 | S21: =N21 -> 2575.4973 | T21: =100*INT((S21+50)/100) -> 2600 | U21: {=TRANSPOSE(T21:T24)} -> 2600 | V21: 1600 | W21: 1000 | X21: 600
A22: VTM | B22: ChandelierCropBR | C22: QP3 | D22: -0.055555556 | E22: 0.8 | F22: 0.83333333 | K22: 44 | L22: 1408.0613 | M22: 43 | N22: 1542.3093 | P22: =N21/N22 -> 1.6698968 | S22: =S21/R21 -> 1583.3211 | T22: =100*INT((S22+50)/100) -> 1600
A23: VTM | B23: ChandelierCropBR | C23: QP4 | D23: -0.11111111 | E23: 0.5 | F23: 0.72222222 | K23: 48 | L23: 891.592 | M23: 47 | N23: 1001.9453 | P23: =N22/N23 -> 1.5393149 | S23: =S22/R21 -> 973.36768 | T23: =100*INT((S23+50)/100) -> 1000
A24: VTM | B24: ChandelierCropBR | C24: QP5 | D24: -0.22222222 | E24: 0 | F24: 0.5 | K24: 52 | L24: 505.8987 | M24: 51 | N24: 598.3907 | P24: =N23/N24 -> 1.6743999 | S24: =S23/R21 -> 598.3907 | T24: =100*INT((S24+50)/100) -> 600
A25: VTM | B25: Shells | C25: QP1 | D25: 0.11111111 | E25: 0.75 | F25: 0.11111111 | G25: 1.3888889 | H25: 1.9722222 | J25: 30 | K25: dropped | L25: 1119.9037
A26: VTM | B26: Shells | C26: QP2 | D26: 0.38888889 | E26: 0.22222222 | F26: 0.5 | J26: 32 | K26: dropped | L26: 906.7509 | M26: 33 | N26: 816.5935 | O26: very low BRs (transl motion fixed content) | Q26: =N26/N29 -> 4.9634455 | R26: =POWER(Q26,1/3) -> 1.7057986 | S26: =N26 -> 816.5935 | T26: =100*INT((S26+50)/100) -> 800 | U26: {=TRANSPOSE(T26:T29)} -> 800 | V26: 500 | W26: 300 | X26: 200
A27: VTM | B27: Shells | C27: QP3 | D27: -0.055555556 | E27: 0.8 | F27: 0.44444444 | J27: 36 | K27: dropped | L27: 588.2848 | M27: 36 | N27: 588.2848 | P27: =N26/N27 -> 1.3880921 | S27: =S26/R26 -> 478.71625 | T27: =100*INT((S27+50)/100) -> 500
A28: VTM | B28: Shells | C28: QP4 | D28: -0.44444444 | E28: 0.2 | F28: 0 | J28: 44 | K28: dropped | L28: 257.5807 | M28: 44 | N28: 257.5807 | P28: =N27/N28 -> 2.2838854 | S28: =S27/R26 -> 280.64054 | T28: =100*INT((S28+50)/100) -> 300
A29: VTM | B29: Shells | C29: QP5 | D29: -0.38888889 | E29: 0 | F29: -0.38888889 | J29: 48 | K29: dropped | L29: 164.5215 | M29: 48 | N29: 164.5215 | O29: qp47 would be better but not available | P29: =N28/N29 -> 1.5656355 | S29: =S28/R26 -> 164.5215 | T29: =100*INT((S29+50)/100) -> 200
A30: VTM | B30: SubwayTreeCropped | C30: QP1 | D30: 0.33333333 | E30: 0 | F30: 0.33333333 | G30: 1.8888889 | H30: 0.51515152 | K30: dropped
A31: VTM | B31: SubwayTreeCropped | C31: QP2 | D31: 0.5 | E31: 0.18181818 | F31: 0.83333333 | K31: dropped
A32: VTM | B32: SubwayTreeCropped | C32: QP3 | D32: 0.27777778 | E32: 0 | F32: 1.1111111 | K32: dropped
A33: VTM | B33: SubwayTreeCropped | C33: QP4 | D33: -0.55555556 | E33: 0 | F33: 0.55555556 | K33: dropped
A34: VTM | B34: SubwayTreeCropped | C34: QP5 | D34: -0.22222222 | E34: 0.33333333 | F34: 0.33333333 | K34: dropped
A35: ECM | B35: WaterfallForest | C35: QP1 | D35: 0.27777778 | E35: 0.28571429 | F35: 0.27777778 | G35: 0.94444444 | H35: 0.68571429 | I35: 8.13 | J35: 0.49 | K35: 32 | L35: 15056.67 | M35: 32 | N35: 15056.67 | Q35: =N35/N38 -> 8.9982215 | R35: =POWER(Q35,1/3) -> 2.0799468
A36: ECM | B36: WaterfallForest | C36: QP2 | D36: -0.33333333 | E36: 0 | F36: -0.055555556 | K36: 40 | L36: 4688.086 | M36: 38 | N36: 6384.093 | P36: =N35/N36 -> 2.3584666
A37: ECM | B37: WaterfallForest | C37: QP3 | D37: 0.16666667 | E37: 0.4 | F37: 0.11111111 | K37: 42 | L37: 3390.099 | M37: 40 | N37: 4688.086 | P37: =N36/N37 -> 1.3617696
A38: ECM | B38: WaterfallForest | C38: QP4 | D38: -0.16666667 | E38: 0 | F38: -0.055555556 | K38: 46 | L38: 1673.294 | M38: 46 | N38: 1673.294 | P38: =N37/N38 -> 2.8017109
A40: ECM | B40: WomenFootball | C40: QP1 | D40: 0.38888889 | E40: 0 | F40: 0.38888889 | G40: 1.0555556 | H40: 0.33333333 | I40: 8.56 | J40: 0.36 | K40: 32 | L40: 2642.578 | M40: 32 | N40: 2642.578 | Q40: =N40/N43 -> 7.6982223 | R40: =POWER(Q40,1/3) -> 1.9745288
A41: ECM | B41: WomenFootball | C41: QP2 | D41: 0.44444444 | E41: 0.33333333 | F41: 0.83333333 | K41: 38 | L41: 1263.29 | M41: 38 | N41: 1263.29 | P41: =N40/N41 -> 2.0918221
A42: ECM | B42: WomenFootball | C42: QP3 | D42: 0.055555556 | E42: 0 | F42: 0.88888889 | K42: 44 | L42: 584.5896 | M42: 44 | N42: 584.5896 | P42: =N41/N42 -> 2.1609861
...

Sheet report_ak2026_hdr_uhd
A1: SubDir | B1: Sequence | C1: VTM-QP5 | D1: VTM-QP4 | E1: VTM-QP3 | F1: VTM-QP2 | G1: VTM-QP1 | H1: ECM-QP4 | I1: ECM-QP3 | J1: ECM-QP2 | K1: ECM-QP1 | L1: VTM-rate4 | M1: VTM-rate3 | N1: VTM-rate2 | O1: VTM-rate1 | P1: VTM-rate0 | Q1: ECM-rate4 | R1: ECM-rate3 | S1: ECM-rate2 | T1: ECM-rate1 | U1: E-V-ratio4 | V1: E-V-ratio3 | W1: E-V-ratio2 | X1: E-V-ratio1
A2: HDR_RA_UHD-4K | B2: AMS06 | C2: 44 | D2: 40 | E2: 36 | F2: 32 | G2: 30 | H2: 44 | I2: 40 | J2: 36 | K2: 32 | L2: 1000.1816 | M2: 2261.5792 | N2: 4880.0648 | O2: 10587.329 | P2: 12853.941 | Q2: 983.0944 | R2: 2141.5712 | S2: 4624.6568 | T2: 9941.6016 | U2: 0.9829159 | V2: 0.94693619 | W2: 0.94766299 | X2: 0.93900943
A3: HDR_RA_UHD-4K | B3: SparksWelding | C3: 48 | D3: 40 | E3: 36 | F3: 28 | G3: 26 | H3: 48 | I3: 40 | J3: 36 | K3: 28 | L3: 324.3576 | M3: 1362.7496 | N3: 2602.804 | O3: 8566.4984 | P3: 11639.875 | Q3: 311.94 | R3: 1287.2824 | S3: 2429.3376 | T3: 7871.5472 | U3: 0.96171633 | V3: 0.94462137 | W3: 0.93335403 | X3: 0.9188757
A4: HDR_RA_UHD-4K | B4: AMS01 | C4: 48 | D4: 40 | E4: 36 | F4: 32 | G4: 30 | H4: 48 | I4: 40 | J4: 36 | K4: 32 | L4: 706.2528 | M4: 2653.9592 | N4: 5037.7176 | O4: 9879.7424 | P4: 14014.277 | Q4: 647.6664 | R4: 2417.088 | S4: 4563.1176 | T4: 8924.632 | U4: 0.91704613 | V4: 0.91074799 | W4: 0.90579067 | X4: 0.90332639
A5: HDR_RA_UHD-4K | B5: MeridianHDR2 | C5: 43 | D5: 42 | E5: 37 | F5: 28 | G5: 26 | H5: 44 | I5: 40 | J5: 36 | K5: 28 | L5: 184.38 | M5: 205.752 | N5: 356.48 | O5: 1416.1864 | P5: 1962.8448 | Q5: 145.756 | R5: 200.7968 | S5: 354.2192 | T5: 1244.016 | U5: 0.79051958 | V5: 0.97591664 | W5: 0.99365799 | X5: 0.87842674
A6: HDR_RA_UHD-4K | B6: NeptuneFountain3R1 | C6: 44 | D6: 40 | E6: 36 | F6: 32 | G6: 30 | H6: 44 | I6: 40 | J6: 36 | K6: 32 | L6: 395.2048 | M6: 853.62 | N6: 1820.6688 | O6: 3790.248 | P6: 5550.1752 | Q6: 366.384 | R6: 788.7384 | S6: 1681.6648 | T6: 3513.368 | U6: 0.92707376 | V6: 0.92399241 | W6: 0.92365223 | X6: 0.92694937
A7: HDR_RA_UHD-4K | B7: SparksDirtLot | C7: 44 | D7: 40 | E7: 36 | F7: 32 | G7: 30 | H7: 44 | I7: 40 | J7: 36 | K7: 32 | L7: 225.7032 | M7: 420.3608 | N7: 772.8552 | O7: 1457.1104 | P7: 2069.7192 | Q7: 205.5648 | R7: 380.1824 | S7: 708.0768 | T7: 1355.4176 | U7: 0.91077486 | V7: 0.90441925 | W7: 0.91618301 | X7: 0.93020927
A8: HDR_RA_UHD-4K | B8: SubwayTreeR1 | C8: 44 | D8: 40 | E8: 36 | F8: 32 | G8: 30 | H8: 44 | I8: 40 | J8: 36 | K8: 32 | L8: 329.8928 | M8: 673.2912 | N8: 1289.2248 | O8: 2502.1912 | P8: 3515.744 | Q8: 313.4752 | R8: 636.7616 | S8: 1212.9376 | T8: 2328.9408 | U8: 0.95023353 | V8: 0.94574472 | W8: 0.94082708 | X8: 0.93076053
I10: ECM-MOS | J10: ECM-CI | K10: BR mismatch | M10: qp changed
A11: codec | B11: sequence | C11: QP | D11: Mean | E11: (L1n-abs(Mean))/L1n | F11: aggregated | G11: sum(abs(mean)) | H11: sum(l1n-abs(m))/l1n) | K11: initial QPs | M11: proposed QPs | O11: comments | P11: BR ratio from QP to QP | Q11: BR ratio from highest to lowest | R11: cube-root highest/loest | S11: BR using constant BR ratio | T11: rounded BR | U11: transposed BR array
A12: VTM | B12: AMS06 | C12: QP1 | D12: 0.33333333 | E12: 0.4 | F12: 0.33333333 | G12: 0.83333333 | H12: 0.9 | K12: 30 | L12: 15819.29
A13: VTM | B13: AMS06 | C13: QP2 | D13: 0.22222222 | E13: 0 | F13: 0.55555556 | K13: 32 | L13: 10587.329 | M13: 33 | N13: 8687.983 | Q13: =N13/N16 -> 8.6864055 | R13: =POWER(Q13,1/3) -> 2.0556383 | S13: =N13 -> 8687.983 | T13: =100*INT((S13+50)/100) -> 8700 | U13: {=TRANSPOSE(T13:T16)} -> 8700 | V13: 4200 | W13: 2100 | X13: 1000
A14: VTM | B14: AMS06 | C14: QP3 | D14: 0.11111111 | E14: 0.5 | F14: 0.66666667 | K14: 36 | L14: 4880.0648 | M14: 37 | N14: 4020.008 | P14: =N13/N14 -> 2.1611855 | S14: =S13/R13 -> 4226.4162 | T14: =100*INT((S14+50)/100) -> 4200
A15: VTM | B15: AMS06 | C15: QP4 | D15: -0.055555556 | E15: 0 | F15: 0.61111111 | K15: 40 | L15: 2261.5792 | M15: 40 | N15: 2261.5792 | P15: =N14/N15 -> 1.7775225 | S15: =S14/R13 -> 2056.0116 | T15: =100*INT((S15+50)/100) -> 2100
A16: VTM | B16: AMS06 | C16: QP5 | D16: -0.11111111 | E16: 0 | F16: 0.5 | K16: 44 | L16: 1000.1816 | M16: 44 | N16: 1000.1816 | P16: =N15/N16 -> 2.2611686 | S16: =S15/R13 -> 1000.1816 | T16: =100*INT((S16+50)/100) -> 1000
A17: VTM | B17: SparksWelding | C17: QP1 | D17: 0.33333333 | E17: 0 | F17: 0.33333333 | G17: 1.3888889 | H17: 0.68571429 | K17: 26 | L17: 11639.875
A18: VTM | B18: SparksWelding | C18: QP2 | D18: 0.61111111 | E18: 0 | F18: 0.94444444 | K18: 28 | L18: 8538.648 | M18: 29 | N18: 7447.3888 | Q18: =N18/N21 -> 16.622834 | R18: =POWER(Q18,1/3) -> 2.5521235 | S18: =N18 -> 7447.3888 | T18: =100*INT((S18+50)/100) -> 7400 | U18: {=TRANSPOSE(T18:T21)} -> 7400 | V18: 2900 | W18: 1100 | X18: 400
A19: VTM | B19: SparksWelding | C19: QP3 | D19: -0.16666667 | E19: 0.4 | F19: 0.77777778 | K19: 36 | L19: 2574.955 | M19: 35 | N19: 3067.1784 | P19: =N18/N19 -> 2.4280912 | S19: =S18/R18 -> 2918.1145 | T19: =100*INT((S19+50)/100) -> 2900
A20: VTM | B20: SparksWelding | C20: QP4 | D20: 0 | E20: 0 | F20: 0.77777778 | K20: 40 | L20: 1334.903 | M20: 41 | N20: 1120.7664 | P20: =N19/N20 -> 2.7366795 | S20: =S19/R18 -> 1143.4065 | T20: =100*INT((S20+50)/100) -> 1100
A21: VTM | B21: SparksWelding | C21: QP5 | D21: -0.27777778 | E21: 0.28571429 | F21: 0.5 | K21: 48 | L21: 296.5072 | M21: 46 | N21: 448.0216 | P21: =N20/N21 -> 2.5015901 | S21: =S20/R18 -> 448.0216 | T21: =100*INT((S21+50)/100) -> 400
A22: VTM | B22: AMS01 | C22: QP1 | D22: 0.33333333 | E22: 0.25 | F22: 0.33333333 | G22: 1.8333333 | H22: 1.25 | K22: dropped
A23: VTM | B23: AMS01 | C23: QP2 | D23: 0.55555556 | E23: 0.16666667 | F23: 0.88888889 | K23: dropped
A24: VTM | B24: AMS01 | C24: QP3 | D24: 0.11111111 | E24: 0.5 | F24: 1 | K24: dropped
A25: VTM | B25: AMS01 | C25: QP4 | D25: 0.22222222 | E25: 0.33333333 | F25: 1.2222222 | K25: dropped
A26: VTM | B26: AMS01 | C26: QP5 | D26: -0.61111111 | E26: 0 | F26: 0.61111111 | K26: dropped
A27: VTM | B27: MeridianHDR2 | C27: QP1 | D27: -0.055555556 | E27: 0.85714286 | F27: -0.055555556 | G27: 1.2777778 | H27: 1.5793651 | K27: 26 | L27: 1934.9984 | O27: quality loss visible at lowest qps
A28: VTM | B28: MeridianHDR2 | C28: QP2 | D28: 0.33333333 | E28: 0 | F28: 0.27777778 | K28: 28 | L28: 1416.1864 | M28: 26 | N28: 1934.9984 | Q28: =N28/N31 -> 10.876546 | R28: =POWER(Q28,1/3) -> 2.2156288 | S28: =N28 -> 1934.9984 | T28: =100*INT((S28+50)/100) -> 1900 | U28: {=TRANSPOSE(T28:T31)} -> 1900 | V28: 900 | W28: 400 | X28: 200
A29: VTM | B29: MeridianHDR2 | C29: QP3 | D29: -0.38888889 | E29: 0.22222222 | F29: -0.11111111 | K29: 37 | L29: 356.48 | M29: 30 | N29: 1046.396 | P29: =N28/N29 -> 1.8492028 | S29: =S28/R28 -> 873.34053 | T29: =100*INT((S29+50)/100) -> 900
A30: VTM | B30: MeridianHDR2 | C30: QP4 | D30: -0.38888889 | E30: 0 | F30: -0.5 | K30: 42 | L30: 177.9056 | M30: 35 | N30: 485.8504 | P30: =N29/N30 -> 2.1537412 | S30: =S29/R28 -> 394.17277 | T30: =100*INT((S30+50)/100) -> 400
A31: VTM | B31: MeridianHDR2 | C31: QP5 | D31: -0.11111111 | E31: 0.5 | F31: -0.61111111 | K31: 43 | L31: 156.532 | M31: 42 | N31: 177.9056 | P31: =N30/N31 -> 2.730945 | S31: =S30/R28 -> 177.9056 | T31: =100*INT((S31+50)/100) -> 200
A32: VTM | B32: NeptuneFountain3R1 | C32: QP1 | D32: -0.22222222 | E32: 0.5 | F32: -0.22222222 | G32: 0.83333333 | H32: 0.5 | K32: 30 | L32: 5550.1752
A33: VTM | B33: NeptuneFountain3R1 | C33: QP2 | D33: 0.055555556 | E33: 0 | F33: -0.16666667 | K33: 32 | L33: 3790.248 | M33: 32 | N33: 3790.248 | Q33: =N33/N36 -> 7.9271735 | R33: =POWER(Q33,1/3) -> 1.9939126 | S33: =N33 -> 3790.248 | T33: =100*INT((S33+50)/100) -> 3800 | U33: {=TRANSPOSE(T33:T36)} -> 3800 | V33: 1900 | W33: 1000 | X33: 500
A34: VTM | B34: NeptuneFountain3R1 | C34: QP3 | D34: -0.11111111 | E34: 0 | F34: -0.27777778 | K34: 36 | L34: 1820.6688 | M34: 36 | N34: 1820.6688 | P34: =N33/N34 -> 2.0817888 | S34: =S33/R33 -> 1900.9098 | T34: =100*INT((S34+50)/100) -> 1900
A35: VTM | B35: NeptuneFountain3R1 | C35: QP4 | D35: -0.22222222 | E35: 0 | F35: -0.5 | K35: 40 | L35: 853.62 | M35: 39 | N35: 1032.8968 | P35: =N34/N35 -> 1.7626822 | S35: =S34/R33 -> 953.35662 | T35: =100*INT((S35+50)/100) -> 1000
A36: VTM | B36: NeptuneFountain3R1 | C36: QP5 | D36: -0.22222222 | E36: 0 | F36: -0.72222222 | K36: 44 | L36: 395.2048 | M36: 43 | N36: 478.1336 | P36: =N35/N36 -> 2.1602682 | S36: =S35/R33 -> 478.1336 | T36: =100*INT((S36+50)/100) -> 500
A37: VTM | B37: SparksDirtLot | C37: QP1 | D37: 0.16666667 | E37: 0.66666667 | F37: 0.16666667 | G37: 0.55555556 | H37: 1.4666667 | K37: dropped
A38: VTM | B38: SparksDirtLot | C38: QP2 | D38: 0.055555556 | E38: 0.8 | F38: 0.22222222 | K38: dropped
A39: VTM | B39: SparksDirtLot | C39: QP3 | D39: -0.055555556 | E39: 0 | F39: 0.16666667 | K39: dropped
A40: VTM | B40: SparksDirtLot | C40: QP4 | D40: -0.11111111 | E40: 0 | F40: 0.055555556 | K40: dropped
A41: VTM | B41: SparksDirtLot | C41: QP5 | D41: -0.16666667 | E41: 0 | F41: -0.11111111 | K41: dropped
...

Sheet report_ak2026_sdr_uhd
A1: SubDir | B1: Sequence | C1: VTM-QP5 | D1: VTM-QP4 | E1: VTM-QP3 | F1: VTM-QP2 | G1: VTM-QP1 | H1: ECM-QP4 | I1: ECM-QP3 | J1: ECM-QP2 | K1: ECM-QP1 | L1: VTM-rate4 | M1: VTM-rate3 | N1: VTM-rate2 | O1: VTM-rate1 | P1: VTM-rate0 | Q1: ECM-rate4 | R1: ECM-rate3 | S1: ECM-rate2 | T1: ECM-rate1 | U1: E-V-ratio4 | V1: E-V-ratio3 | W1: E-V-ratio2 | X1: E-V-ratio1
A2: SDR_RA_UHD-4K | B2: CrowdRun | C2: 52 | D2: 48 | E2: 44 | F2: 37 | G2: 35 | H2: 52 | I2: 48 | J2: 44 | K2: 36 | L2: 800.7464 | M2: 1565.4208 | N2: 2906.124 | O2: 7807.8872 | P2: 10445.623 | Q2: 713.7984 | R2: 1379.9928 | S2: 2541.6184 | T2: 7736.7704 | U2: 0.89141631 | V2: 0.8815475 | W2: 0.87457328 | X2: 0.99089167
A3: SDR_RA_UHD-4K | B3: DrivingPOV3 | C3: 53 | D3: 49 | E3: 41 | F3: 37 | G3: 35 | H3: 52 | I3: 48 | J3: 40 | K3: 36 | L3: 258.0392 | M3: 448.0264 | N3: 1341.8992 | O3: 2361.9208 | P3: 3238.1064 | Q3: 229.348 | R3: 404.8168 | S3: 1286.532 | T3: 2321.6608 | U3: 0.88881069 | V3: 0.90355568 | W3: 0.95873967 | X3: 0.98295455
A4: SDR_RA_UHD-4K | B4: NeptuneFountain3R1 | C4: 52 | D4: 48 | E4: 44 | F4: 36 | G4: 34 | H4: 52 | I4: 48 | J4: 44 | K4: 36 | L4: 304.6712 | M4: 653.4512 | N4: 1365.4376 | O4: 5282.6968 | P4: 7292.4752 | Q4: 275.224 | R4: 588.1424 | S4: 1234.1624 | T4: 4840.7616 | U4: 0.90334761 | V4: 0.90005558 | W4: 0.90385851 | X4: 0.91634288
A5: SDR_RA_UHD-4K | B5: Marathon2 | C5: 48 | D5: 41 | E5: 37 | F5: 33 | G5: 31 | H5: 48 | I5: 40 | J5: 36 | K5: 32 | L5: 727.2392 | M5: 2058.8624 | N5: 3539.6656 | O5: 6132.9296 | P5: 7982.62 | Q5: 635.7288 | R5: 2054.224 | S5: 3536.808 | T5: 6120.7288 | U5: 0.8741674 | V5: 0.99774711 | W5: 0.99919269 | X5: 0.99801061
A6: SDR_RA_UHD-4K | B6: MountainBay2 | C6: 48 | D6: 44 | E6: 40 | F6: 36 | G6: 34 | H6: 48 | I6: 44 | J6: 40 | K6: 36 | L6: 166.4808 | M6: 320.9632 | N6: 620.4048 | O6: 1197.388 | P6: 1709.1464 | Q6: 149.0488 | R6: 302.0808 | S6: 563.4728 | T6: 1099.932 | U6: 0.89529123 | V6: 0.94116958 | W6: 0.90823411 | X6: 0.91860951
A7: SDR_RA_UHD-4K | B7: TallBuildings2 | C7: 49 | D7: 45 | E7: 42 | F7: 34 | G7: 32 | H7: 48 | I7: 44 | J7: 40 | K7: 32 | L7: 325.1384 | M7: 592.3912 | N7: 883.428 | O7: 2588.5608 | P7: 3348.9272 | Q7: 297.5416 | R7: 504.1992 | S7: 873.3616 | T7: 2445.0592 | U7: 0.91512291 | V7: 0.8511254 | W7: 0.9886053 | X7: 0.94456317
E9: 0..1 for confident..disagree | I9: ECM-MOS | J9: ECM-CI | K9: BR mismatch | M9: qp changed
A10: codec | B10: sequence | C10: QP | D10: Mean | E10: (L1n-abs(Mean))/L1n | F10: aggregated | G10: sum(abs(mean)) | H10: sum(l1n-abs(m))/l1n) | K10: initial QPs | M10: proposed QPs | O10: comments | P10: BR ratio from QP to QP | Q10: BR ratio from highest to lowest | R10: cube-root highest/loest | S10: BR using constant BR ratio | T10: rounded BR | U10: transposed BR array
A11: VTM | B11: CrowdRun | C11: QP1 | D11: -0.33333333 | E11: 0.25 | F11: -0.33333333 | G11: 1.8333333 | H11: 0.82142857 | K11: 25 | L11: 10445.623
A12: VTM | B12: CrowdRun | C12: QP2 | D12: 0.27777778 | E12: 0.28571429 | F12: -0.055555556 | K12: 37 | L12: 7807.8872 | M12: 37 | N12: 7807.8872 | Q12: =N12/N15 -> 8.4269367 | R12: =POWER(Q12,1/3) -> 2.0349633 | S12: =N12 -> 7807.8872 | T12: =100*INT((S12+50)/100) -> 7800 | U12: {=TRANSPOSE(T12:T15)} -> 7800 | V12: 3800 | W12: 1900 | X12: 900
A13: VTM | B13: CrowdRun | C13: QP3 | D13: -0.38888889 | E13: 0 | F13: -0.44444444 | K13: 44 | L13: 2882.917 | M13: 42 | N13: 3867.349 | P13: =N12/N13 -> 2.0189249 | S13: =S12/R12 -> 3836.8688 | T13: =100*INT((S13+50)/100) -> 3800
A14: VTM | B14: CrowdRun | C14: QP4 | D14: -0.27777778 | E14: 0.28571429 | F14: -0.72222222 | K14: 48 | L14: 1542.217 | M14: 47 | N14: 1813.883 | P14: =N13/N14 -> 2.1320829 | S14: =S13/R12 -> 1885.4733 | T14: =100*INT((S14+50)/100) -> 1900
A15: VTM | B15: CrowdRun | C15: QP5 | D15: -0.55555556 | E15: 0 | F15: -1.2777778 | K15: 52 | L15: 777.5408 | M15: 51 | N15: 926.5392 | P15: =N14/N15 -> 1.957697 | S15: =S14/R12 -> 926.5392 | T15: =100*INT((S15+50)/100) -> 900
A16: VTM | B16: DrivingPOV3 | C16: QP1 | D16: -0.27777778 | E16: 0.28571429 | F16: -0.27777778 | G16: 1.5 | H16: 0.78571429 | K16: 35 | L16: 3238.1064
A17: VTM | B17: DrivingPOV3 | C17: QP2 | D17: 0.11111111 | E17: 0.5 | F17: -0.16666667 | K17: 37 | L17: 2361.9208 | M17: 37 | N17: 2361.9208 | Q17: =N17/N20 -> 6.9361035 | R17: =POWER(Q17,1/3) -> 1.9070929 | S17: =N17 -> 2361.9208 | T17: =100*INT((S17+50)/100) -> 2400 | U17: {=TRANSPOSE(T17:T20)} -> 2400 | V17: 1200 | W17: 600 | X17: 300
A18: VTM | B18: DrivingPOV3 | C18: QP3 | D18: 0.055555556 | E18: 0 | F18: -0.11111111 | K18: 41 | L18: 1341.8992 | M18: 42 | N18: 1164.504 | P18: =N17/N18 -> 2.0282634 | S18: =S17/R17 -> 1238.4928 | T18: =100*INT((S18+50)/100) -> 1200
A19: VTM | B19: DrivingPOV3 | C19: QP4 | D19: -0.55555556 | E19: 0 | F19: -0.66666667 | K19: 49 | L19: 448.0264 | M19: 47 | N19: 589.9056 | P19: =N18/N19 -> 1.9740514 | S19: =S18/R17 -> 649.41396 | T19: =100*INT((S19+50)/100) -> 600
A20: VTM | B20: DrivingPOV3 | C20: QP5 | D20: -0.5 | E20: 0 | F20: -1.1666667 | K20: 53 | L20: 258.0392 | M20: 51 | N20: 340.5256 | P20: =N19/N20 -> 1.7323385 | S20: =S19/R17 -> 340.5256 | T20: =100*INT((S20+50)/100) -> 300
A21: VTM | B21: NeptuneFountain3R1 | C21: QP1 | D21: 0.33333333 | E21: 0 | F21: 0.33333333 | G21: 1.6666667 | H21: 0.36363636 | K21: dropped
A22: VTM | B22: NeptuneFountain3R1 | C22: QP2 | D22: 0.38888889 | E22: 0.36363636 | F22: 0.72222222 | K22: dropped
A23: VTM | B23: NeptuneFountain3R1 | C23: QP3 | D23: -0.27777778 | E23: 0 | F23: 0.44444444 | K23: dropped
A24: VTM | B24: NeptuneFountain3R1 | C24: QP4 | D24: -0.33333333 | E24: 0 | F24: 0.11111111 | K24: dropped
A25: VTM | B25: NeptuneFountain3R1 | C25: QP5 | D25: -0.33333333 | E25: 0 | F25: -0.22222222 | K25: dropped
A26: VTM | B26: Marathon2 | C26: QP1 | D26: -0.11111111 | E26: 0.8 | F26: -0.11111111 | G26: 0.77777778 | H26: 2.0888889 | J26: 31 | K26: dropped | L26: 7968.6968
A27: VTM | B27: Marathon2 | C27: QP2 | D27: 0.38888889 | E27: 0.22222222 | F27: 0.27777778 | J27: 33 | K27: dropped | L27: 6119.004 | M27: 32 | N27: 7015.7536 | O27: because QP1 is too low quality | Q27: =N27/N30 -> 7.1603643 | R27: =POWER(Q27,1/3) -> 1.9274289 | S27: =N27 -> 7015.7536 | T27: =100*INT((S27+50)/100) -> 7000
A28: VTM | B28: Marathon2 | C28: QP3 | D28: 0.055555556 | E28: 0.66666667 | F28: 0.33333333 | J28: 37 | K28: dropped | L28: 3525.7432 | M28: 37 | N28: 3525.7432 | P28: =N27/N28 -> 1.9898652 | S28: =S27/R27 -> 3639.9545 | T28: =100*INT((S28+50)/100) -> 3600
A29: VTM | B29: Marathon2 | C29: QP4 | D29: 0.055555556 | E29: 0 | F29: 0.38888889 | J29: 41 | K29: dropped | L29: 2044.9392 | M29: 41 | N29: 2058.8624 | P29: =N28/N29 -> 1.7124715 | S29: =S28/R27 -> 1888.5026 | T29: =100*INT((S29+50)/100) -> 1900
A30: VTM | B30: Marathon2 | C30: QP5 | D30: -0.16666667 | E30: 0.4 | F30: 0.22222222 | J30: 48 | K30: dropped | L30: 713.3152 | M30: 46 | N30: 979.804 | P30: =N29/N30 -> 2.1013003 | S30: =S29/R27 -> 979.804 | T30: =100*INT((S30+50)/100) -> 1000
A31: VTM | B31: MountainBay2 | C31: QP1 | D31: -0.22222222 | E31: 0.33333333 | F31: -0.22222222 | G31: 0.66666667 | H31: 1.7857143 | K31: 34 | L31: 1695.2224 | O31: quality loss at highest qps
A32: VTM | B32: MountainBay2 | C32: QP2 | D32: -0.055555556 | E32: 0.66666667 | F32: -0.27777778 | K32: 36 | L32: 1197.388 | M32: 34 | N32: 1695.2224 | Q32: =N32/N35 -> 6.1836932 | R32: =POWER(Q32,1/3) -> 1.8354785 | S32: =N32 -> 1695.2224 | T32: =100*INT((S32+50)/100) -> 1700 | U32: {=TRANSPOSE(T32:T35)} -> 1700 | V32: 900 | W32: 500 | X32: 300
A33: VTM | B33: MountainBay2 | C33: QP3 | D33: 0 | E33: 0 | F33: -0.27777778 | K33: 40 | L33: 620.4048 | M33: 38 | N33: 862.828 | P33: =N32/N33 -> 1.9647281 | S33: =S32/R32 -> 923.58606 | T33: =100*INT((S33+50)/100) -> 900
