Workbook

Sheet targetRates
A1: SDR RA UHD/4K
B2: Target bit rates [kbit/s] | F2: R1/R4 | G2: R1/R4^1/3 | H2: sanity check
A3: Sequences | B3: Rate 1 | C3: Rate 2 | D3: Rate 3 | E3: Rate 4
A4: CrowdRun | B4: =report_ak2026_sdr_uhd!U12 -> 7800 | C4: =report_ak2026_sdr_uhd!V12 -> 3800 | D4: =report_ak2026_sdr_uhd!W12 -> 1900 | E4: =report_ak2026_sdr_uhd!X12 -> 900 | F4: =B4/E4 -> 8.6666667 | G4: =POWER(F4,1/3) -> 2.05408 | H4: =report_ak2026_sdr_uhd!B12 -> CrowdRun | I4: =A4=H4 -> TRUE
A5: DrivingPOV3 | B5: =report_ak2026_sdr_uhd!U17 -> 2400 | C5: =report_ak2026_sdr_uhd!V17 -> 1200 | D5: =report_ak2026_sdr_uhd!W17 -> 600 | E5: =report_ak2026_sdr_uhd!X17 -> 300 | F5: =B5/E5 -> 8 | G5: =POWER(F5,1/3) -> 2 | H5: =report_ak2026_sdr_uhd!B17 -> DrivingPOV3 | I5: =A5=H5 -> TRUE
A6: FireDance | B6: =report_al0041_sdr_uhd!U13 -> 2600 | C6: =report_al0041_sdr_uhd!V13 -> 1700 | D6: =report_al0041_sdr_uhd!W13 -> 1100 | E6: =report_al0041_sdr_uhd!X13 -> 700 | F6: =B6/E6 -> 3.7142857 | G6: =POWER(F6,1/3) -> 1.5486684 | H6: =report_al0041_sdr_uhd!B13 -> FireDance | I6: =A6=H6 -> TRUE
A7: HallwayScene | B7: =report_al0041_sdr_uhd!U18 -> 1000 | C7: =report_al0041_sdr_uhd!V18 -> 500 | D7: =report_al0041_sdr_uhd!W18 -> 200 | E7: =report_al0041_sdr_uhd!X18 -> 100 | F7: =B7/E7 -> 10 | G7: =POWER(F7,1/3) -> 2.1544347 | H7: =report_al0041_sdr_uhd!B18 -> HallwayScene | I7: =A7=H7 -> TRUE
A8: MountainBay2 | B8: =report_ak2026_sdr_uhd!U32 -> 1700 | C8: =report_ak2026_sdr_uhd!V32 -> 900 | D8: =report_ak2026_sdr_uhd!W32 -> 500 | E8: =report_ak2026_sdr_uhd!X32 -> 300 | F8: =B8/E8 -> 5.6666667 | G8: =POWER(F8,1/3) -> 1.7828271 | H8: =report_ak2026_sdr_uhd!B32 -> MountainBay2 | I8: =A8=H8 -> TRUE
A9: TaikoDrums | B9: =report_al0041_sdr_uhd!U33 -> 900 | C9: =report_al0041_sdr_uhd!V33 -> 500 | D9: =report_al0041_sdr_uhd!W33 -> 300 | E9: =report_al0041_sdr_uhd!X33 -> 200 | F9: =B9/E9 -> 4.5 | G9: =POWER(F9,1/3) -> 1.6509636 | H9: =report_al0041_sdr_uhd!B33 -> TaikoDrums | I9: =A9=H9 -> TRUE
A11: SDR RA HD
B12: Target bit rates [kbit/s]
A13: Sequences | B13: Rate 1 | C13: Rate 2 | D13: Rate 3 | E13: Rate 4
A14: DucksTakeOff | B14: =report_al0041_sdr_hd!U92 -> 16900 | C14: =report_al0041_sdr_hd!V92 -> 4700 | D14: =report_al0041_sdr_hd!W92 -> 1300 | E14: =report_al0041_sdr_hd!X92 -> 400 | F14: =B14/E14 -> 42.25 | G14: =POWER(F14,1/3) -> 3.4829099 | H14: =report_al0041_sdr_hd!B92 -> DucksTakeOff | I14: =A14=H14 -> TRUE
A15: DrivingPOV4 | B15: ='report_ak2026_sdr_hd_ra-ld'!U10 -> 1400 | C15: ='report_ak2026_sdr_hd_ra-ld'!V10 -> 600 | D15: ='report_ak2026_sdr_hd_ra-ld'!W10 -> 300 | E15: ='report_ak2026_sdr_hd_ra-ld'!X10 -> 100 | F15: =B15/E15 -> 14 | G15: =POWER(F15,1/3) -> 2.4101423 | H15: ='report_ak2026_sdr_hd_ra-ld'!B10 -> DrivingPOV4 | I15: =A15=H15 -> TRUE
A16: Metro | B16: ='report_ak2026_sdr_hd_ra-ld'!U15 -> 2000 | C16: ='report_ak2026_sdr_hd_ra-ld'!V15 -> 1000 | D16: ='report_ak2026_sdr_hd_ra-ld'!W15 -> 500 | E16: ='report_ak2026_sdr_hd_ra-ld'!X15 -> 300 | F16: =B16/E16 -> 6.6666667 | G16: =POWER(F16,1/3) -> 1.8820721 | H16: ='report_ak2026_sdr_hd_ra-ld'!B15 -> Metro | I16: =A16=H16 -> TRUE
A17: Seeking | B17: =report_al0041_sdr_hd!U97 -> 2300 | C17: =report_al0041_sdr_hd!V97 -> 1100 | D17: =report_al0041_sdr_hd!W97 -> 500 | E17: =report_al0041_sdr_hd!X97 -> 200 | F17: =B17/E17 -> 11.5 | G17: =POWER(F17,1/3) -> 2.2571787 | H17: =report_al0041_sdr_hd!B97 -> Seeking | I17: =A17=H17 -> TRUE
A18: Umbrella | B18: =report_al0041_sdr_hd!U87 -> 4500 | C18: =report_al0041_sdr_hd!V87 -> 2100 | D18: =report_al0041_sdr_hd!W87 -> 1000 | E18: =report_al0041_sdr_hd!X87 -> 400 | F18: =B18/E18 -> 11.25 | G18: =POWER(F18,1/3) -> 2.2407024 | H18: =report_al0041_sdr_hd!B87 -> Umbrella | I18: =A18=H18 -> TRUE
A20: SDR LB HD
B21: Target bit rates [kbit/s]
A22: Sequences | B22: Rate 1 | C22: Rate 2 | D22: Rate 3 | E22: Rate 4
A23: Beatriz | B23: ='report_ak2026_sdr_hd_ra-ld'!U20 -> 800 | C23: ='report_ak2026_sdr_hd_ra-ld'!V20 -> 400 | D23: ='report_ak2026_sdr_hd_ra-ld'!W20 -> 200 | E23: ='report_ak2026_sdr_hd_ra-ld'!X20 -> 100 | F23: =B23/E23 -> 8 | G23: =POWER(F23,1/3) -> 2 | H23: ='report_ak2026_sdr_hd_ra-ld'!B20 -> Beatriz | I23: =A23=H23 -> TRUE
A24: GregoryCactus2 | B24: =report_al0041_sdr_hd!U37 -> 6100 | C24: =report_al0041_sdr_hd!V37 -> 1900 | D24: =report_al0041_sdr_hd!W37 -> 600 | E24: =report_al0041_sdr_hd!X37 -> 200 | F24: =B24/E24 -> 30.5 | G24: =POWER(F24,1/3) -> 3.1243999 | H24: =report_al0041_sdr_hd!B37 -> GregoryCactus2 | I24: =A24=H24 -> TRUE
A25: GregoryScarf2 | B25: =report_al0041_sdr_hd!U47 -> 6400 | C25: =report_al0041_sdr_hd!V47 -> 2300 | D25: =report_al0041_sdr_hd!W47 -> 900 | E25: =report_al0041_sdr_hd!X47 -> 300 | F25: =B25/E25 -> 21.333333 | G25: =POWER(F25,1/3) -> 2.7734451 | H25: =report_al0041_sdr_hd!B47 -> GregoryScarf2 | I25: =A25=H25 -> TRUE
A26: OfficeWalkAtWall | B26: ='report_ak2026_sdr_hd_ra-ld'!U25 -> 900 | C26: ='report_ak2026_sdr_hd_ra-ld'!V25 -> 400 | D26: ='report_ak2026_sdr_hd_ra-ld'!W25 -> 200 | E26: ='report_ak2026_sdr_hd_ra-ld'!X25 -> 100 | F26: =B26/E26 -> 9 | G26: =POWER(F26,1/3) -> 2.0800838 | H26: ='report_ak2026_sdr_hd_ra-ld'!B25 -> OfficeWalkAtWall | I26: =A26=H26 -> TRUE
A28: HDR RA 4K
B29: Target bit rates [kbit/s]
A30: Sequences | B30: Rate 1 | C30: Rate 2 | D30: Rate 3 | E30: Rate 4
A31: AMS06 | B31: =report_ak2026_hdr_uhd!U13 -> 8700 | C31: =report_ak2026_hdr_uhd!V13 -> 4200 | D31: =report_ak2026_hdr_uhd!W13 -> 2100 | E31: =report_ak2026_hdr_uhd!X13 -> 1000 | F31: =B31/E31 -> 8.7 | G31: =POWER(F31,1/3) -> 2.0567101 | H31: =report_ak2026_hdr_uhd!B13 -> AMS06 | I31: =A31=H31 -> TRUE
A32: MeridianHDR2 | B32: =report_ak2026_hdr_uhd!U28 -> 1900 | C32: =report_ak2026_hdr_uhd!V28 -> 900 | D32: =report_ak2026_hdr_uhd!W28 -> 400 | E32: =report_ak2026_hdr_uhd!X28 -> 200 | F32: =B32/E32 -> 9.5 | G32: =POWER(F32,1/3) -> 2.1179118 | H32: =report_ak2026_hdr_uhd!B28 -> MeridianHDR2 | I32: =A32=H32 -> TRUE
A33: NeptuneFountain3R1 | B33: =report_ak2026_hdr_uhd!U33 -> 3800 | C33: =report_ak2026_hdr_uhd!V33 -> 1900 | D33: =report_ak2026_hdr_uhd!W33 -> 1000 | E33: =report_ak2026_hdr_uhd!X33 -> 500 | F33: =B33/E33 -> 7.6 | G33: =POWER(F33,1/3) -> 1.9660951 | H33: =report_ak2026_hdr_uhd!B33 -> NeptuneFountain3R1 | I33: =A33=H33 -> TRUE
A34: SparksWelding | B34: =report_ak2026_hdr_uhd!U18 -> 7400 | C34: =report_ak2026_hdr_uhd!V18 -> 2900 | D34: =report_ak2026_hdr_uhd!W18 -> 1100 | E34: =report_ak2026_hdr_uhd!X18 -> 400 | F34: =B34/E34 -> 18.5 | G34: =POWER(F34,1/3) -> 2.6447862 | H34: =report_ak2026_hdr_uhd!B18 -> SparksWelding | I34: =A34=H34 -> TRUE
A35: SubwayTreeR1 | B35: =report_ak2026_hdr_uhd!U43 -> 2100 | C35: =report_ak2026_hdr_uhd!V43 -> 1100 | D35: =report_ak2026_hdr_uhd!W43 -> 600 | E35: =report_ak2026_hdr_uhd!X43 -> 300 | F35: =B35/E35 -> 7 | G35: =POWER(F35,1/3) -> 1.9129312 | H35: =report_ak2026_hdr_uhd!B43 -> SubwayTreeR1 | I35: =A35=H35 -> TRUE
A37: HDR RA Cropped 8K
B38: Target bit rates [kbit/s]
A39: Sequences | B39: Rate 1 | C39: Rate 2 | D39: Rate 3 | E39: Rate 4
A40: ChandelierCropBR | B40: =report_ak2026_hdr_8kcrop!U21 -> 2600 | C40: =report_ak2026_hdr_8kcrop!V21 -> 1600 | D40: =report_ak2026_hdr_8kcrop!W21 -> 1000 | E40: =report_ak2026_hdr_8kcrop!X21 -> 600 | F40: =B40/E40 -> 4.3333333 | G40: =POWER(F40,1/3) -> 1.6303244 | H40: =report_ak2026_hdr_8kcrop!B21 -> ChandelierCropBR | I40: =A40=H40 -> TRUE
A41: FashionLadyCrop1 | B41: =report_al0041_hdr_8kcrop!U10 -> 2500 | C41: =report_al0041_hdr_8kcrop!V10 -> 1200 | D41: =report_al0041_hdr_8kcrop!W10 -> 600 | E41: =report_al0041_hdr_8kcrop!X10 -> 300 | F41: =B41/E41 -> 8.3333333 | G41: =POWER(F41,1/3) -> 2.0274007 | H41: =report_al0041_hdr_8kcrop!B10 -> FashionLadyCrop1 | I41: =A41=H41 -> TRUE
A42: MeltMetalCropBC | B42: =report_al0041_hdr_8kcrop!U25 -> 37500 | C42: =report_al0041_hdr_8kcrop!V25 -> 13700 | D42: =report_al0041_hdr_8kcrop!W25 -> 5000 | E42: =report_al0041_hdr_8kcrop!X25 -> 1800 | F42: =B42/E42 -> 20.833333 | G42: =POWER(F42,1/3) -> 2.751606 | H42: =report_al0041_hdr_8kcrop!B25 -> MeltMetalCropBC | I42: =A42=H42 -> TRUE
A43: WaterfallForest | B43: =report_ak2026_hdr_8kcrop!U11 -> 14700 | C43: =report_ak2026_hdr_8kcrop!V11 -> 7800 | D43: =report_ak2026_hdr_8kcrop!W11 -> 4100 | E43: =report_ak2026_hdr_8kcrop!X11 -> 2200 | F43: =B43/E43 -> 6.6818182 | G43: =POWER(F43,1/3) -> 1.8834968 | H43: =report_ak2026_hdr_8kcrop!B11 -> WaterfallForest | I43: =A43=H43 -> TRUE
A44: WomenFootball | B44: =report_ak2026_hdr_8kcrop!U16 -> 2400 | C44: =report_ak2026_hdr_8kcrop!V16 -> 1300 | D44: =report_ak2026_hdr_8kcrop!W16 -> 700 | E44: =report_ak2026_hdr_8kcrop!X16 -> 400 | F44: =B44/E44 -> 6 | G44: =POWER(F44,1/3) -> 1.8171206 | H44: =report_ak2026_hdr_8kcrop!B16 -> WomenFootball | I44: =A44=H44 -> TRUE
A46: Gaming LB HD
B47: Target bit rates [kbit/s]
A48: Sequences | B48: Rate 1 | C48: Rate 2 | D48: Rate 3 | E48: Rate 4
A49: Darktree | B49: =report_ak2026_sdr_hd_gaming!U12 -> 2200 | C49: =report_ak2026_sdr_hd_gaming!V12 -> 1200 | D49: =report_ak2026_sdr_hd_gaming!W12 -> 600 | E49: =report_ak2026_sdr_hd_gaming!X12 -> 300 | F49: =B49/E49 -> 7.3333333 | G49: =POWER(F49,1/3) -> 1.9428256 | H49: =report_ak2026_sdr_hd_gaming!B12 -> Darktree | I49: =A49=H49 -> TRUE
A50: DOTA2s360 | B50: =report_ak2026_sdr_hd_gaming!U17 -> 1700 | C50: =report_ak2026_sdr_hd_gaming!V17 -> 1000 | D50: =report_ak2026_sdr_hd_gaming!W17 -> 600 | E50: =report_ak2026_sdr_hd_gaming!X17 -> 300 | F50: =B50/E50 -> 5.6666667 | G50: =POWER(F50,1/3) -> 1.7828271 | H50: =report_ak2026_sdr_hd_gaming!B17 -> DOTA2s360 | I50: =A50=H50 -> TRUE
A51: GTAVs090 | B51: =report_ak2026_sdr_hd_gaming!U27 -> 4900 | C51: =report_ak2026_sdr_hd_gaming!V27 -> 2700 | D51: =report_ak2026_sdr_hd_gaming!W27 -> 1500 | E51: =report_ak2026_sdr_hd_gaming!X27 -> 800 | F51: =B51/E51 -> 6.125 | G51: =POWER(F51,1/3) -> 1.8296529 | H51: =report_ak2026_sdr_hd_gaming!B27 -> GTAVs090 | I51: =A51=H51 -> TRUE
A52: Level1 | B52: =report_al0041_sdr_hd!U32 -> 6800 | C52: =report_al0041_sdr_hd!V32 -> 2800 | D52: =report_al0041_sdr_hd!W32 -> 1200 | E52: =report_al0041_sdr_hd!X32 -> 500 | F52: =B52/E52 -> 13.6 | G52: =POWER(F52,1/3) -> 2.3869664 | H52: =report_al0041_sdr_hd!B32 -> Level1 | I52: =A52=H52 -> TRUE
A53: Minecraft | B53: =report_ak2026_sdr_hd_gaming!U37 -> 2400 | C53: =report_ak2026_sdr_hd_gaming!V37 -> 1300 | D53: =report_ak2026_sdr_hd_gaming!W37 -> 700 | E53: =report_ak2026_sdr_hd_gaming!X37 -> 400 | F53: =B53/E53 -> 6 | G53: =POWER(F53,1/3) -> 1.8171206 | H53: =report_ak2026_sdr_hd_gaming!B37 -> Minecraft | I53: =A53=H53 -> TRUE
A55: UGC RA
B56: Target bit rates [kbit/s]
A57: Sequences | B57: Rate 1 | C57: Rate 2 | D57: Rate 3 | E57: Rate 4
A58: Camellia | B58: =report_al0041_sdr_hd!U67 -> 15400 | C58: =report_al0041_sdr_hd!V67 -> 5900 | D58: =report_al0041_sdr_hd!W67 -> 2200 | E58: =report_al0041_sdr_hd!X67 -> 900 | F58: =B58/E58 -> 17.111111 | G58: =POWER(F58,1/3) -> 2.5768714 | H58: =report_al0041_sdr_hd!B67 -> Camellia | I58: =A58=H58 -> TRUE
A59: CoverSong-3499-outdoor | B59: =report_ak2026_sdr_hd_ugc!U18 -> 800 | C59: =report_ak2026_sdr_hd_ugc!V18 -> 500 | D59: =report_ak2026_sdr_hd_ugc!W18 -> 300 | E59: =report_ak2026_sdr_hd_ugc!X18 -> 200 | F59: =B59/E59 -> 4 | G59: =POWER(F59,1/3) -> 1.5874011 | H59: =report_ak2026_sdr_hd_ugc!B18 -> CoverSong-3499-outdoor | I59: =A59=H59 -> TRUE
A60: Hobby-w5xz-backpack | B60: =report_ak2026_sdr_hd_ugc!U23 -> 500 | C60: =report_ak2026_sdr_hd_ugc!V23 -> 300 | D60: =report_ak2026_sdr_hd_ugc!W23 -> 200 | E60: =report_ak2026_sdr_hd_ugc!X23 -> 100 | F60: =B60/E60 -> 5 | G60: =POWER(F60,1/3) -> 1.7099759 | H60: =report_ak2026_sdr_hd_ugc!B23 -> Hobby-w5xz-backpack | I60: =A60=H60 -> TRUE
A61: NightLandscapeRunning | B61: =report_al0041_sdr_hd!U107 -> 1400 | C61: =report_al0041_sdr_hd!V107 -> 800 | D61: =report_al0041_sdr_hd!W107 -> 400 | E61: =report_al0041_sdr_hd!X107 -> 200 | F61: =B61/E61 -> 7 | G61: =POWER(F61,1/3) -> 1.9129312 | H61: =report_al0041_sdr_hd!B107 -> NightLandscapeRunning | I61: =A61=H61 -> TRUE
A62: Sports-76a2-iceball | B62: =report_ak2026_sdr_hd_ugc!U28 -> 400 | C62: =report_ak2026_sdr_hd_ugc!V28 -> 300 | D62: =report_ak2026_sdr_hd_ugc!W28 -> 200 | E62: =report_ak2026_sdr_hd_ugc!X28 -> 100 | F62: =B62/E62 -> 4 | G62: =POWER(F62,1/3) -> 1.5874011 | H62: =report_ak2026_sdr_hd_ugc!B28 -> Sports-76a2-iceball | I62: =A62=H62 -> TRUE
A63: VerticalVideo-3709-snow | B63: =report_ak2026_sdr_hd_ugc!U33 -> 400 | C63: =report_ak2026_sdr_hd_ugc!V33 -> 300 | D63: =report_ak2026_sdr_hd_ugc!W33 -> 200 | E63: =report_ak2026_sdr_hd_ugc!X33 -> 100 | F63: =B63/E63 -> 4 | G63: =POWER(F63,1/3) -> 1.5874011 | H63: =report_ak2026_sdr_hd_ugc!B33 -> VerticalVideo-3709-snow | I63: =A63=H63 -> TRUE
A64: VerticalVideo-3d96-walk | B64: =report_ak2026_sdr_hd_ugc!U38 -> 600 | C64: =report_ak2026_sdr_hd_ugc!V38 -> 400 | D64: =report_ak2026_sdr_hd_ugc!W38 -> 200 | E64: =report_ak2026_sdr_hd_ugc!X38 -> 100 | F64: =B64/E64 -> 6 | G64: =POWER(F64,1/3) -> 1.8171206 | H64: =report_ak2026_sdr_hd_ugc!B38 -> VerticalVideo-3d96-walk | I64: =A64=H64 -> TRUE
A65: VerticalVideo-4b92-park | B65: =report_ak2026_sdr_hd_ugc!U43 -> 1000 | C65: =report_ak2026_sdr_hd_ugc!V43 -> 600 | D65: =report_ak2026_sdr_hd_ugc!W43 -> 400 | E65: =report_ak2026_sdr_hd_ugc!X43 -> 300 | F65: =B65/E65 -> 3.3333333 | G65: =POWER(F65,1/3) -> 1.4938016 | H65: =report_ak2026_sdr_hd_ugc!B43 -> VerticalVideo-4b92-park | I65: =A65=H65 -> TRUE

Sheet report_al0041_sdr_hd
A1: SubDir | B1: Sequence | C1: VTM-QP5 | D1: VTM-QP4 | E1: VTM-QP3 | F1: VTM-QP2 | G1: VTM-QP1 | H1: ECM-QP4 | I1: ECM-QP3 | J1: ECM-QP2 | K1: ECM-QP1 | L1: VTM-rate4 | M1: VTM-rate3 | N1: VTM-rate2 | O1: VTM-rate1 | P1: VTM-rate0 | Q1: ECM-rate4 | R1: ECM-rate3 | S1: ECM-rate2 | T1: ECM-rate1 | U1: E-V-ratio4 | V1: E-V-ratio3 | W1: E-V-ratio2 | X1: E-V-ratio1
A2: Gaming_LD_HD/ | B2: ARPG2 | C2: 43 | D2: 38 | E2: 34 | F2: 30 | G2: 28 | H2: 42 | I2: 38 | J2: 34 | K2: 30 | L2: 482.9832 | M2: 992.8128 | N2: 1752.1864 | O2: 3189.1456 | P2: 4192.46 | Q2: 477.4032 | R2: 865.4232 | S2: 1537.8136 | T2: 2780.1632 | U2: 0.9884468 | V2: 0.8716882 | W2: 0.87765411 | X2: 0.871758
A3: Gaming_LD_HD/ | B3: Level1 | C3: 46 | D3: 42 | E3: 38 | F3: 34 | G3: 30 | H3: 46 | I3: 42 | J3: 38 | K3: 34 | L3: 604.1888 | M3: 1483.8488 | N3: 3568.1352 | O3: 8285.3656 | P3: 19217.081 | Q3: 558.1008 | R3: 1376.4072 | S3: 3307.412 | T3: 7598.8624 | U3: 0.92371921 | V3: 0.92759262 | W3: 0.92693012 | X3: 0.91714268
A4: SDR_LD_HD/ | B4: GregoryCactus2 | C4: 48 | D4: 42 | E4: 36 | F4: 28 | G4: 26 | H4: 48 | I4: 42 | J4: 36 | K4: 28 | L4: 155.904 | M4: 542.6488 | N4: 1682.1256 | O4: 7200.4568 | P4: 11011.822 | Q4: 147.1624 | R4: 507.536 | S4: 1550.404 | T4: 6576.7392 | U4: 0.9439296 | V4: 0.93529369 | W4: 0.92169336 | X4: 0.91337805
A5: SDR_LD_HD/ | B5: GregoryFence2 | C5: 50 | D5: 44 | E5: 38 | F5: 30 | G5: 28 | H5: 50 | I5: 44 | J5: 38 | K5: 30 | L5: 209.46 | M5: 647.0472 | N5: 1878.4456 | O5: 7117.636 | P5: 9381.1056 | Q5: 192.7472 | R5: 606.0648 | S5: 1761.9432 | T5: 6538.3632 | U5: 0.92021006 | V5: 0.93666243 | W5: 0.93797936 | X5: 0.91861444
A6: SDR_LD_HD/ | B6: GregoryScarf2 | C6: 48 | D6: 42 | E6: 36 | F6: 28 | G6: 26 | H6: 48 | I6: 42 | J6: 36 | K6: 28 | L6: 263.6696 | M6: 737.7448 | N6: 1990.3064 | O6: 7363.0504 | P6: 10853.043 | Q6: 233.0848 | R6: 669.4496 | S6: 1828.128 | T6: 6614.7224 | U6: 0.88400331 | V6: 0.90742707 | W6: 0.91851586 | X6: 0.89836712
A7: SDR_LD_HD/ | B7: GregoryWalk1 | C7: 46 | D7: 40 | E7: 34 | F7: 28 | G7: 26 | H7: 46 | I7: 40 | J7: 34 | K7: 28 | L7: 272.9184 | M7: 802.8552 | N7: 2210.6656 | O7: 6096.152 | P7: 8958.4784 | Q7: 245.1696 | R7: 734.328 | S7: 2021.0032 | T7: 5491.7592 | U7: 0.89832565 | V7: 0.91464563 | W7: 0.91420575 | X7: 0.90085667
A8: SDR_LD_HD/ | B8: BlackSwan | C8: 40 | D8: 36 | E8: 30 | F8: 24 | G8: 22 | H8: 40 | I8: 36 | J8: 30 | K8: 24 | L8: 1780.5384 | M8: 4290.0072 | N8: 15995.886 | O8: 47030.121 | P8: 70792.082 | Q8: 1707.3808 | R8: 4128.4272 | U8: 0.95891265 | V8: 0.96233573
A9: SDR_LD_HD/ | B9: BlackSwan2 | C9: 46 | D9: 40 | E9: 34 | F9: 26 | G9: 24 | H9: 46 | I9: 40 | J9: 34 | K9: 26 | L9: 1113.6688 | M9: 3580.2504 | N9: 10046.116 | O9: 46731.173 | P9: 65120.769 | Q9: 1043.8128 | R9: 3245.6664 | U9: 0.93727399 | V9: 0.90654732
A10: SDR_LD_HD/ | B10: Camellia | C10: 44 | D10: 38 | E10: 32 | F10: 24 | G10: 22 | H10: 44 | I10: 38 | J10: 32 | K10: 24 | L10: 885.3472 | M10: 2072.6144 | N10: 4620.004 | O10: 18168.482 | P10: 28750.394 | Q10: 806.1208 | R10: 1859.4184 | S10: 4102.1288 | T10: 0 | U10: 0.91051375 | V10: 0.89713668 | W10: 0.8879059 | X10: 0
A11: SDR_RA_HD/ | B11: Dance | C11: 50 | D11: 46 | E11: 40 | F11: 34 | G11: 32 | H11: 50 | I11: 46 | J11: 40 | K11: 34 | L11: 347.588 | M11: 645.1544 | N11: 1739.8408 | O11: 4512.816 | P11: 6008.396 | Q11: 302.7744 | R11: 557.0656 | S11: 1540.576 | T11: 4004.0608 | U11: 0.87107265 | V11: 0.8634609 | W11: 0.88546952 | X11: 0.88726436
A12: SDR_RA_HD/ | B12: ParkJoy | C12: 48 | D12: 44 | E12: 40 | F12: 36 | G12: 34 | H12: 48 | I12: 44 | J12: 40 | K12: 36 | L12: 614.4016 | M12: 1374.3232 | N12: 2903.0856 | O12: 5885.5672 | P12: 8454.108 | Q12: 589.2496 | R12: 1309.012 | S12: 2740.2072 | T12: 5526.6944 | U12: 0.95906261 | V12: 0.95247755 | W12: 0.94389473 | X12: 0.93902494
A13: SDR_RA_HD/ | B13: PrincessRun | C13: 52 | D13: 48 | E13: 42 | F13: 36 | G13: 34 | H13: 52 | I13: 48 | J13: 42 | K13: 36 | L13: 248.8296 | M13: 561.2032 | N13: 1773.2784 | O13: 4949.6984 | P13: 7002.4432 | Q13: 237.5736 | R13: 530.956 | S13: 1658.716 | T13: 4576.8544 | U13: 0.95476422 | V13: 0.94610294 | W13: 0.93539514 | X13: 0.92467339
A14: SDR_RA_HD/ | B14: Umbrella | C14: 50 | D14: 46 | E14: 41 | F14: 35 | G14: 33 | H14: 50 | I14: 46 | J14: 40 | K14: 34 | L14: 462.4776 | M14: 845.7232 | N14: 1720.0512 | O14: 3991.4288 | P14: 5215.9448 | Q14: 416.3248 | R14: 744.9136 | S14: 1704.404 | T14: 3874.7648 | U14: 0.90020533 | V14: 0.88080072 | W14: 0.99090306 | X14: 0.97077137
A15: SDR_RA_HD/ | B15: DucksTakeOff | C15: 52 | D15: 44 | E15: 36 | F15: 28 | G15: 26 | H15: 52 | I15: 44 | J15: 36 | K15: 28 | L15: 262.6752 | M15: 1221.7888 | N15: 5264.0472 | O15: 23804.238 | P15: 35899 | Q15: 252.4608 | R15: 1142.364 | S15: 4936.0648 | T15: 22382.782 | U15: 0.96111395 | V15: 0.93499302 | W15: 0.93769387 | X15: 0.94028556
A16: SDR_RA_HD/ | B16: Seeking | C16: 52 | D16: 48 | E16: 44 | F16: 38 | G16: 36 | H16: 52 | I16: 48 | J16: 44 | K16: 38 | L16: 215.8112 | M16: 413.0096 | N16: 796.0408 | O16: 2006.336 | P16: 2703.0616 | Q16: 195.1384 | R16: 369.3152 | S16: 711.348 | T16: 1788.2864 | U16: 0.90420886 | V16: 0.89420488 | W16: 0.89360746 | X16: 0.8913195
A17: UGC_RA/ | B17: DaylightPortraitAnimal | C17: 48 | D17: 42 | E17: 38 | F17: 34 | G17: 32 | H17: 48 | I17: 42 | J17: 38 | K17: 34 | L17: 533.7944 | M17: 1395.5688 | N17: 2461.8312 | O17: 4183.544 | P17: 5372.4536 | Q17: 493.3072 | R17: 1287.992 | S17: 2278.384 | T17: 3870.6032 | U17: 0.92415207 | V17: 0.92291544 | W17: 0.92548344 | X17: 0.9251972
A18: UGC_RA/ | B18: NightLandscapeRunning | C18: 44 | D18: 40 | E18: 36 | F18: 32 | G18: 30 | H18: 44 | I18: 40 | J18: 36 | K18: 32 | L18: 255.4416 | M18: 434.5784 | N18: 754.2096 | O18: 1402.4896 | P18: 2038.0816 | Q18: 225.9728 | R18: 383.6776 | S18: 670.5392 | T18: 1256.428 | U18: 0.88463586 | V18: 0.88287315 | W18: 0.88906214 | X18: 0.89585548
A19: UGC_RA/ | B19: TwilightPortraitVehicle | C19: 44 | D19: 40 | E19: 36 | F19: 32 | G19: 30 | H19: 44 | I19: 40 | J19: 36 | K19: 32 | L19: 174.2768 | M19: 287.1912 | N19: 472.1352 | O19: 809.748 | P19: 1098.7616 | Q19: 142.5704 | R19: 231.8936 | S19: 386.084 | T19: 673.5 | U19: 0.81806873 | V19: 0.80745371 | W19: 0.81774034 | X19: 0.83174025
A20: gaming
A21: sdr ld hd
A22: sdr hd ra
A23: ugc
E24: 0..1 for confident..disagree | I24: ECM-MOS | J24: ECM-CI | K24: BR mismatch | M24: qp changed
A25: codec | B25: sequence | C25: QP | D25: Mean | E25: (L1n-abs(Mean))/L1n | F25: aggregated | G25: sum(abs(mean)) | H25: sum(l1n-abs(m))/l1n) | K25: initial QPs | M25: proposed QPs | O25: comments | P25: BR ratio from QP to QP | Q25: BR ratio from highest to lowest | R25: cube-root highest/loest | S25: BR using constant BR ratio | T25: rounded BR | U25: transposed BR array
A26: VTM | B26: ARPG2 | C26: QP1 | D26: 0.17647059 | E26: 0.72727273 | F26: 0.17647059 | G26: 1.0588235 | H26: 0.72727273 | I26: dropped
A27: VTM | B27: ARPG2 | C27: QP2 | D27: 0.35294118 | E27: 0 | F27: 0.52941176 | I27: dropped
A28: VTM | B28: ARPG2 | C28: QP3 | D28: 0.23529412 | E28: 0 | F28: 0.76470588 | I28: dropped
A29: VTM | B29: ARPG2 | C29: QP4 | D29: -0.29411765 | E29: 0 | F29: 0.47058824 | I29: dropped
A30: VTM | B30: ARPG2 | C30: QP5 | D30: 0 | E30: 0 | F30: 0.47058824 | I30: dropped
A31: VTM | B31: Level1 | C31: QP1 | D31: 0.41176471 | E31: 0.22222222 | F31: 0.41176471 | G31: 0.76470588 | H31: 0.62222222 | K31: 30 | L31: 19217.081
A32: VTM | B32: Level1 | C32: QP2 | D32: 0.17647059 | E32: 0.4 | F32: 0.58823529 | K32: 34 | L32: 8285.3656 | M32: 35 | N32: 6820.8608 | O32: need to degrade 1st point as it is too close to transparent quality | Q32: =N32/N35 -> 13.990889 | R32: =POWER(Q32,1/3) -> 2.4096193 | S32: =N32 -> 6820.8608 | T32: =100*INT((S32+50)/100) -> 6800 | U32: {=TRANSPOSE(T32:T35)} -> 6800 | V32: 2800 | W32: 1200 | X32: 500
A33: VTM | B33: Level1 | C33: QP3 | D33: 0 | E33: 0 | F33: 0.58823529 | K33: 38 | L33: 3568.1352 | M33: 39 | N33: 2875.5912 | P33: =N32/N33 -> 2.3719856 | S33: =S32/R32 -> 2830.6798 | T33: =100*INT((S33+50)/100) -> 2800
A34: VTM | B34: Level1 | C34: QP4 | D34: -0.17647059 | E34: 0 | F34: 0.41176471 | K34: 42 | L34: 1483.8488 | M34: 43 | N34: 1183.6912 | P34: =N33/N34 -> 2.4293424 | S34: =S33/R32 -> 1174.7415 | T34: =100*INT((S34+50)/100) -> 1200
A35: VTM | B35: Level1 | C35: QP5 | D35: 0 | E35: 0 | F35: 0.41176471 | K35: 46 | L35: 604.1888 | M35: 47 | N35: 487.5216 | P35: =N34/N35 -> 2.4279769 | S35: =S34/R32 -> 487.5216 | T35: =100*INT((S35+50)/100) -> 500
A36: VTM | B36: GregoryCactus2 | C36: QP1 | D36: 0.52941176 | E36: 0 | F36: 0.52941176 | G36: 1.4117647 | H36: 1.4318182 | K36: 26 | L36: 11011.822
A37: VTM | B37: GregoryCactus2 | C37: QP2 | D37: 0 | E37: 1 | F37: 0.52941176 | K37: 28 | L37: 7200.4568 | M37: 29 | N37: 6128.7688 | O37: need to degrade 1st point as it is too close to transparent quality | Q37: =N37/N40 -> 31.758965 | R37: =POWER(Q37,1/3) -> 3.1668108 | S37: =N37 -> 6128.7688 | T37: =100*INT((S37+50)/100) -> 6100 | U37: {=TRANSPOSE(T37:T40)} -> 6100 | V37: 1900 | W37: 600 | X37: 200
A38: VTM | B38: GregoryCactus2 | C38: QP3 | D38: -0.35294118 | E38: 0.25 | F38: 0.17647059 | K38: 36 | L38: 1682.1256 | M38: 35 | N38: 2013.616 | O38: no change as previous point was degraded | P38: =N37/N38 -> 3.0436631 | S38: =S37/R37 -> 1935.3126 | T38: =100*INT((S38+50)/100) -> 1900
A39: VTM | B39: GregoryCactus2 | C39: QP4 | D39: -0.52941176 | E39: 0.18181818 | F39: -0.35294118 | K39: 42 | L39: 542.6488 | M39: 41 | N39: 661.628 | P39: =N38/N39 -> 3.0434262 | S39: =S38/R37 -> 611.12354 | T39: =100*INT((S39+50)/100) -> 600
A40: VTM | B40: GregoryCactus2 | C40: QP5 | D40: 0 | E40: 0 | F40: -0.35294118 | K40: 48 | L40: 155.904 | M40: 47 | N40: 192.9776 | P40: =N39/N40 -> 3.4285223 | S40: =S39/R37 -> 192.9776 | T40: =100*INT((S40+50)/100) -> 200
A41: VTM | B41: GregoryFence2 | C41: QP1 | D41: 0.29411765 | E41: 0 | F41: 0.29411765 | G41: 1.8823529 | H41: 0.68717949 | I41: dropped
A42: VTM | B42: GregoryFence2 | C42: QP2 | D42: -0.17647059 | E42: 0.4 | F42: 0.11764706 | I42: dropped
A43: VTM | B43: GregoryFence2 | C43: QP3 | D43: -0.64705882 | E43: 0.15384615 | F43: -0.52941176 | I43: dropped
A44: VTM | B44: GregoryFence2 | C44: QP4 | D44: -0.76470588 | E44: 0.13333333 | F44: -1.2941176 | I44: dropped
A45: VTM | B45: GregoryFence2 | C45: QP5 | D45: 0 | E45: 0 | F45: -1.2941176 | I45: dropped
A46: VTM | B46: GregoryScarf2 | C46: QP1 | D46: 0.52941176 | E46: 0 | F46: 0.52941176 | G46: 1.1764706 | H46: 0.84848485 | K46: 26 | L46: 10853.043
A47: VTM | B47: GregoryScarf2 | C47: QP2 | D47: 0.058823529 | E47: 0.66666667 | F47: 0.58823529 | K47: 28 | L47: 7363.0504 | M47: 29 | N47: 6360.5632 | O47: need to degrade 1st point as it is too close to transparent quality | Q47: =N47/N50 -> 20.369289 | R47: =POWER(Q47,1/3) -> 2.7310226 | S47: =N47 -> 6360.5632 | T47: =100*INT((S47+50)/100) -> 6400 | U47: {=TRANSPOSE(T47:T50)} -> 6400 | V47: 2300 | W47: 900 | X47: 300
A48: VTM | B48: GregoryScarf2 | C48: QP3 | D48: -0.058823529 | E48: 0 | F48: 0.52941176 | K48: 36 | L48: 1990.3064 | M48: 35 | N48: 2342.0088 | O48: need to degrade as previous point was degraded | P48: =N47/N48 -> 2.7158579 | S48: =S47/R47 -> 2329.0042 | T48: =100*INT((S48+50)/100) -> 2300
A49: VTM | B49: GregoryScarf2 | C49: QP4 | D49: -0.52941176 | E49: 0.18181818 | F49: 0 | K49: 42 | L49: 737.7448 | M49: 40 | N49: 1031.5376 | O49: keep as previous point was degraded | P49: =N48/N49 -> 2.2704057 | S49: =S48/R47 -> 852.79567 | T49: =100*INT((S49+50)/100) -> 900
A50: VTM | B50: GregoryScarf2 | C50: QP5 | D50: 0 | E50: 0 | F50: 0 | K50: 48 | L50: 263.6696 | M50: 47 | N50: 312.2624 | P50: =N49/N50 -> 3.303432 | S50: =S49/R47 -> 312.2624 | T50: =100*INT((S50+50)/100) -> 300
A51: VTM | B51: GregoryWalk1 | C51: QP1 | D51: 0.47058824 | E51: 0.33333333 | F51: 0.47058824 | G51: 0.88235294 | H51: 0.66666667 | I51: dropped
A52: VTM | B52: GregoryWalk1 | C52: QP2 | D52: 0.058823529 | E52: 0 | F52: 0.52941176 | I52: dropped
A53: VTM | B53: GregoryWalk1 | C53: QP3 | D53: -0.11764706 | E53: 0 | F53: 0.41176471 | I53: dropped
A54: VTM | B54: GregoryWalk1 | C54: QP4 | D54: -0.23529412 | E54: 0.33333333 | F54: 0.17647059 | I54: dropped
A55: VTM | B55: GregoryWalk1 | C55: QP5 | D55: 0 | E55: 0 | F55: 0.17647059 | I55: dropped
A56: VTM | B56: BlackSwan | C56: QP1 | D56: 0.52941176 | E56: 0.30769231 | F56: 0.52941176 | G56: 1.4117647 | H56: 0.98951049 | I56: dropped
A57: VTM | B57: BlackSwan | C57: QP2 | D57: 0.52941176 | E57: 0.18181818 | F57: 1.0588235 | I57: dropped
A58: VTM | B58: BlackSwan | C58: QP3 | D58: 0.23529412 | E58: 0 | F58: 1.2941176 | I58: dropped
A59: VTM | B59: BlackSwan | C59: QP4 | D59: 0.11764706 | E59: 0.5 | F59: 1.4117647 | I59: dropped
A60: VTM | B60: BlackSwan | C60: QP5 | D60: 0 | E60: 0 | F60: 1.4117647 | I60: dropped
A61: VTM | B61: BlackSwan2 | C61: QP1 | D61: 0.76470588 | E61: 0.13333333 | F61: 0.76470588 | G61: 2.2352941 | H61: 0.60952381 | I61: dropped
A62: VTM | B62: BlackSwan2 | C62: QP2 | D62: 0.70588235 | E62: 0.14285714 | F62: 1.4705882 | I62: dropped
A63: VTM | B63: BlackSwan2 | C63: QP3 | D63: 0.52941176 | E63: 0 | F63: 2 | I63: dropped
A64: VTM | B64: BlackSwan2 | C64: QP4 | D64: -0.23529412 | E64: 0.33333333 | F64: 1.7647059 | I64: dropped
A65: VTM | B65: BlackSwan2 | C65: QP5 | D65: 0 | E65: 0 | F65: 1.7647059 | I65: dropped
A66: VTM | B66: Camellia | C66: QP1 | D66: 0.58823529 | E66: 0.16666667 | F66: 0.58823529 | G66: 1.3529412 | H66: 0.16666667 | K66: 22 | L66: 28722.54
A67: VTM | B67: Camellia | C67: QP2 | D67: 0.47058824 | E67: 0 | F67: 1.0588235 | K67: 24 | L67: 18140.63 | M67: 25 | N67: 15374.64 | O67: need to degrade 1st point as it is too close to transparent quality | Q67: =N67/N70 -> 17.929542 | R67: =POWER(Q67,1/3) -> 2.6173175 | S67: =N67 -> 15374.64 | T67: =100*INT((S67+50)/100) -> 15400 | U67: {=TRANSPOSE(T67:T70)} -> 15400 | V67: 5900 | W67: 2200 | X67: 900
A68: VTM | B68: Camellia | C68: QP3 | D68: 0.17647059 | E68: 0 | F68: 1.2352941 | K68: 32 | L68: 4592.158 | M68: 31 | N68: 5267.087 | O68: need to degrade as previous point was degraded | P68: =N67/N68 -> 2.9190025 | S68: =S67/R67 -> 5874.1976 | T68: =100*INT((S68+50)/100) -> 5900
A69: VTM | B69: Camellia | C69: QP4 | D69: -0.11764706 | E69: 0 | F69: 1.1176471 | K69: 38 | L69: 2044.767 | M69: 38 | N69: 2044.767 | O69: keep as previous point was degraded | P69: =N68/N69 -> 2.5758862 | S69: =S68/R67 -> 2244.3581 | T69: =100*INT((S69+50)/100) -> 2200
A70: VTM | B70: Camellia | C70: QP5 | D70: 0 | E70: 0 | F70: 1.1176471 | K70: 44 | L70: 857.5032 | M70: 44 | N70: 857.5032 | P70: =N69/N70 -> 2.384559 | S70: =S69/R67 -> 857.5032 | T70: =100*INT((S70+50)/100) -> 900
A71: VTM | B71: Dance | C71: QP1 | D71: -0.11764706 | E71: 0.66666667 | F71: -0.11764706 | G71: 0.41176471 | H71: 2.6666667 | I71: dropped
A72: VTM | B72: Dance | C72: QP2 | D72: 0 | E72: 1 | F72: -0.11764706 | I72: dropped
A73: VTM | B73: Dance | C73: QP3 | D73: -0.058823529 | E73: 0.66666667 | F73: -0.17647059 | I73: dropped
A74: VTM | B74: Dance | C74: QP4 | D74: -0.23529412 | E74: 0.33333333 | F74: -0.41176471 | I74: dropped
A75: VTM | B75: Dance | C75: QP5 | D75: 0 | E75: 0 | F75: -0.41176471 | I75: dropped
A76: VTM | B76: ParkJoy | C76: QP1 | D76: 0 | E76: 1 | F76: 0 | G76: 0.47058824 | H76: 2 | I76: dropped
A77: VTM | B77: ParkJoy | C77: QP2 | D77: 0.058823529 | E77: 0.66666667 | F77: 0.058823529 | I77: dropped
A78: VTM | B78: ParkJoy | C78: QP3 | D78: -0.17647059 | E78: 0 | F78: -0.11764706 | I78: dropped
A79: VTM | B79: ParkJoy | C79: QP4 | D79: -0.23529412 | E79: 0.33333333 | F79: -0.35294118 | I79: dropped
A80: VTM | B80: ParkJoy | C80: QP5 | D80: 0 | E80: 0 | F80: -0.35294118 | I80: dropped
A81: VTM | B81: PrincessRun | C81: QP1 | D81: 0.52941176 | E81: 0 | F81: 0.52941176 | G81: 1.2941176 | H81: 1.4857143 | I81: dropped
A82: VTM | B82: PrincessRun | C82: QP2 | D82: 0 | E82: 1 | F82: 0.52941176 | I82: dropped
A83: VTM | B83: PrincessRun | C83: QP3 | D83: -0.29411765 | E83: 0.28571429 | F83: 0.23529412 | I83: dropped
A84: VTM | B84: PrincessRun | C84: QP4 | D84: -0.47058824 | E84: 0.2 | F84: -0.23529412 | I84: dropped
A85: VTM | B85: PrincessRun | C85: QP5 | D85: 0 | E85: 0 | F85: -0.23529412 | I85: dropped
A86: VTM | B86: Umbrella | C86: QP1 | D86: 0.23529412 | E86: 0 | F86: 0.23529412 | G86: 0.82352941 | H86: 0 | K86: 33 | L86: 5192.737
A87: VTM | B87: Umbrella | C87: QP2 | D87: -0.17647059 | E87: 0 | F87: 0.058823529 | K87: 35 | L87: 3968.222 | M87: 34 | N87: 4536.434 | Q87: =N87/N90 -> 10.327164 | R87: =POWER(Q87,1/3) -> 2.1776781 | S87: =N87 -> 4536.434 | T87: =100*INT((S87+50)/100) -> 4500 | U87: {=TRANSPOSE(T87:T90)} -> 4500 | V87: 2100 | W87: 1000 | X87: 400
A88: VTM | B88: Umbrella | C88: QP3 | D88: -0.17647059 | E88: 0 | F88: -0.11764706 | K88: 41 | L88: 1696.846 | M88: 40 | N88: 1944.242 | P88: =N87/N88 -> 2.3332661 | S88: =S87/R87 -> 2083.1517 | T88: =100*INT((S88+50)/100) -> 2100
A89: VTM | B89: Umbrella | C89: QP4 | D89: -0.23529412 | E89: 0 | F89: -0.35294118 | K89: 46 | L89: 822.5128 | M89: 45 | N89: 956.5728 | P89: =N88/N89 -> 2.0325081 | S89: =S88/R87 -> 956.59303 | T89: =100*INT((S89+50)/100) -> 1000
A90: VTM | B90: Umbrella | C90: QP5 | D90: 0 | E90: 0 | F90: -0.35294118 | K90: 50 | L90: 439.272 | M90: 50 | N90: 439.272 | P90: =N89/N90 -> 2.1776321 | S90: =S89/R87 -> 439.272 | T90: =100*INT((S90+50)/100) -> 400
A91: VTM | B91: DucksTakeOff | C91: QP1 | D91: 0.58823529 | E91: 0 | F91: 0.58823529 | G91: 1.7647059 | H91: 0.15384615 | K91: 26 | L91: 35875.8
A92: VTM | B92: DucksTakeOff | C92: QP2 | D92: 0.41176471 | E92: 0 | F92: 1 | K92: 28 | L92: 23781.03 | M92: 30 | N92: 16913.4 | O92: BR far too high, quality too close to transparency | Q92: =N92/N95 -> 46.773369 | R92: =POWER(Q92,1/3) -> 3.6030162 | S92: =N92 -> 16913.4 | T92: =100*INT((S92+50)/100) -> 16900 | U92: {=TRANSPOSE(T92:T95)} -> 16900 | V92: 4700 | W92: 1300 | X92: 400
A93: VTM | B93: DucksTakeOff | C93: QP3 | D93: -0.11764706 | E93: 0 | F93: 0.88235294 | K93: 36 | L93: 5240.839 | M93: 37 | N93: 4351.175 | P93: =N92/N93 -> 3.887088 | S93: =S92/R92 -> 4694.2336 | T93: =100*INT((S93+50)/100) -> 4700
A94: VTM | B94: DucksTakeOff | C94: QP4 | D94: -0.64705882 | E94: 0.15384615 | F94: 0.23529412 | K94: 44 | L94: 1198.586 | M94: 44 | N94: 1198.586 | P94: =N93/N94 -> 3.6302568 | S94: =S93/R92 -> 1302.8622 | T94: =100*INT((S94+50)/100) -> 1300
A95: VTM | B95: DucksTakeOff | C95: QP5 | D95: 0 | E95: 0 | F95: 0.23529412 | K95: 52 | L95: 239.4712 | M95: 50 | N95: 361.6032 | O95: judged as too bad quality | P95: =N94/N95 -> 3.3146443 | S95: =S94/R92 -> 361.6032 | T95: =100*INT((S95+50)/100) -> 400
A96: VTM | B96: Seeking | C96: QP1 | D96: 0.11764706 | E96: 0.5 | F96: 0.11764706 | G96: 0.88235294 | H96: 1.15 | K96: 36 | L96: 2679.856
A97: VTM | B97: Seeking | C97: QP2 | D97: -0.23529412 | E97: 0 | F97: -0.11764706 | K97: 38 | L97: 1983.13 | M97: 37 | N97: 2301.771 | O97: reduce quality drop | Q97: =N97/N100 -> 10.039898 | R97: =POWER(Q97,1/3) -> 2.1572961 | S97: =N97 -> 2301.771 | T97: =100*INT((S97+50)/100) -> 2300 | U97: {=TRANSPOSE(T97:T100)} -> 2300 | V97: 1100 | W97: 500 | X97: 200
A98: VTM | B98: Seeking | C98: QP3 | D98: -0.17647059 | E98: 0.4 | F98: -0.29411765 | K98: 44 | L98: 772.8344 | M98: 42 | N98: 1069.632 | O98: reduce quality drop | P98: =N97/N98 -> 2.151928 | S98: =S97/R97 -> 1066.9704 | T98: =100*INT((S98+50)/100) -> 1100
A99: VTM | B99: Seeking | C99: QP4 | D99: -0.35294118 | E99: 0.25 | F99: -0.64705882 | K99: 48 | L99: 389.8048 | M99: 47 | N99: 465.204 | O99: reduce quality drop | P99: =N98/N99 -> 2.2992752 | S99: =S98/R97 -> 494.58688 | T99: =100*INT((S99+50)/100) -> 500
A100: VTM | B100: Seeking | C100: QP5 | D100: 0 | E100: 0 | F100: -0.64705882 | K100: 52 | L100: 192.6056 | M100: 51 | N100: 229.2624 | O100: reduce quality drop | P100: =N99/N100 -> 2.0291334 | S100: =S99/R97 -> 229.2624 | T100: =100*INT((S100+50)/100) -> 200
...

Sheet report_al0041_sdr_uhd
A1: SubDir | B1: Sequence | C1: VTM-QP5 | D1: VTM-QP4 | E1: VTM-QP3 | F1: VTM-QP2 | G1: VTM-QP1 | H1: ECM-QP4 | I1: ECM-QP3 | J1: ECM-QP2 | K1: ECM-QP1 | L1: VTM-rate4 | M1: VTM-rate3 | N1: VTM-rate2 | O1: VTM-rate1 | P1: VTM-rate0 | Q1: ECM-rate4 | R1: ECM-rate3 | S1: ECM-rate2 | T1: ECM-rate1 | U1: E-V-ratio4 | V1: E-V-ratio3 | W1: E-V-ratio2 | X1: E-V-ratio1
A2: SDR_RA_UHD-4K/ | B2: FireDance | C2: 44 | D2: 42 | E2: 38 | F2: 32 | G2: 30 | H2: 44 | I2: 40 | J2: 36 | K2: 32 | L2: 586.86 | M2: 726.1992 | N2: 1108.4728 | O2: 2078.2856 | P2: 2670.208 | Q2: 473.8664 | R2: 724.748 | S2: 1099.868 | T2: 1699.2848 | U2: 0.80746072 | V2: 0.99800165 | W2: 0.99223725 | X2: 0.81763777
A3: SDR_RA_UHD-4K/ | B3: HallwayScene | C3: 50 | D3: 50 | E3: 46 | F3: 42 | G3: 38 | H3: 52 | I3: 48 | J3: 44 | K3: 40 | L3: 130.0344 | M3: 130.0344 | N3: 186.768 | O3: 279.46 | P3: 431.1232 | Q3: 86.6664 | R3: 119.6144 | S3: 175.1976 | T3: 265.388 | U3: 0.66648825 | V3: 0.91986736 | W3: 0.93804934 | X3: 0.94964575
A4: SDR_RA_UHD-4K/ | B4: OfficeScene | C4: 50 | D4: 48 | E4: 40 | F4: 36 | G4: 34 | H4: 52 | I4: 48 | J4: 40 | K4: 36 | L4: 122.8768 | M4: 147.8152 | N4: 320.372 | O4: 489.1216 | P4: 619.6912 | Q4: 91.152 | R4: 126.4744 | S4: 267.3688 | T4: 408.5672 | U4: 0.74181619 | V4: 0.85562513 | W4: 0.83455733 | X4: 0.83530803
A5: SDR_RA_UHD-4K/ | B5: Roadtrip | C5: 50 | D5: 46 | E5: 42 | F5: 34 | G5: 30 | H5: 48 | I5: 44 | J5: 40 | K5: 32 | L5: 208.3952 | M5: 301.8008 | N5: 442.1872 | O5: 981.4288 | P5: 1506.4896 | Q5: 187.416 | R5: 272.488 | S5: 398.8072 | T5: 913.7232 | U5: 0.89932974 | V5: 0.90287368 | W5: 0.90189675 | X5: 0.93101323
A6: SDR_RA_UHD-4K/ | B6: TaikoDrums | C6: 50 | D6: 44 | E6: 42 | F6: 32 | G6: 30 | H6: 52 | I6: 44 | J6: 40 | K6: 32 | L6: 154.9232 | M6: 291.4096 | N6: 361.1008 | O6: 1088.8544 | P6: 1402.3384 | Q6: 108.412 | R6: 238.6328 | S6: 360.7544 | T6: 878.4024 | U6: 0.69977899 | V6: 0.81889135 | W6: 0.99904071 | X6: 0.80672163
A7: SDR_RA_UHD-4K/ | B7: Trees | C7: 50 | D7: 48 | E7: 40 | F7: 36 | G7: 34 | H7: 52 | I7: 48 | J7: 40 | K7: 36 | L7: 1062.0432 | M7: 1532.0296 | N7: 5884.276 | O7: 10892.968 | P7: 14938.106 | Q7: 691.9784 | R7: 1439.7128 | S7: 5492.736 | T7: 10090.627 | U7: 0.65155391 | V7: 0.93974216 | W7: 0.93345995 | X7: 0.92634323
A8: SDR RA UHD
E10: 0..1 for confident..disagree | I10: ECM-MOS | J10: ECM-CI | K10: BR mismatch | M10: qp changed
A11: codec | B11: sequence | C11: QP | D11: Mean | E11: (L1n-abs(Mean))/L1n | F11: aggregated | G11: sum(abs(mean)) | H11: sum(l1n-abs(m))/l1n) | K11: initial QPs | M11: proposed QPs | O11: comments | P11: BR ratio from QP to QP | Q11: BR ratio from highest to lowest | R11: cube-root highest/loest | S11: BR using constant BR ratio | T11: rounded BR | U11: transposed BR array
A12: VTM | B12: FireDance | C12: QP1 | D12: -0.23529412 | E12: 0.33333333 | F12: -0.23529412 | G12: 1.2352941 | H12: 1.3333333 | K12: 30 | L12: 2647.002
A13: VTM | B13: FireDance | C13: QP2 | D13: 0 | E13: 1 | F13: -0.23529412 | K13: 32 | L13: 2055.078 | M13: 30 | N13: 2647.002 | O13: qp1 too far from transparent | Q13: =N13/N16 -> 3.7653244 | R13: =POWER(Q13,1/3) -> 1.5557297 | S13: =N13 -> 2647.002 | T13: =100*INT((S13+50)/100) -> 2600 | U13: {=TRANSPOSE(T13:T16)} -> 2600 | V13: 1700 | W13: 1100 | X13: 700
A14: VTM | B14: FireDance | C14: QP3 | D14: -0.35294118 | E14: 0 | F14: -0.58823529 | K14: 38 | L14: 1085.269 | M14: 34 | N14: 1673.004 | P14: =N13/N14 -> 1.5821851 | S14: =S13/R13 -> 1701.4537 | T14: =100*INT((S14+50)/100) -> 1700
A15: VTM | B15: FireDance | C15: QP4 | D15: -0.35294118 | E15: 0 | F15: -0.94117647 | K15: 42 | L15: 702.9944 | M15: 38 | N15: 1085.269 | P15: =N14/N15 -> 1.541557 | S15: =S14/R13 -> 1093.6692 | T15: =100*INT((S15+50)/100) -> 1100
A16: VTM | B16: FireDance | C16: QP5 | D16: -0.29411765 | E16: 0 | F16: -1.2352941 | K16: 44 | L16: 563.6536 | M16: 42 | N16: 702.9944 | P16: =N15/N16 -> 1.5437804 | S16: =S15/R13 -> 702.9944 | T16: =100*INT((S16+50)/100) -> 700
A17: VTM | B17: HallwayScene | C17: QP1 | D17: -0.52941176 | E17: 0.18181818 | F17: -0.52941176 | G17: 2.4117647 | H17: 0.36363636 | K17: 38 | L17: 407.9144
A18: VTM | B18: HallwayScene | C18: QP2 | D18: -0.52941176 | E18: 0.18181818 | F18: -1.0588235 | K18: 42 | L18: 256.256 | M18: 31 | N18: 1019.704 | O18: all rates very low | Q18: =N18/N21 -> 9.5452878 | R18: =POWER(Q18,1/3) -> 2.1212719 | S18: =N18 -> 1019.704 | T18: =100*INT((S18+50)/100) -> 1000 | U18: {=TRANSPOSE(T18:T21)} -> 1000 | V18: 500 | W18: 200 | X18: 100
A19: VTM | B19: HallwayScene | C19: QP3 | D19: -0.47058824 | E19: 0 | F19: -1.5294118 | K19: 46 | L19: 163.5632 | M19: 36 | N19: 518.9072 | P19: =N18/N19 -> 1.965099 | S19: =S18/R18 -> 480.70405 | T19: =100*INT((S19+50)/100) -> 500
A20: VTM | B20: HallwayScene | C20: QP4 | D20: -0.52941176 | E20: 0 | F20: -2.0588235 | K20: 50 | L20: 106.828 | M20: 44 | N20: 204.2448 | P20: =N19/N20 -> 2.540614 | S20: =S19/R18 -> 226.61124 | T20: =100*INT((S20+50)/100) -> 200
A21: VTM | B21: HallwayScene | C21: QP5 | D21: -0.35294118 | E21: 0 | F21: -2.4117647 | K21: 50 | L21: 106.828 | M21: 50 | N21: 106.828 | P21: =N20/N21 -> 1.9119032 | S21: =S20/R18 -> 106.828 | T21: =100*INT((S21+50)/100) -> 100
A22: VTM | B22: OfficeScene | C22: QP1 | D22: -0.41176471 | E22: 0.22222222 | F22: -0.41176471 | G22: 1.8235294 | H22: 0.68888889 | I22: dropped
A23: VTM | B23: OfficeScene | C23: QP2 | D23: 0.23529412 | E23: 0 | F23: -0.17647059 | I23: dropped
A24: VTM | B24: OfficeScene | C24: QP3 | D24: 0.17647059 | E24: 0 | F24: 0 | I24: dropped
A25: VTM | B25: OfficeScene | C25: QP4 | D25: -0.76470588 | E25: 0.13333333 | F25: -0.76470588 | I25: dropped
A26: VTM | B26: OfficeScene | C26: QP5 | D26: -0.23529412 | E26: 0.33333333 | F26: -1 | I26: dropped
A27: VTM | B27: Roadtrip | C27: QP1 | D27: -0.058823529 | E27: 0.8 | F27: -0.058823529 | G27: 1.5294118 | H27: 2.1119769 | I27: dropped
A28: VTM | B28: Roadtrip | C28: QP2 | D28: 0.29411765 | E28: 0.28571429 | F28: 0.23529412 | I28: dropped
A29: VTM | B29: Roadtrip | C29: QP3 | D29: -0.35294118 | E29: 0.4 | F29: -0.11764706 | I29: dropped
A30: VTM | B30: Roadtrip | C30: QP4 | D30: -0.29411765 | E30: 0.44444444 | F30: -0.41176471 | I30: dropped
A31: VTM | B31: Roadtrip | C31: QP5 | D31: -0.52941176 | E31: 0.18181818 | F31: -0.94117647 | I31: dropped
A32: VTM | B32: TaikoDrums | C32: QP1 | D32: 0.058823529 | E32: 0.8 | F32: 0.058823529 | G32: 1.2941176 | H32: 1.05 | K32: 30 | L32: 1379.13
A33: VTM | B33: TaikoDrums | C33: QP2 | D33: 0.35294118 | E33: 0 | F33: 0.41176471 | K33: 32 | L33: 1065.647 | M33: 33 | N33: 947.984 | O33: all rates very low | Q33: =N33/N36 -> 5.6774756 | R33: =POWER(Q33,1/3) -> 1.7839599 | S33: =N33 -> 947.984 | T33: =100*INT((S33+50)/100) -> 900 | U33: {=TRANSPOSE(T33:T36)} -> 900 | V33: 500 | W33: 300 | X33: 200
A34: VTM | B34: TaikoDrums | C34: QP3 | D34: -0.35294118 | E34: 0.25 | F34: 0.058823529 | K34: 42 | L34: 337.8952 | M34: 38 | N34: 532.1064 | P34: =N33/N34 -> 1.7815685 | S34: =S33/R33 -> 531.3931 | T34: =100*INT((S34+50)/100) -> 500
A35: VTM | B35: TaikoDrums | C35: QP4 | D35: -0.058823529 | E35: 0 | F35: 0 | K35: 46 | L35: 212.3688 | M35: 43 | N35: 302.2208 | P35: =N34/N35 -> 1.7606545 | S35: =S34/R33 -> 297.87278 | T35: =100*INT((S35+50)/100) -> 300
A36: VTM | B36: TaikoDrums | C36: QP5 | D36: -0.47058824 | E36: 0 | F36: -0.47058824 | K36: 50 | L36: 131.716 | M36: 48 | N36: 166.9728 | P36: =N35/N36 -> 1.8100002 | S36: =S35/R33 -> 166.9728 | T36: =100*INT((S36+50)/100) -> 200
A37: VTM | B37: Trees | C37: QP1 | D37: -0.23529412 | E37: 0.5 | F37: -0.23529412 | G37: 1.4117647 | H37: 2.1 | I37: dropped
A38: VTM | B38: Trees | C38: QP2 | D38: 0.17647059 | E38: 0.4 | F38: -0.058823529 | I38: dropped
A39: VTM | B39: Trees | C39: QP3 | D39: -0.058823529 | E39: 0.8 | F39: -0.11764706 | I39: dropped
A40: VTM | B40: Trees | C40: QP4 | D40: -0.47058824 | E40: 0.2 | F40: -0.58823529 | I40: dropped
A41: VTM | B41: Trees | C41: QP5 | D41: -0.47058824 | E41: 0.2 | F41: -1.0588235 | I41: dropped
A42: ECM | B42: FireDance | C42: QP1 | D42: -0.11764706 | E42: 0.66666667 | F42: -0.11764706 | G42: 0.41176471 | H42: 2.1333333
A43: ECM | B43: FireDance | C43: QP2 | D43: 0.058823529 | E43: 0.8 | F43: -0.058823529 | K43: 32 | L43: 1676.4848 | M43: 32 | N43: 1676.4848 | Q43: =N43/N46 -> 3.716714 | R43: =POWER(Q43,1/3) -> 1.5490058
A44: ECM | B44: FireDance | C44: QP3 | D44: -0.058823529 | E44: 0.66666667 | F44: -0.11764706 | K44: 36 | L44: 1077.068 | M44: 36 | N44: 1077.068 | P44: =N43/N44 -> 1.5565264
A45: ECM | B45: FireDance | C45: QP4 | D45: -0.17647059 | E45: 0 | F45: -0.29411765 | K45: 40 | L45: 701.948 | M45: 40 | N45: 701.948 | P45: =N44/N45 -> 1.5343986
A46: ECM | B46: FireDance | C46: QP5 | K46: 44 | L46: 451.0664 | M46: 44 | N46: 451.0664 | P46: =N45/N46 -> 1.5561966
A47: ECM | B47: HallwayScene | C47: QP1 | D47: -0.70588235 | E47: 0.14285714 | F47: -0.70588235 | G47: 2 | H47: 0.79689755
A48: ECM | B48: HallwayScene | C48: QP2 | D48: -0.35294118 | E48: 0.25 | F48: -1.0588235 | K48: 40 | L48: 242.588 | M48: 40 | N48: 242.588 | Q48: =N48/N51 -> 3.7983666 | R48: =POWER(Q48,1/3) -> 1.5602671
A49: ECM | B49: HallwayScene | C49: QP3 | D49: -0.41176471 | E49: 0.22222222 | F49: -1.4705882 | K49: 44 | L49: 152.3976 | M49: 44 | N49: 152.3976 | P49: =N48/N49 -> 1.5918098
A50: ECM | B50: HallwayScene | C50: QP4 | D50: -0.52941176 | E50: 0.18181818 | F50: -2 | K50: 48 | L50: 96.8144 | M50: 48 | N50: 96.8144 | P50: =N49/N50 -> 1.5741212
A51: ECM | B51: HallwayScene | C51: QP5 | K51: 52 | L51: 63.8664 | M51: 52 | N51: 63.8664 | P51: =N50/N51 -> 1.5158894
A52: ECM | B52: OfficeScene | C52: QP1 | D52: -0.47058824 | E52: 0.2 | F52: -0.47058824 | G52: 1.3529412 | H52: 1.1857143 | I52: dropped
A53: ECM | B53: OfficeScene | C53: QP2 | D53: -0.11764706 | E53: 0.5 | F53: -0.58823529 | I53: dropped
A54: ECM | B54: OfficeScene | C54: QP3 | D54: -0.29411765 | E54: 0.28571429 | F54: -0.88235294 | I54: dropped
A55: ECM | B55: OfficeScene | C55: QP4 | D55: -0.47058824 | E55: 0.2 | F55: -1.3529412 | I55: dropped
A56: ECM | B56: OfficeScene | C56: QP5 | I56: dropped
A57: ECM | B57: Roadtrip | C57: QP1 | D57: 0.17647059 | E57: 0.57142857 | F57: 0.17647059 | G57: 0.35294118 | H57: #DIV/0! | I57: dropped
A58: ECM | B58: Roadtrip | C58: QP2 | D58: 0.058823529 | E58: 0.8 | F58: 0.23529412 | I58: dropped
A59: ECM | B59: Roadtrip | C59: QP3 | D59: 0 | E59: #DIV/0! | F59: 0.23529412 | I59: dropped
A60: ECM | B60: Roadtrip | C60: QP4 | D60: -0.11764706 | E60: 0 | F60: 0.11764706 | I60: dropped
A61: ECM | B61: Roadtrip | C61: QP5 | I61: dropped
A62: ECM | B62: TaikoDrums | C62: QP1 | D62: -0.17647059 | E62: 0.57142857 | F62: -0.17647059 | G62: 1.2941176 | H62: 1.5142857
A63: ECM | B63: TaikoDrums | C63: QP2 | D63: -0.058823529 | E63: 0.8 | F63: -0.23529412 | K63: 32 | L63: 855.6024 | M63: 32 | N63: 855.6024 | Q63: =N63/N66 -> 9.9939541 | R63: =POWER(Q63,1/3) -> 2.1540004
A64: ECM | B64: TaikoDrums | C64: QP3 | D64: -0.35294118 | E64: 0 | F64: -0.58823529 | K64: 40 | L64: 337.9544 | M64: 40 | N64: 337.9544 | P64: =N63/N64 -> 2.5317096
A65: ECM | B65: TaikoDrums | C65: QP4 | D65: -0.70588235 | E65: 0.14285714 | F65: -1.2941176 | K65: 44 | L65: 215.8328 | M65: 44 | N65: 215.8328 | P65: =N64/N65 -> 1.5658158
A66: ECM | B66: TaikoDrums | C66: QP5 | K66: 52 | L66: 85.612 | M66: 52 | N66: 85.612 | P66: =N65/N66 -> 2.5210578
A67: ECM | B67: Trees | C67: QP1 | D67: -0.47058824 | E67: 0.33333333 | F67: -0.47058824 | G67: 1.5882353 | H67: 0.71515152 | I67: dropped
A68: ECM | B68: Trees | C68: QP2 | D68: -0.11764706 | E68: 0 | F68: -0.58823529 | I68: dropped
A69: ECM | B69: Trees | C69: QP3 | D69: -0.52941176 | E69: 0.18181818 | F69: -1.1176471 | I69: dropped
A70: ECM | B70: Trees | C70: QP4 | D70: -0.47058824 | E70: 0.2 | F70: -1.5882353 | I70: dropped
A71: ECM | B71: Trees | C71: QP5 | I71: dropped

Sheet report_al0041_hdr_8kcrop
A1: SubDir | B1: Sequence | C1: VTM-QP5 | D1: VTM-QP4 | E1: VTM-QP3 | F1: VTM-QP2 | G1: VTM-QP1 | H1: ECM-QP4 | I1: ECM-QP3 | J1: ECM-QP2 | K1: ECM-QP1 | L1: VTM-rate4 | M1: VTM-rate3 | N1: VTM-rate2 | O1: VTM-rate1 | P1: VTM-rate0 | Q1: ECM-rate4 | R1: ECM-rate3 | S1: ECM-rate2 | T1: ECM-rate1 | U1: E-V-ratio4 | V1: E-V-ratio3 | W1: E-V-ratio2 | X1: E-V-ratio1
A2: HDR_RA_8Kcrop/ | B2: FashionLadyCrop1 | C2: 47 | D2: 41 | E2: 35 | F2: 29 | G2: 27 | H2: 46 | I2: 40 | J2: 34 | K2: 28 | L2: 288.59242 | M2: 528.65179 | N2: 1025.7499 | O2: 2026.1861 | P2: 2549.8825 | Q2: 266.99747 | R2: 497.30274 | S2: 973.33263 | T2: 1971.1844 | U2: 0.92517147 | V2: 0.9407 | W2: 0.94889859 | X2: 0.97285457
A3: HDR_RA_8Kcrop/ | B3: FashionLadyDyncropUD | C3: 47 | D3: 41 | E3: 35 | F3: 29 | G3: 27 | H3: 46 | I3: 40 | J3: 34 | K3: 28 | L3: 269.68421 | M3: 509.08547 | N3: 1009.1255 | O3: 2080.1874 | P3: 2658.9701 | Q3: 248.16126 | R3: 477.57474 | S3: 972.99916 | T3: 2056.0143 | U3: 0.92019204 | V3: 0.93810325 | W3: 0.96420037 | X3: 0.98837939
A4: HDR_RA_8Kcrop/ | B4: MeltMetalCrop1 | C4: 50 | D4: 44 | E4: 38 | F4: 32 | G4: 30 | H4: 50 | I4: 44 | J4: 38 | K4: 32 | L4: 805.59786 | M4: 3165.1688 | N4: 9201.2098 | O4: 21933.813 | P4: 28928.196 | Q4: 767.55594 | R4: 3046.6563 | S4: 8711.2004 | T4: 20377.548 | U4: 0.95277802 | V4: 0.96255728 | W4: 0.94674511 | X4: 0.92904721
A5: HDR_RA_8Kcrop/ | B5: MeltMetalCropBC | C5: 50 | D5: 44 | E5: 38 | F5: 30 | G5: 28 | H5: 50 | I5: 44 | J5: 38 | K5: 30 | L5: 1148.0714 | M5: 4317.1726 | N5: 12220.733 | O5: 37489.321 | P5: 47032.265 | Q5: 1100.9275 | R5: 4212.7097 | S5: 11718.15 | T5: 34787.773 | U5: 0.95893639 | V5: 0.97580294 | W5: 0.95887455 | X5: 0.9279382
A6: HDR 8kCrop
E7: 0..1 for confident..disagree | I7: ECM-MOS | J7: ECM-CI | K7: BR mismatch | M7: qp changed
A8: codec | B8: sequence | C8: QP | D8: Mean | E8: (L1n-abs(Mean))/L1n | F8: aggregated | G8: sum(abs(mean)) | H8: sum(l1n-abs(m))/l1n) | K8: initial QPs | M8: proposed QPs | O8: comments | P8: BR ratio from QP to QP | Q8: BR ratio from highest to lowest | R8: cube-root highest/loest | S8: BR using constant BR ratio | T8: rounded BR | U8: transposed BR array
A9: VTM | B9: FashionLadyCrop1 | C9: QP1 | D9: -0.25 | E9: 0.6 | F9: -0.25 | G9: 0.9375 | H9: 1.2666667 | K9: 27 | L9: 2522.04
A10: VTM | B10: FashionLadyCrop1 | C10: QP2 | D10: -0.0625 | E10: 0.66666667 | F10: -0.3125 | K10: 29 | L10: 1998.336 | M10: 27 | N10: 2522.04 | O10: need to reduce drop | Q10: =N10/N13 -> 8.607175 | R10: =POWER(Q10,1/3) -> 2.0493692 | S10: =N10 -> 2522.04 | T10: =100*INT((S10+50)/100) -> 2500 | U10: {=TRANSPOSE(T10:T13)} -> 2500 | V10: 1200 | W10: 600 | X10: 300
A11: VTM | B11: FashionLadyCrop1 | C11: QP3 | D11: -0.25 | E11: 0 | F11: -0.5625 | K11: 35 | L11: 997.9048 | M11: 34 | N11: 1113.368 | O11: reduce drop / previous qp | P11: =N10/N11 -> 2.2652349 | S11: =S10/R10 -> 1230.6421 | T11: =100*INT((S11+50)/100) -> 1200
A12: VTM | B12: FashionLadyCrop1 | C12: QP4 | D12: -0.375 | E12: 0 | F12: -0.9375 | K12: 41 | L12: 500.8017 | M12: 40 | N12: 561.7882 | O12: reduce drop / previous qp | P12: =N11/N12 -> 1.9818287 | S12: =S11/R10 -> 600.49797 | T12: =100*INT((S12+50)/100) -> 600
A13: VTM | B13: FashionLadyCrop1 | C13: QP5 | K13: 47 | L13: 260.7474 | M13: 46 | N13: 293.016 | P13: =N12/N13 -> 1.9172612 | S13: =S12/R10 -> 293.016 | T13: =100*INT((S13+50)/100) -> 300
A14: VTM | B14: FashionLadyDyncropUD | C14: QP1 | D14: -0.1875 | E14: 0.57142857 | F14: -0.1875 | G14: 0.9375 | H14: 1.4714286 | I14: dropped
A15: VTM | B15: FashionLadyDyncropUD | C15: QP2 | D15: -0.1875 | E15: 0.4 | F15: -0.375 | I15: dropped
A16: VTM | B16: FashionLadyDyncropUD | C16: QP3 | D16: -0.125 | E16: 0.5 | F16: -0.5 | I16: dropped
A17: VTM | B17: FashionLadyDyncropUD | C17: QP4 | D17: -0.4375 | E17: 0 | F17: -0.9375 | I17: dropped
A18: VTM | B18: FashionLadyDyncropUD | C18: QP5 | I18: dropped
A19: VTM | B19: MeltMetalCrop1 | C19: QP1 | D19: 0.125 | E19: 0.66666667 | F19: 0.125 | G19: 0.6875 | H19: 1.6666667 | I19: dropped
A20: VTM | B20: MeltMetalCrop1 | C20: QP2 | D20: 0 | E20: 1 | F20: 0.125 | I20: dropped
A21: VTM | B21: MeltMetalCrop1 | C21: QP3 | D21: -0.1875 | E21: 0 | F21: -0.0625 | I21: dropped
A22: VTM | B22: MeltMetalCrop1 | C22: QP4 | D22: -0.375 | E22: 0 | F22: -0.4375 | I22: dropped
A23: VTM | B23: MeltMetalCrop1 | C23: QP5 | I23: dropped
A24: VTM | B24: MeltMetalCropBC | C24: QP1 | D24: 0.125 | E24: 0.5 | F24: 0.125 | G24: 1.25 | H24: 0.68181818 | K24: 28 | L24: 47004.42
A25: VTM | B25: MeltMetalCropBC | C25: QP2 | D25: -0.125 | E25: 0 | F25: 0 | K25: 30 | L25: 37461.48 | M25: 30 | N25: 37461.48 | Q25: =N25/N28 -> 20.526119 | R25: =POWER(Q25,1/3) -> 2.7380137 | S25: =N25 -> 37461.48 | T25: =100*INT((S25+50)/100) -> 37500 | U25: {=TRANSPOSE(T25:T28)} -> 37500 | V25: 13700 | W25: 5000 | X25: 1800
A26: VTM | B26: MeltMetalCropBC | C26: QP3 | D26: -0.4375 | E26: 0 | F26: -0.4375 | K26: 38 | L26: 12192.88 | M26: 37 | N26: 14174.28 | O26: reduce drop / previous qp | P26: =N25/N26 -> 2.6429194 | S26: =S25/R25 -> 13681.992 | T26: =100*INT((S26+50)/100) -> 13700
A27: VTM | B27: MeltMetalCropBC | C27: QP4 | D27: -0.5625 | E27: 0.18181818 | F27: -1 | K27: 44 | L27: 4289.328 | M27: 43 | N27: 5196.611 | O27: further reduce drop / previous qp | P27: =N26/N27 -> 2.7276007 | S27: =S26/R25 -> 4997.0502 | T27: =100*INT((S27+50)/100) -> 5000
A28: VTM | B28: MeltMetalCropBC | C28: QP5 | K28: 50 | L28: 1120.225 | M28: 48 | N28: 1825.064 | O28: same delta qp as previous point | P28: =N27/N28 -> 2.8473582 | S28: =S27/R25 -> 1825.064 | T28: =100*INT((S28+50)/100) -> 1800
A29: ECM | B29: FashionLadyCrop1 | C29: QP1 | D29: -0.25 | E29: 0 | F29: -0.25 | G29: 0.5625 | H29: 1.7333333
A30: ECM | B30: FashionLadyCrop1 | C30: QP2 | D30: 0.1875 | E30: 0.4 | F30: -0.0625 | K30: 28 | L30: 1943.824 | M30: 28 | N30: 1943.824 | Q30: =N30/N33 -> 8.1115184 | R30: =POWER(Q30,1/3) -> 2.0092504
A31: ECM | B31: FashionLadyCrop1 | C31: QP3 | D31: 0.0625 | E31: 0.66666667 | F31: 0 | K31: 34 | L31: 945.9726 | M31: 34 | N31: 945.9726 | P31: =N30/N31 -> 2.0548418
A32: ECM | B32: FashionLadyCrop1 | C32: QP4 | D32: -0.0625 | E32: 0.66666667 | F32: -0.0625 | K32: 40 | L32: 469.9427 | M32: 40 | N32: 469.9427 | P32: =N31/N32 -> 2.0129531
A33: ECM | B33: FashionLadyCrop1 | C33: QP5 | K33: 46 | L33: 239.6375 | M33: 46 | N33: 239.6375 | P33: =N32/N33 -> 1.9610566
A34: ECM | B34: FashionLadyDyncropUD | C34: QP1 | D34: -0.0625 | E34: 0.66666667 | F34: -0.0625 | G34: 0.25 | H34: 3 | I34: dropped
A35: ECM | B35: FashionLadyDyncropUD | C35: QP2 | D35: 0 | E35: 1 | F35: -0.0625 | I35: dropped
A36: ECM | B36: FashionLadyDyncropUD | C36: QP3 | D36: -0.0625 | E36: 0.66666667 | F36: -0.125 | I36: dropped
A37: ECM | B37: FashionLadyDyncropUD | C37: QP4 | D37: -0.125 | E37: 0.66666667 | F37: -0.25 | I37: dropped
A38: ECM | B38: FashionLadyDyncropUD | C38: QP5 | I38: dropped
A39: ECM | B39: MeltMetalCrop1 | C39: QP1 | D39: 0.1875 | E39: 0.66666667 | F39: 0.1875 | G39: 0.875 | H39: 0.86666667 | I39: dropped
A40: ECM | B40: MeltMetalCrop1 | C40: QP2 | D40: 0 | E40: 0 | F40: 0.1875 | I40: dropped
A41: ECM | B41: MeltMetalCrop1 | C41: QP3 | D41: -0.1875 | E41: 0 | F41: 0 | I41: dropped
A42: ECM | B42: MeltMetalCrop1 | C42: QP4 | D42: -0.5 | E42: 0.2 | F42: -0.5 | I42: dropped
A43: ECM | B43: MeltMetalCrop1 | C43: QP5 | I43: dropped
A44: ECM | B44: MeltMetalCropBC | C44: QP1 | D44: 0.1875 | E44: 0.4 | F44: 0.1875 | G44: 1.25 | H44: 0.58181818
A45: ECM | B45: MeltMetalCropBC | C45: QP2 | D45: -0.125 | E45: 0 | F45: 0.0625 | K45: 30 | L45: 34760.41 | M45: 30 | N45: 34760.41 | Q45: =N45/N48 -> 32.378396 | R45: =POWER(Q45,1/3) -> 3.187267
A46: ECM | B46: MeltMetalCropBC | C46: QP3 | D46: -0.375 | E46: 0 | F46: -0.3125 | K46: 38 | L46: 11690.79 | M46: 38 | N46: 11690.79 | P46: =N45/N46 -> 2.9733157
A47: ECM | B47: MeltMetalCropBC | C47: QP4 | D47: -0.5625 | E47: 0.18181818 | F47: -0.875 | K47: 44 | L47: 4185.35 | M47: 44 | N47: 4185.35 | P47: =N46/N47 -> 2.7932646
A48: ECM | B48: MeltMetalCropBC | C48: QP5 | K48: 50 | L48: 1073.568 | M48: 50 | N48: 1073.568 | P48: =N47/N48 -> 3.8985421

Sheet report_ak2026_hdr_8kcrop
A1: SubDir | B1: Sequence | C1: VTM-QP5 | D1: VTM-QP4 | E1: VTM-QP3 | F1: VTM-QP2 | G1: VTM-QP1 | H1: ECM-QP4 | I1: ECM-QP3 | J1: ECM-QP2 | K1: ECM-QP1 | L1: VTM-rate4 | M1: VTM-rate3 | N1: VTM-rate2 | O1: VTM-rate1 | P1: VTM-rate0 | Q1: ECM-rate4 | R1: ECM-rate3 | S1: ECM-rate2 | T1: ECM-rate1 | U1: E-V-ratio4 | V1: E-V-ratio3 | W1: E-V-ratio2 | X1: E-V-ratio1
A2: HDR_RA_8Kcrop | B2: WaterfallForest | C2: 46 | D2: 42 | E2: 40 | F2: 32 | G2: 30 | H2: 46 | I2: 42 | J2: 40 | K2: 32 | L2: 1807.7208 | M2: 3691.24 | N2: 5134.132 | O2: 16960.71 | P2: 22967.919 | Q2: 1696.0944 | R2: 3412.8992 | S2: 4710.8856 | T2: 15079.47 | U2: 0.9382502 | V2: 0.92459423 | W2: 0.91756223 | X2: 0.88908248
A3: HDR_RA_8Kcrop | B3: WomenFootball | C3: 49 | D3: 45 | E3: 39 | F3: 33 | G3: 30 | H3: 48 | I3: 44 | J3: 38 | K3: 32 | L3: 368.6528 | M3: 613.9344 | N3: 1311.188 | O3: 2731.064 | P3: 3985.1088 | Q3: 366.0712 | R3: 607.3896 | S3: 1286.0896 | T3: 2665.3776 | U3: 0.9929972 | V3: 0.98933958 | W3: 0.98085828 | X3: 0.97594842
A4: HDR_RA_8Kcrop | B4: ChandelierCropBR | C4: 52 | D4: 48 | E4: 44 | F4: 37 | G4: 35 | H4: 52 | I4: 48 | J4: 44 | K4: 36 | L4: 533.74667 | M4: 919.44 | N4: 1435.9093 | O4: 2841.9947 | P4: 3530.3 | Q4: 477.904 | R4: 853.07867 | S4: 1289.5773 | T4: 2808.028 | U4: 0.89537608 | V4: 0.92782418 | W4: 0.89809106 | X4: 0.9880483
A5: HDR_RA_8Kcrop | B5: Shells | C5: 48 | D5: 44 | E5: 36 | F5: 32 | G5: 30 | H5: 48 | I5: 44 | J5: 36 | K5: 32 | L5: 192.37643 | M5: 285.42473 | N5: 616.13178 | O5: 934.59884 | P5: 1119.9037 | Q5: 185.78091 | R5: 243.03734 | S5: 537.77925 | T5: 859.2966 | U5: 0.96571556 | V5: 0.85149365 | W5: 0.87283154 | X5: 0.91942827
A6: HDR_RA_8Kcrop | B6: SubwayTreeCropped | C6: 48 | D6: 44 | E6: 36 | F6: 32 | G6: 30 | H6: 48 | I6: 44 | J6: 36 | K6: 32 | L6: 208.7048 | M6: 394.0744 | N6: 1245.8464 | O6: 2236.1728 | P6: 3065.5472 | Q6: 196.8216 | R6: 392.3232 | S6: 1133.0504 | T6: 2030.6104 | U6: 0.94306216 | V6: 0.99555617 | W6: 0.90946235 | X6: 0.90807401
E8: 0..1 for confident..disagree | I8: ECM-MOS | J8: ECM-CI | K8: BR mismatch | M8: qp changed
A9: codec | B9: sequence | C9: QP | D9: Mean | E9: (L1n-abs(Mean))/L1n | F9: aggregated | G9: sum(abs(mean)) | H9: sum(l1n-abs(m))/l1n) | K9: initial QPs | M9: proposed QPs | O9: comments | P9: BR ratio from QP to QP | Q9: BR ratio from highest to lowest | R9: cube-root highest/loest | S9: BR using constant BR ratio | T9: rounded BR | U9: transposed BR array
A10: VTM | B10: WaterfallForest | C10: QP1 | D10: 0.55555556 | E10: 0 | F10: 0.55555556 | G10: 2.3888889 | H10: 0.64285714 | K10: 30 | L10: 22944.71
A11: VTM | B11: WaterfallForest | C11: QP2 | D11: 0.66666667 | E11: 0.14285714 | F11: 1.2222222 | K11: 32 | L11: 16937.5 | M11: 33 | N11: 14679.22 | Q11: =N11/N14 -> 6.7913385 | R11: =POWER(Q11,1/3) -> 1.8937317 | S11: =N11 -> 14679.22 | T11: =100*INT((S11+50)/100) -> 14700 | U11: {=TRANSPOSE(T11:T14)} -> 14700 | V11: 7800 | W11: 4100 | X11: 2200
A12: VTM | B12: WaterfallForest | C12: QP3 | D12: -0.11111111 | E12: 0.5 | F12: 1.1111111 | K12: 40 | L12: 5110.922 | M12: 38 | N12: 7009.724 | P12: =N11/N12 -> 2.0941224 | S12: =S11/R11 -> 7751.478 | T12: =100*INT((S12+50)/100) -> 7800
A13: VTM | B13: WaterfallForest | C13: QP4 | D13: -0.33333333 | E13: 0 | F13: 0.77777778 | K13: 42 | L13: 3668.031 | M13: 41 | N13: 4351.97 | O13: quality already too poor | P13: =N12/N13 -> 1.6107014 | S13: =S12/R11 -> 4093.2292 | T13: =100*INT((S13+50)/100) -> 4100
A14: VTM | B14: WaterfallForest | C14: QP5 | D14: 0.72222222 | E14: 0 | F14: 1.5 | K14: 46 | L14: 1784.514 | M14: 45 | N14: 2161.462 | P14: =N13/N14 -> 2.0134381 | S14: =S13/R11 -> 2161.462 | T14: =100*INT((S14+50)/100) -> 2200
A15: VTM | B15: WomenFootball | C15: QP1 | D15: 0.55555556 | E15: 0.16666667 | F15: 0.55555556 | G15: 1.5555556 | H15: 0.96031746 | K15: 30 | L15: 3961.904
A16: VTM | B16: WomenFootball | C16: QP2 | D16: 0.38888889 | E16: 0.22222222 | F16: 0.94444444 | K16: 33 | L16: 2707.858 | M16: 34 | N16: 2405.965 | Q16: =N16/N19 -> 6.0897803 | R16: =POWER(Q16,1/3) -> 1.8261392 | S16: =N16 -> 2405.965 | T16: =100*INT((S16+50)/100) -> 2400 | U16: {=TRANSPOSE(T16:T19)} -> 2400 | V16: 1300 | W16: 700 | X16: 400
A17: VTM | B17: WomenFootball | C17: QP3 | D17: 0.16666667 | E17: 0 | F17: 1.1111111 | K17: 39 | L17: 1287.984 | M17: 39 | N17: 1287.984 | P17: =N16/N17 -> 1.8680085 | S17: =S16/R16 -> 1317.5146 | T17: =100*INT((S17+50)/100) -> 1300
A18: VTM | B18: WomenFootball | C18: QP4 | D18: -0.16666667 | E18: 0.57142857 | F18: 0.94444444 | K18: 45 | L18: 590.7256 | M18: 44 | N18: 670.7064 | P18: =N17/N18 -> 1.9203395 | S18: =S17/R16 -> 721.47545 | T18: =100*INT((S18+50)/100) -> 700
A19: VTM | B19: WomenFootball | C19: QP5 | D19: -0.27777778 | E19: 0 | F19: 0.66666667 | K19: 49 | L19: 345.4488 | M19: 48 | N19: 395.0824 | P19: =N18/N19 -> 1.6976367 | S19: =S18/R16 -> 395.0824 | T19: =100*INT((S19+50)/100) -> 400
A20: VTM | B20: ChandelierCropBR | C20: QP1 | D20: 0.44444444 | E20: 0.2 | F20: 0.44444444 | G20: 1.2777778 | H20: 1.7 | K20: 35 | L20: 3530.3
A21: VTM | B21: ChandelierCropBR | C21: QP2 | D21: 0.44444444 | E21: 0.2 | F21: 0.88888889 | K21: 37 | L21: 2841.9947 | M21: 38 | N21: 2575.4973 | Q21: =N21/N24 -> 4.3040397 | R21: =POWER(Q21,1/3) -> 1.6266424 | S21: =N21 -> 2575.4973 | T21: =100*INT((S21+50)/100) -> 2600 | U21: {=TRANSPOSE(T21:T24)} -> 2600 | V21: 1600 | W21: 1000 | X21: 600
A22: VTM | B22: ChandelierCropBR | C22: QP3 | D22: -0.055555556 | E22: 0.8 | F22: 0.83333333 | K22: 44 | L22: 1408.0613 | M22: 43 | N22: 1542.3093 | P22: =N21/N22 -> 1.6698968 | S22: =S21/R21 -> 1583.3211 | T22: =100*INT((S22+50)/100) -> 1600
A23: VTM | B23: ChandelierCropBR | C23: QP4 | D23: -0.11111111 | E23: 0.5 | F23: 0.72222222 | K23: 48 | L23: 891.592 | M23: 47 | N23: 1001.9453 | P23: =N22/N23 -> 1.5393149 | S23: =S22/R21 -> 973.36768 | T23: =100*INT((S23+50)/100) -> 1000
A24: VTM | B24: ChandelierCropBR | C24: QP5 | D24: -0.22222222 | E24: 0 | F24: 0.5 | K24: 52 | L24: 505.8987 | M24: 51 | N24: 598.3907 | P24: =N23/N24 -> 1.6743999 | S24: =S23/R21 -> 598.3907 | T24: =100*INT((S24+50)/100) -> 600
A25: VTM | B25: Shells | C25: QP1 | D25: 0.11111111 | E25: 0.75 | F25: 0.11111111 | G25: 1.3888889 | H25: 1.9722222 | J25: 30 | K25: dropped | L25: 1119.9037
A26: VTM | B26: Shells | C26: QP2 | D26: 0.38888889 | E26: 0.22222222 | F26: 0.5 | J26: 32 | K26: dropped | L26: 906.7509 | M26: 33 | N26: 816.5935 | O26: very low BRs (transl motion fixed content) | Q26: =N26/N29 -> 4.9634455 | R26: =POWER(Q26,1/3) -> 1.7057986 | S26: =N26 -> 816.5935 | T26: =100*INT((S26+50)/100) -> 800 | U26: {=TRANSPOSE(T26:T29)} -> 800 | V26: 500 | W26: 300 | X26: 200
A27: VTM | B27: Shells | C27: QP3 | D27: -0.055555556 | E27: 0.8 | F27: 0.44444444 | J27: 36 | K27: dropped | L27: 588.2848 | M27: 36 | N27: 588.2848 | P27: =N26/N27 -> 1.3880921 | S27: =S26/R26 -> 478.71625 | T27: =100*INT((S27+50)/100) -> 500
A28: VTM | B28: Shells | C28: QP4 | D28: -0.44444444 | E28: 0.2 | F28: 0 | J28: 44 | K28: dropped | L28: 257.5807 | M28: 44 | N28: 257.5807 | P28: =N27/N28 -> 2.2838854 | S28: =S27/R26 -> 280.64054 | T28: =100*INT((S28+50)/100) -> 300
A29: VTM | B29: Shells | C29: QP5 | D29: -0.38888889 | E29: 0 | F29: -0.38888889 | J29: 48 | K29: dropped | L29: 164.5215 | M29: 48 | N29: 164.5215 | O29: qp47 would be better but not available | P29: =N28/N29 -> 1.5656355 | S29: =S28/R26 -> 164.5215 | T29: =100*INT((S29+50)/100) -> 200
A30: VTM | B30: SubwayTreeCropped | C30: QP1 | D30: 0.33333333 | E30: 0 | F30: 0.33333333 | G30: 1.8888889 | H30: 0.51515152 | K30: dropped
A31: VTM | B31: SubwayTreeCropped | C31: QP2 | D31: 0.5 | E31: 0.18181818 | F31: 0.83333333 | K31: dropped
A32: VTM | B32: SubwayTreeCropped | C32: QP3 | D32: 0.27777778 | E32: 0 | F32: 1.1111111 | K32: dropped
A33: VTM | B33: SubwayTreeCropped | C33: QP4 | D33: -0.55555556 | E33: 0 | F33: 0.55555556 | K33: dropped
A34: VTM | B34: SubwayTreeCropped | C34: QP5 | D34: -0.22222222 | E34: 0.33333333 | F34: 0.33333333 | K34: dropped
A35: ECM | B35: WaterfallForest | C35: QP1 | D35: 0.27777778 | E35: 0.28571429 | F35: 0.27777778 | G35: 0.94444444 | H35: 0.68571429 | I35: 8.13 | J35: 0.49 | K35: 32 | L35: 15056.67 | M35: 32 | N35: 15056.67 | Q35: =N35/N38 -> 8.9982215 | R35: =POWER(Q35,1/3) -> 2.0799468
A36: ECM | B36: WaterfallForest | C36: QP2 | D36: -0.33333333 | E36: 0 | F36: -0.055555556 | K36: 40 | L36: 4688.086 | M36: 38 | N36: 6384.093 | P36: =N35/N36 -> 2.3584666
A37: ECM | B37: WaterfallForest | C37: QP3 | D37: 0.16666667 | E37: 0.4 | F37: 0.11111111 | K37: 42 | L37: 3390.099 | M37: 40 | N37: 4688.086 | P37: =N36/N37 -> 1.3617696
A38: ECM | B38: WaterfallForest | C38: QP4 | D38: -0.16666667 | E38: 0 | F38: -0.055555556 | K38: 46 | L38: 1673.294 | M38: 46 | N38: 1673.294 | P38: =N37/N38 -> 2.8017109
A40: ECM | B40: WomenFootball | C40: QP1 | D40: 0.38888889 | E40: 0 | F40: 0.38888889 | G40: 1.0555556 | H40: 0.33333333 | I40: 8.56 | J40: 0.36 | K40: 32 | L40: 2642.578 | M40: 32 | N40: 2642.578 | Q40: =N40/N43 -> 7.6982223 | R40: =POWER(Q40,1/3) -> 1.9745288
A41: ECM | B41: WomenFootball | C41: QP2 | D41: 0.44444444 | E41: 0.33333333 | F41: 0.83333333 | K41: 38 | L41: 1263.29 | M41: 38 | N41: 1263.29 | P41: =N40/N41 -> 2.0918221
A42: ECM | B42: WomenFootball | C42: QP3 | D42: 0.055555556 | E42: 0 | F42: 0.88888889 | K42: 44 | L42: 584.5896 | M42: 44 | N42: 584.5896 | P42: =N41/N42 -> 2.1609861
A43: ECM | B43: WomenFootball | C43: QP4 | D43: -0.16666667 | E43: 0 | F43: 0.72222222 | I43: 3.04 | J43: 0.55 | K43: 48 | L43: 343.2712 | M43: 48 | N43: 343.2712 | P43: =N42/N43 -> 1.7029963
A45: ECM | B45: ChandelierCropBR | C45: QP1 | D45: 0.44444444 | E45: 0 | F45: 0.44444444 | G45: 0.5 | H45: 2.6666667 | I45: 8 | J45: 0.5 | K45: 36 | L45: 2808.028 | M45: 36 | N45: 2808.028 | Q45: =N45/N48 -> 5.8757156 | R45: =POWER(Q45,1/3) -> 1.8044863
A46: ECM | B46: ChandelierCropBR | C46: QP2 | D46: 0 | E46: 1 | F46: 0.44444444 | K46: 44 | L46: 1289.5773 | M46: 44 | N46: 1289.5773 | P46: =N45/N46 -> 2.1774793
A47: ECM | B47: ChandelierCropBR | C47: QP3 | D47: 0 | E47: 1 | F47: 0.44444444 | K47: 48 | L47: 853.07867 | M47: 48 | N47: 853.07867 | P47: =N46/N47 -> 1.5116746
A48: ECM | B48: ChandelierCropBR | C48: QP4 | D48: -0.055555556 | E48: 0.66666667 | F48: 0.38888889 | I48: 3.52 | J48: 0.55 | K48: 52 | L48: 477.904 | M48: 52 | N48: 477.904 | P48: =N47/N48 -> 1.7850419
A50: ECM | B50: Shells | C50: QP1 | D50: 0.055555556 | E50: 0.90909091 | F50: 0.055555556 | G50: 0.55555556 | H50: 2.1948052 | K50: 32 | L50: 831.9366 | M50: 32 | N50: 831.9366 | Q50: =N50/N53 -> 5.2514321 | R50: =POWER(Q50,1/3) -> 1.7381713
A51: ECM | B51: Shells | C51: QP2 | D51: 0 | E51: 1 | F51: 0.055555556 | K51: 36 | L51: 537.7793 | M51: 36 | N51: 537.7793 | P51: =N50/N51 -> 1.5469852
A52: ECM | B52: Shells | C52: QP3 | D52: -0.27777778 | E52: 0.28571429 | F52: -0.22222222 | K52: 44 | L52: 243.0373 | M52: 44 | N52: 243.0373 | P52: =N51/N52 -> 2.2127439
A53: ECM | B53: Shells | C53: QP4 | D53: -0.22222222 | E53: 0 | F53: -0.44444444 | I53: 2.58 | J53: 0.37 | K53: 48 | L53: 158.4209 | M53: 48 | N53: 158.4209 | P53: =N52/N53 -> 1.534124
A55: ECM | B55: SubwayTreeCropped | C55: QP1 | D55: 0.44444444 | E55: 0.2 | F55: 0.44444444 | G55: 1.1111111 | H55: 0.48571429 | K55: dropped
A56: ECM | B56: SubwayTreeCropped | C56: QP2 | D56: 0.27777778 | E56: 0.28571429 | F56: 0.72222222 | I56: 7.4 | J56: 0.32 | K56: dropped
A57: ECM | B57: SubwayTreeCropped | C57: QP3 | D57: -0.11111111 | E57: 0 | F57: 0.61111111 | K57: dropped
A58: ECM | B58: SubwayTreeCropped | C58: QP4 | D58: -0.27777778 | E58: 0 | F58: 0.33333333 | I58: 3 | J58: 0.61 | K58: dropped
K59: dropped

Sheet report_ak2026_hdr_uhd
A1: SubDir | B1: Sequence | C1: VTM-QP5 | D1: VTM-QP4 | E1: VTM-QP3 | F1: VTM-QP2 | G1: VTM-QP1 | H1: ECM-QP4 | I1: ECM-QP3 | J1: ECM-QP2 | K1: ECM-QP1 | L1: VTM-rate4 | M1: VTM-rate3 | N1: VTM-rate2 | O1: VTM-rate1 | P1: VTM-rate0 | Q1: ECM-rate4 | R1: ECM-rate3 | S1: ECM-rate2 | T1: ECM-rate1 | U1: E-V-ratio4 | V1: E-V-ratio3 | W1: E-V-ratio2 | X1: E-V-ratio1
A2: HDR_RA_UHD-4K | B2: AMS06 | C2: 44 | D2: 40 | E2: 36 | F2: 32 | G2: 30 | H2: 44 | I2: 40 | J2: 36 | K2: 32 | L2: 1000.1816 | M2: 2261.5792 | N2: 4880.0648 | O2: 10587.329 | P2: 12853.941 | Q2: 983.0944 | R2: 2141.5712 | S2: 4624.6568 | T2: 9941.6016 | U2: 0.9829159 | V2: 0.94693619 | W2: 0.94766299 | X2: 0.93900943
A3: HDR_RA_UHD-4K | B3: SparksWelding | C3: 48 | D3: 40 | E3: 36 | F3: 28 | G3: 26 | H3: 48 | I3: 40 | J3: 36 | K3: 28 | L3: 324.3576 | M3: 1362.7496 | N3: 2602.804 | O3: 8566.4984 | P3: 11639.875 | Q3: 311.94 | R3: 1287.2824 | S3: 2429.3376 | T3: 7871.5472 | U3: 0.96171633 | V3: 0.94462137 | W3: 0.93335403 | X3: 0.9188757
A4: HDR_RA_UHD-4K | B4: AMS01 | C4: 48 | D4: 40 | E4: 36 | F4: 32 | G4: 30 | H4: 48 | I4: 40 | J4: 36 | K4: 32 | L4: 706.2528 | M4: 2653.9592 | N4: 5037.7176 | O4: 9879.7424 | P4: 14014.277 | Q4: 647.6664 | R4: 2417.088 | S4: 4563.1176 | T4: 8924.632 | U4: 0.91704613 | V4: 0.91074799 | W4: 0.90579067 | X4: 0.90332639
A5: HDR_RA_UHD-4K | B5: MeridianHDR2 | C5: 43 | D5: 42 | E5: 37 | F5: 28 | G5: 26 | H5: 44 | I5: 40 | J5: 36 | K5: 28 | L5: 184.38 | M5: 205.752 | N5: 356.48 | O5: 1416.1864 | P5: 1962.8448 | Q5: 145.756 | R5: 200.7968 | S5: 354.2192 | T5: 1244.016 | U5: 0.79051958 | V5: 0.97591664 | W5: 0.99365799 | X5: 0.87842674
A6: HDR_RA_UHD-4K | B6: NeptuneFountain3R1 | C6: 44 | D6: 40 | E6: 36 | F6: 32 | G6: 30 | H6: 44 | I6: 40 | J6: 36 | K6: 32 | L6: 395.2048 | M6: 853.62 | N6: 1820.6688 | O6: 3790.248 | P6: 5550.1752 | Q6: 366.384 | R6: 788.7384 | S6: 1681.6648 | T6: 3513.368 | U6: 0.92707376 | V6: 0.92399241 | W6: 0.92365223 | X6: 0.92694937
A7: HDR_RA_UHD-4K | B7: SparksDirtLot | C7: 44 | D7: 40 | E7: 36 | F7: 32 | G7: 30 | H7: 44 | I7: 40 | J7: 36 | K7: 32 | L7: 225.7032 | M7: 420.3608 | N7: 772.8552 | O7: 1457.1104 | P7: 2069.7192 | Q7: 205.5648 | R7: 380.1824 | S7: 708.0768 | T7: 1355.4176 | U7: 0.91077486 | V7: 0.90441925 | W7: 0.91618301 | X7: 0.93020927
A8: HDR_RA_UHD-4K | B8: SubwayTreeR1 | C8: 44 | D8: 40 | E8: 36 | F8: 32 | G8: 30 | H8: 44 | I8: 40 | J8: 36 | K8: 32 | L8: 329.8928 | M8: 673.2912 | N8: 1289.2248 | O8: 2502.1912 | P8: 3515.744 | Q8: 313.4752 | R8: 636.7616 | S8: 1212.9376 | T8: 2328.9408 | U8: 0.95023353 | V8: 0.94574472 | W8: 0.94082708 | X8: 0.93076053
I10: ECM-MOS | J10: ECM-CI | K10: BR mismatch | M10: qp changed
A11: codec | B11: sequence | C11: QP | D11: Mean | E11: (L1n-abs(Mean))/L1n | F11: aggregated | G11: sum(abs(mean)) | H11: sum(l1n-abs(m))/l1n) | K11: initial QPs | M11: proposed QPs | O11: comments | P11: BR ratio from QP to QP | Q11: BR ratio from highest to lowest | R11: cube-root highest/loest | S11: BR using constant BR ratio | T11: rounded BR | U11: transposed BR array
A12: VTM | B12: AMS06 | C12: QP1 | D12: 0.33333333 | E12: 0.4 | F12: 0.33333333 | G12: 0.83333333 | H12: 0.9 | K12: 30 | L12: 15819.29
A13: VTM | B13: AMS06 | C13: QP2 | D13: 0.22222222 | E13: 0 | F13: 0.55555556 | K13: 32 | L13: 10587.329 | M13: 33 | N13: 8687.983 | Q13: =N13/N16 -> 8.6864055 | R13: =POWER(Q13,1/3) -> 2.0556383 | S13: =N13 -> 8687.983 | T13: =100*INT((S13+50)/100) -> 8700 | U13: {=TRANSPOSE(T13:T16)} -> 8700 | V13: 4200 | W13: 2100 | X13: 1000
A14: VTM | B14: AMS06 | C14: QP3 | D14: 0.11111111 | E14: 0.5 | F14: 0.66666667 | K14: 36 | L14: 4880.0648 | M14: 37 | N14: 4020.008 | P14: =N13/N14 -> 2.1611855 | S14: =S13/R13 -> 4226.4162 | T14: =100*INT((S14+50)/100) -> 4200
A15: VTM | B15: AMS06 | C15: QP4 | D15: -0.055555556 | E15: 0 | F15: 0.61111111 | K15: 40 | L15: 2261.5792 | M15: 40 | N15: 2261.5792 | P15: =N14/N15 -> 1.7775225 | S15: =S14/R13 -> 2056.0116 | T15: =100*INT((S15+50)/100) -> 2100
A16: VTM | B16: AMS06 | C16: QP5 | D16: -0.11111111 | E16: 0 | F16: 0.5 | K16: 44 | L16: 1000.1816 | M16: 44 | N16: 1000.1816 | P16: =N15/N16 -> 2.2611686 | S16: =S15/R13 -> 1000.1816 | T16: =100*INT((S16+50)/100) -> 1000
A17: VTM | B17: SparksWelding | C17: QP1 | D17: 0.33333333 | E17: 0 | F17: 0.33333333 | G17: 1.3888889 | H17: 0.68571429 | K17: 26 | L17: 11639.875
A18: VTM | B18: SparksWelding | C18: QP2 | D18: 0.61111111 | E18: 0 | F18: 0.94444444 | K18: 28 | L18: 8538.648 | M18: 29 | N18: 7447.3888 | Q18: =N18/N21 -> 16.622834 | R18: =POWER(Q18,1/3) -> 2.5521235 | S18: =N18 -> 7447.3888 | T18: =100*INT((S18+50)/100) -> 7400 | U18: {=TRANSPOSE(T18:T21)} -> 7400 | V18: 2900 | W18: 1100 | X18: 400
A19: VTM | B19: SparksWelding | C19: QP3 | D19: -0.16666667 | E19: 0.4 | F19: 0.77777778 | K19: 36 | L19: 2574.955 | M19: 35 | N19: 3067.1784 | P19: =N18/N19 -> 2.4280912 | S19: =S18/R18 -> 2918.1145 | T19: =100*INT((S19+50)/100) -> 2900
A20: VTM | B20: SparksWelding | C20: QP4 | D20: 0 | E20: 0 | F20: 0.77777778 | K20: 40 | L20: 1334.903 | M20: 41 | N20: 1120.7664 | P20: =N19/N20 -> 2.7366795 | S20: =S19/R18 -> 1143.4065 | T20: =100*INT((S20+50)/100) -> 1100
A21: VTM | B21: SparksWelding | C21: QP5 | D21: -0.27777778 | E21: 0.28571429 | F21: 0.5 | K21: 48 | L21: 296.5072 | M21: 46 | N21: 448.0216 | P21: =N20/N21 -> 2.5015901 | S21: =S20/R18 -> 448.0216 | T21: =100*INT((S21+50)/100) -> 400
A22: VTM | B22: AMS01 | C22: QP1 | D22: 0.33333333 | E22: 0.25 | F22: 0.33333333 | G22: 1.8333333 | H22: 1.25 | K22: dropped
A23: VTM | B23: AMS01 | C23: QP2 | D23: 0.55555556 | E23: 0.16666667 | F23: 0.88888889 | K23: dropped
A24: VTM | B24: AMS01 | C24: QP3 | D24: 0.11111111 | E24: 0.5 | F24: 1 | K24: dropped
A25: VTM | B25: AMS01 | C25: QP4 | D25: 0.22222222 | E25: 0.33333333 | F25: 1.2222222 | K25: dropped
A26: VTM | B26: AMS01 | C26: QP5 | D26: -0.61111111 | E26: 0 | F26: 0.61111111 | K26: dropped
A27: VTM | B27: MeridianHDR2 | C27: QP1 | D27: -0.055555556 | E27: 0.85714286 | F27: -0.055555556 | G27: 1.2777778 | H27: 1.5793651 | K27: 26 | L27: 1934.9984 | O27: quality loss visible at lowest qps
A28: VTM | B28: MeridianHDR2 | C28: QP2 | D28: 0.33333333 | E28: 0 | F28: 0.27777778 | K28: 28 | L28: 1416.1864 | M28: 26 | N28: 1934.9984 | Q28: =N28/N31 -> 10.876546 | R28: =POWER(Q28,1/3) -> 2.2156288 | S28: =N28 -> 1934.9984 | T28: =100*INT((S28+50)/100) -> 1900 | U28: {=TRANSPOSE(T28:T31)} -> 1900 | V28: 900 | W28: 400 | X28: 200
A29: VTM | B29: MeridianHDR2 | C29: QP3 | D29: -0.38888889 | E29: 0.22222222 | F29: -0.11111111 | K29: 37 | L29: 356.48 | M29: 30 | N29: 1046.396 | P29: =N28/N29 -> 1.8492028 | S29: =S28/R28 -> 873.34053 | T29: =100*INT((S29+50)/100) -> 900
A30: VTM | B30: MeridianHDR2 | C30: QP4 | D30: -0.38888889 | E30: 0 | F30: -0.5 | K30: 42 | L30: 177.9056 | M30: 35 | N30: 485.8504 | P30: =N29/N30 -> 2.1537412 | S30: =S29/R28 -> 394.17277 | T30: =100*INT((S30+50)/100) -> 400
A31: VTM | B31: MeridianHDR2 | C31: QP5 | D31: -0.11111111 | E31: 0.5 | F31: -0.61111111 | K31: 43 | L31: 156.532 | M31: 42 | N31: 177.9056 | P31: =N30/N31 -> 2.730945 | S31: =S30/R28 -> 177.9056 | T31: =100*INT((S31+50)/100) -> 200
A32: VTM | B32: NeptuneFountain3R1 | C32: QP1 | D32: -0.22222222 | E32: 0.5 | F32: -0.22222222 | G32: 0.83333333 | H32: 0.5 | K32: 30 | L32: 5550.1752
A33: VTM | B33: NeptuneFountain3R1 | C33: QP2 | D33: 0.055555556 | E33: 0 | F33: -0.16666667 | K33: 32 | L33: 3790.248 | M33: 32 | N33: 3790.248 | Q33: =N33/N36 -> 7.9271735 | R33: =POWER(Q33,1/3) -> 1.9939126 | S33: =N33 -> 3790.248 | T33: =100*INT((S33+50)/100) -> 3800 | U33: {=TRANSPOSE(T33:T36)} -> 3800 | V33: 1900 | W33: 1000 | X33: 500
A34: VTM | B34: NeptuneFountain3R1 | C34: QP3 | D34: -0.11111111 | E34: 0 | F34: -0.27777778 | K34: 36 | L34: 1820.6688 | M34: 36 | N34: 1820.6688 | P34: =N33/N34 -> 2.0817888 | S34: =S33/R33 -> 1900.9098 | T34: =100*INT((S34+50)/100) -> 1900
A35: VTM | B35: NeptuneFountain3R1 | C35: QP4 | D35: -0.22222222 | E35: 0 | F35: -0.5 | K35: 40 | L35: 853.62 | M35: 39 | N35: 1032.8968 | P35: =N34/N35 -> 1.7626822 | S35: =S34/R33 -> 953.35662 | T35: =100*INT((S35+50)/100) -> 1000
A36: VTM | B36: NeptuneFountain3R1 | C36: QP5 | D36: -0.22222222 | E36: 0 | F36: -0.72222222 | K36: 44 | L36: 395.2048 | M36: 43 | N36: 478.1336 | P36: =N35/N36 -> 2.1602682 | S36: =S35/R33 -> 478.1336 | T36: =100*INT((S36+50)/100) -> 500
A37: VTM | B37: SparksDirtLot | C37: QP1 | D37: 0.16666667 | E37: 0.66666667 | F37: 0.16666667 | G37: 0.55555556 | H37: 1.4666667 | K37: dropped
A38: VTM | B38: SparksDirtLot | C38: QP2 | D38: 0.055555556 | E38: 0.8 | F38: 0.22222222 | K38: dropped
A39: VTM | B39: SparksDirtLot | C39: QP3 | D39: -0.055555556 | E39: 0 | F39: 0.16666667 | K39: dropped
A40: VTM | B40: SparksDirtLot | C40: QP4 | D40: -0.11111111 | E40: 0 | F40: 0.055555556 | K40: dropped
A41: VTM | B41: SparksDirtLot | C41: QP5 | D41: -0.16666667 | E41: 0 | F41: -0.11111111 | K41: dropped
A42: VTM | B42: SubwayTreeR1 | C42: QP1 | D42: 0.27777778 | E42: 0.28571429 | F42: 0.27777778 | G42: 1.2222222 | H42: 0.68571429 | K42: 30 | L42: 3515.744
A43: VTM | B43: SubwayTreeR1 | C43: QP2 | D43: 0.33333333 | E43: 0.4 | F43: 0.61111111 | K43: 32 | L43: 2502.1912 | M43: 33 | N43: 2112.8696 | Q43: =N43/N46 -> 6.4047157 | R43: =POWER(Q43,1/3) -> 1.8570914 | S43: =N43 -> 2112.8696 | T43: =100*INT((S43+50)/100) -> 2100 | U43: {=TRANSPOSE(T43:T46)} -> 2100 | V43: 1100 | W43: 600 | X43: 300
A44: VTM | B44: SubwayTreeR1 | C44: QP3 | D44: 0.16666667 | E44: 0 | F44: 0.77777778 | K44: 36 | L44: 1289.2248 | M44: 37 | N44: 1100.9336 | P44: =N43/N44 -> 1.9191617 | S44: =S43/R43 -> 1137.7305 | T44: =100*INT((S44+50)/100) -> 1100
A45: VTM | B45: SubwayTreeR1 | C45: QP4 | D45: -0.16666667 | E45: 0 | F45: 0.61111111 | K45: 40 | L45: 673.2912 | M45: 40 | N45: 673.2912 | P45: =N44/N45 -> 1.6351522 | S45: =S44/R43 -> 612.64109 | T45: =100*INT((S45+50)/100) -> 600
A46: VTM | B46: SubwayTreeR1 | C46: QP5 | D46: -0.27777778 | E46: 0 | F46: 0.33333333 | K46: 44 | L46: 329.8928 | M46: 44 | N46: 329.8928 | P46: =N45/N46 -> 2.0409394 | S46: =S45/R43 -> 329.8928 | T46: =100*INT((S46+50)/100) -> 300
A47: ECM | B47: AMS06 | C47: QP1 | D47: 0.11111111 | E47: 0.66666667 | F47: 0.11111111 | G47: 0.5 | H47: 1.4666667 | I47: 8.42 | J47: 0.43 | K47: 32 | L47: 9941.6016 | M47: 32 | N47: 9941.6016 | Q47: =N47/N50 -> 10.112561 | R47: =POWER(Q47,1/3) -> 2.162488
A48: ECM | B48: AMS06 | C48: QP2 | D48: -0.055555556 | E48: 0.8 | F48: 0.055555556 | K48: 36 | L48: 4624.6568 | M48: 36 | N48: 4624.6568 | P48: =N47/N48 -> 2.149695
A49: ECM | B49: AMS06 | C49: QP3 | D49: -0.22222222 | E49: 0 | F49: -0.16666667 | K49: 40 | L49: 2141.5712 | M49: 40 | N49: 2141.5712 | P49: =N48/N49 -> 2.1594691
A50: ECM | B50: AMS06 | C50: QP4 | D50: -0.11111111 | E50: 0 | F50: -0.27777778 | I50: 3.32 | J50: 0.52 | K50: 44 | L50: 983.0944 | M50: 44 | N50: 983.0944 | P50: =N49/N50 -> 2.1783983
A52: ECM | B52: SparksWelding | C52: QP1 | D52: 0.27777778 | E52: 0.28571429 | F52: 0.27777778 | G52: 0.77777778 | H52: 0.68571429 | I52: 8.32 | J52: 0.35 | K52: 28 | L52: 7871.5472 | M52: 28 | N52: 7871.5472 | Q52: =N52/N55 -> 18.35527 | R52: =POWER(Q52,1/3) -> 2.6378712
A53: ECM | B53: SparksWelding | C53: QP2 | D53: -0.11111111 | E53: 0 | F53: 0.16666667 | K53: 36 | L53: 2429.3376 | M53: 36 | N53: 2429.3376 | P53: =N52/N53 -> 3.2402031
A54: ECM | B54: SparksWelding | C54: QP3 | D54: 0.055555556 | E54: 0 | F54: 0.22222222 | K54: 40 | L54: 1259.922 | M54: 40 | N54: 1259.922 | P54: =N53/N54 -> 1.9281651
A55: ECM | B55: SparksWelding | C55: QP4 | D55: -0.33333333 | E55: 0.4 | F55: -0.11111111 | K55: 48 | L55: 284.58 | M55: 46 | N55: 428.844 | P55: =N54/N55 -> 2.9379495
A57: ECM | B57: AMS01 | C57: QP1 | D57: 0.33333333 | E57: 0.5 | F57: 0.33333333 | G57: 0.77777778 | H57: 1.6428571 | I57: 9.13 | J57: 0.34 | K57: dropped
A58: ECM | B58: AMS01 | C58: QP2 | D58: -0.055555556 | E58: 0.85714286 | F58: 0.27777778 | K58: dropped
A59: ECM | B59: AMS01 | C59: QP3 | D59: 0.11111111 | E59: 0 | F59: 0.38888889 | I59: 8.13 | J59: 0.47 | K59: dropped
A60: ECM | B60: AMS01 | C60: QP4 | D60: -0.27777778 | E60: 0.28571429 | F60: 0.11111111 | K60: dropped
K61: dropped
A62: ECM | B62: MeridianHDR2 | C62: QP1 | D62: 0 | E62: 1 | F62: 0 | G62: 0.61111111 | H62: 1.8333333 | I62: 7.71 | J62: 0.36 | K62: 28 | L62: 1216.656 | M62: 28 | N62: 1216.656 | Q62: =N62/N65 -> 6.0591404 | R62: =POWER(Q62,1/3) -> 1.8230714
A63: ECM | B63: MeridianHDR2 | C63: QP2 | D63: -0.22222222 | E63: 0.33333333 | F63: -0.22222222 | K63: 36 | L63: 354.2192 | M63: 32 | N63: 651.3376 | P63: =N62/N63 -> 1.8679345
A64: ECM | B64: MeridianHDR2 | C64: QP3 | D64: -0.11111111 | E64: 0.5 | F64: -0.33333333 | I64: 3.79 | J64: 0.45 | K64: 40 | L64: 200.7968 | M64: 36 | N64: 354.2192 | P64: =N63/N64 -> 1.8387981
A65: ECM | B65: MeridianHDR2 | C65: QP4 | D65: -0.27777778 | E65: 0 | F65: -0.61111111 | K65: 44 | L65: 118.396 | M65: 40 | N65: 200.7968 | P65: =N64/N65 -> 1.764068
A67: ECM | B67: NeptuneFountain3R1 | C67: QP1 | D67: -0.11111111 | E67: 0.8 | F67: -0.11111111 | G67: 0.5 | H67: 2.0380952 | K67: 32 | L67: 3513.368 | M67: 32 | N67: 3513.368 | Q67: =N67/N70 -> 9.5893052 | R67: =POWER(Q67,1/3) -> 2.1245276
A68: ECM | B68: NeptuneFountain3R1 | C68: QP2 | D68: 0.16666667 | E68: 0.57142857 | F68: 0.055555556 | K68: 36 | L68: 1681.6648 | M68: 36 | N68: 1681.6648 | P68: =N67/N68 -> 2.0892202
A69: ECM | B69: NeptuneFountain3R1 | C69: QP3 | D69: -0.055555556 | E69: 0.66666667 | F69: 0 | I69: 5.63 | J69: 0.59 | K69: 40 | L69: 788.7384 | M69: 40 | N69: 788.7384 | P69: =N68/N69 -> 2.1320945
A70: ECM | B70: NeptuneFountain3R1 | C70: QP4 | D70: -0.16666667 | E70: 0 | F70: -0.16666667 | K70: 44 | L70: 366.384 | M70: 44 | N70: 366.384 | P70: =N69/N70 -> 2.1527643
A72: ECM | B72: SparksDirtLot | C72: QP1 | D72: -0.16666667 | E72: 0.66666667 | F72: -0.16666667 | G72: 0.44444444 | H72: 2.4666667 | K72: dropped
A73: ECM | B73: SparksDirtLot | C73: QP2 | D73: -0.11111111 | E73: 0.5 | F73: -0.27777778 | K73: dropped
A74: ECM | B74: SparksDirtLot | C74: QP3 | D74: -0.055555556 | E74: 0.8 | F74: -0.33333333 | K74: dropped
A75: ECM | B75: SparksDirtLot | C75: QP4 | D75: -0.11111111 | E75: 0.5 | F75: -0.44444444 | I75: 3.2 | J75: 0.61 | K75: dropped
K76: dropped
A77: ECM | B77: SubwayTreeR1 | C77: QP1 | D77: 0.38888889 | E77: 0.22222222 | F77: 0.38888889 | G77: 0.94444444 | H77: 1.1388889 | I77: 9.04 | J77: 0.33 | K77: 32 | L77: 2328.9408 | M77: 32 | N77: 2328.9408 | Q77: =N77/N80 -> 7.429426 | R77: =POWER(Q77,1/3) -> 1.9512747
A78: ECM | B78: SubwayTreeR1 | C78: QP2 | D78: 0.33333333 | E78: 0.25 | F78: 0.72222222 | K78: 36 | L78: 1212.9376 | M78: 36 | N78: 1212.9376 | P78: =N77/N78 -> 1.9200829
A79: ECM | B79: SubwayTreeR1 | C79: QP3 | D79: 0.16666667 | E79: 0 | F79: 0.88888889 | K79: 40 | L79: 636.7616 | M79: 40 | N79: 636.7616 | P79: =N78/N79 -> 1.9048536
A80: ECM | B80: SubwayTreeR1 | C80: QP4 | D80: -0.055555556 | E80: 0.66666667 | F80: 0.83333333 | I80: 5.48 | J80: 0.59 | K80: 44 | L80: 313.4752 | M80: 44 | N80: 313.4752 | P80: =N79/N80 -> 2.0312982

Sheet report_ak2026_sdr_uhd
A1: SubDir | B1: Sequence | C1: VTM-QP5 | D1: VTM-QP4 | E1: VTM-QP3 | F1: VTM-QP2 | G1: VTM-QP1 | H1: ECM-QP4 | I1: ECM-QP3 | J1: ECM-QP2 | K1: ECM-QP1 | L1: VTM-rate4 | M1: VTM-rate3 | N1: VTM-rate2 | O1: VTM-rate1 | P1: VTM-rate0 | Q1: ECM-rate4 | R1: ECM-rate3 | S1: ECM-rate2 | T1: ECM-rate1 | U1: E-V-ratio4 | V1: E-V-ratio3 | W1: E-V-ratio2 | X1: E-V-ratio1
A2: SDR_RA_UHD-4K | B2: CrowdRun | C2: 52 | D2: 48 | E2: 44 | F2: 37 | G2: 35 | H2: 52 | I2: 48 | J2: 44 | K2: 36 | L2: 800.7464 | M2: 1565.4208 | N2: 2906.124 | O2: 7807.8872 | P2: 10445.623 | Q2: 713.7984 | R2: 1379.9928 | S2: 2541.6184 | T2: 7736.7704 | U2: 0.89141631 | V2: 0.8815475 | W2: 0.87457328 | X2: 0.99089167
A3: SDR_RA_UHD-4K | B3: DrivingPOV3 | C3: 53 | D3: 49 | E3: 41 | F3: 37 | G3: 35 | H3: 52 | I3: 48 | J3: 40 | K3: 36 | L3: 258.0392 | M3: 448.0264 | N3: 1341.8992 | O3: 2361.9208 | P3: 3238.1064 | Q3: 229.348 | R3: 404.8168 | S3: 1286.532 | T3: 2321.6608 | U3: 0.88881069 | V3: 0.90355568 | W3: 0.95873967 | X3: 0.98295455
A4: SDR_RA_UHD-4K | B4: NeptuneFountain3R1 | C4: 52 | D4: 48 | E4: 44 | F4: 36 | G4: 34 | H4: 52 | I4: 48 | J4: 44 | K4: 36 | L4: 304.6712 | M4: 653.4512 | N4: 1365.4376 | O4: 5282.6968 | P4: 7292.4752 | Q4: 275.224 | R4: 588.1424 | S4: 1234.1624 | T4: 4840.7616 | U4: 0.90334761 | V4: 0.90005558 | W4: 0.90385851 | X4: 0.91634288
A5: SDR_RA_UHD-4K | B5: Marathon2 | C5: 48 | D5: 41 | E5: 37 | F5: 33 | G5: 31 | H5: 48 | I5: 40 | J5: 36 | K5: 32 | L5: 727.2392 | M5: 2058.8624 | N5: 3539.6656 | O5: 6132.9296 | P5: 7982.62 | Q5: 635.7288 | R5: 2054.224 | S5: 3536.808 | T5: 6120.7288 | U5: 0.8741674 | V5: 0.99774711 | W5: 0.99919269 | X5: 0.99801061
A6: SDR_RA_UHD-4K | B6: MountainBay2 | C6: 48 | D6: 44 | E6: 40 | F6: 36 | G6: 34 | H6: 48 | I6: 44 | J6: 40 | K6: 36 | L6: 166.4808 | M6: 320.9632 | N6: 620.4048 | O6: 1197.388 | P6: 1709.1464 | Q6: 149.0488 | R6: 302.0808 | S6: 563.4728 | T6: 1099.932 | U6: 0.89529123 | V6: 0.94116958 | W6: 0.90823411 | X6: 0.91860951
A7: SDR_RA_UHD-4K | B7: TallBuildings2 | C7: 49 | D7: 45 | E7: 42 | F7: 34 | G7: 32 | H7: 48 | I7: 44 | J7: 40 | K7: 32 | L7: 325.1384 | M7: 592.3912 | N7: 883.428 | O7: 2588.5608 | P7: 3348.9272 | Q7: 297.5416 | R7: 504.1992 | S7: 873.3616 | T7: 2445.0592 | U7: 0.91512291 | V7: 0.8511254 | W7: 0.9886053 | X7: 0.94456317
E9: 0..1 for confident..disagree | I9: ECM-MOS | J9: ECM-CI | K9: BR mismatch | M9: qp changed
A10: codec | B10: sequence | C10: QP | D10: Mean | E10: (L1n-abs(Mean))/L1n | F10: aggregated | G10: sum(abs(mean)) | H10: sum(l1n-abs(m))/l1n) | K10: initial QPs | M10: proposed QPs | O10: comments | P10: BR ratio from QP to QP | Q10: BR ratio from highest to lowest | R10: cube-root highest/loest | S10: BR using constant BR ratio | T10: rounded BR | U10: transposed BR array
A11: VTM | B11: CrowdRun | C11: QP1 | D11: -0.33333333 | E11: 0.25 | F11: -0.33333333 | G11: 1.8333333 | H11: 0.82142857 | K11: 25 | L11: 10445.623
A12: VTM | B12: CrowdRun | C12: QP2 | D12: 0.27777778 | E12: 0.28571429 | F12: -0.055555556 | K12: 37 | L12: 7807.8872 | M12: 37 | N12: 7807.8872 | Q12: =N12/N15 -> 8.4269367 | R12: =POWER(Q12,1/3) -> 2.0349633 | S12: =N12 -> 7807.8872 | T12: =100*INT((S12+50)/100) -> 7800 | U12: {=TRANSPOSE(T12:T15)} -> 7800 | V12: 3800 | W12: 1900 | X12: 900
A13: VTM | B13: CrowdRun | C13: QP3 | D13: -0.38888889 | E13: 0 | F13: -0.44444444 | K13: 44 | L13: 2882.917 | M13: 42 | N13: 3867.349 | P13: =N12/N13 -> 2.0189249 | S13: =S12/R12 -> 3836.8688 | T13: =100*INT((S13+50)/100) -> 3800
A14: VTM | B14: CrowdRun | C14: QP4 | D14: -0.27777778 | E14: 0.28571429 | F14: -0.72222222 | K14: 48 | L14: 1542.217 | M14: 47 | N14: 1813.883 | P14: =N13/N14 -> 2.1320829 | S14: =S13/R12 -> 1885.4733 | T14: =100*INT((S14+50)/100) -> 1900
A15: VTM | B15: CrowdRun | C15: QP5 | D15: -0.55555556 | E15: 0 | F15: -1.2777778 | K15: 52 | L15: 777.5408 | M15: 51 | N15: 926.5392 | P15: =N14/N15 -> 1.957697 | S15: =S14/R12 -> 926.5392 | T15: =100*INT((S15+50)/100) -> 900
A16: VTM | B16: DrivingPOV3 | C16: QP1 | D16: -0.27777778 | E16: 0.28571429 | F16: -0.27777778 | G16: 1.5 | H16: 0.78571429 | K16: 35 | L16: 3238.1064
A17: VTM | B17: DrivingPOV3 | C17: QP2 | D17: 0.11111111 | E17: 0.5 | F17: -0.16666667 | K17: 37 | L17: 2361.9208 | M17: 37 | N17: 2361.9208 | Q17: =N17/N20 -> 6.9361035 | R17: =POWER(Q17,1/3) -> 1.9070929 | S17: =N17 -> 2361.9208 | T17: =100*INT((S17+50)/100) -> 2400 | U17: {=TRANSPOSE(T17:T20)} -> 2400 | V17: 1200 | W17: 600 | X17: 300
A18: VTM | B18: DrivingPOV3 | C18: QP3 | D18: 0.055555556 | E18: 0 | F18: -0.11111111 | K18: 41 | L18: 1341.8992 | M18: 42 | N18: 1164.504 | P18: =N17/N18 -> 2.0282634 | S18: =S17/R17 -> 1238.4928 | T18: =100*INT((S18+50)/100) -> 1200
A19: VTM | B19: DrivingPOV3 | C19: QP4 | D19: -0.55555556 | E19: 0 | F19: -0.66666667 | K19: 49 | L19: 448.0264 | M19: 47 | N19: 589.9056 | P19: =N18/N19 -> 1.9740514 | S19: =S18/R17 -> 649.41396 | T19: =100*INT((S19+50)/100) -> 600
A20: VTM | B20: DrivingPOV3 | C20: QP5 | D20: -0.5 | E20: 0 | F20: -1.1666667 | K20: 53 | L20: 258.0392 | M20: 51 | N20: 340.5256 | P20: =N19/N20 -> 1.7323385 | S20: =S19/R17 -> 340.5256 | T20: =100*INT((S20+50)/100) -> 300
A21: VTM | B21: NeptuneFountain3R1 | C21: QP1 | D21: 0.33333333 | E21: 0 | F21: 0.33333333 | G21: 1.6666667 | H21: 0.36363636 | K21: dropped
A22: VTM | B22: NeptuneFountain3R1 | C22: QP2 | D22: 0.38888889 | E22: 0.36363636 | F22: 0.72222222 | K22: dropped
A23: VTM | B23: NeptuneFountain3R1 | C23: QP3 | D23: -0.27777778 | E23: 0 | F23: 0.44444444 | K23: dropped
A24: VTM | B24: NeptuneFountain3R1 | C24: QP4 | D24: -0.33333333 | E24: 0 | F24: 0.11111111 | K24: dropped
A25: VTM | B25: NeptuneFountain3R1 | C25: QP5 | D25: -0.33333333 | E25: 0 | F25: -0.22222222 | K25: dropped
A26: VTM | B26: Marathon2 | C26: QP1 | D26: -0.11111111 | E26: 0.8 | F26: -0.11111111 | G26: 0.77777778 | H26: 2.0888889 | J26: 31 | K26: dropped | L26: 7968.6968
A27: VTM | B27: Marathon2 | C27: QP2 | D27: 0.38888889 | E27: 0.22222222 | F27: 0.27777778 | J27: 33 | K27: dropped | L27: 6119.004 | M27: 32 | N27: 7015.7536 | O27: because QP1 is too low quality | Q27: =N27/N30 -> 7.1603643 | R27: =POWER(Q27,1/3) -> 1.9274289 | S27: =N27 -> 7015.7536 | T27: =100*INT((S27+50)/100) -> 7000
A28: VTM | B28: Marathon2 | C28: QP3 | D28: 0.055555556 | E28: 0.66666667 | F28: 0.33333333 | J28: 37 | K28: dropped | L28: 3525.7432 | M28: 37 | N28: 3525.7432 | P28: =N27/N28 -> 1.9898652 | S28: =S27/R27 -> 3639.9545 | T28: =100*INT((S28+50)/100) -> 3600
A29: VTM | B29: Marathon2 | C29: QP4 | D29: 0.055555556 | E29: 0 | F29: 0.38888889 | J29: 41 | K29: dropped | L29: 2044.9392 | M29: 41 | N29: 2058.8624 | P29: =N28/N29 -> 1.7124715 | S29: =S28/R27 -> 1888.5026 | T29: =100*INT((S29+50)/100) -> 1900
A30: VTM | B30: Marathon2 | C30: QP5 | D30: -0.16666667 | E30: 0.4 | F30: 0.22222222 | J30: 48 | K30: dropped | L30: 713.3152 | M30: 46 | N30: 979.804 | P30: =N29/N30 -> 2.1013003 | S30: =S29/R27 -> 979.804 | T30: =100*INT((S30+50)/100) -> 1000
A31: VTM | B31: MountainBay2 | C31: QP1 | D31: -0.22222222 | E31: 0.33333333 | F31: -0.22222222 | G31: 0.66666667 | H31: 1.7857143 | K31: 34 | L31: 1695.2224 | O31: quality loss at highest qps
A32: VTM | B32: MountainBay2 | C32: QP2 | D32: -0.055555556 | E32: 0.66666667 | F32: -0.27777778 | K32: 36 | L32: 1197.388 | M32: 34 | N32: 1695.2224 | Q32: =N32/N35 -> 6.1836932 | R32: =POWER(Q32,1/3) -> 1.8354785 | S32: =N32 -> 1695.2224 | T32: =100*INT((S32+50)/100) -> 1700 | U32: {=TRANSPOSE(T32:T35)} -> 1700 | V32: 900 | W32: 500 | X32: 300
A33: VTM | B33: MountainBay2 | C33: QP3 | D33: 0 | E33: 0 | F33: -0.27777778 | K33: 40 | L33: 620.4048 | M33: 38 | N33: 862.828 | P33: =N32/N33 -> 1.9647281 | S33: =S32/R32 -> 923.58606 | T33: =100*INT((S33+50)/100) -> 900
A34: VTM | B34: MountainBay2 | C34: QP4 | D34: -0.11111111 | E34: 0.5 | F34: -0.38888889 | K34: 44 | L34: 320.9632 | M34: 41 | N34: 528.2832 | P34: =N33/N34 -> 1.6332679 | S34: =S33/R32 -> 503.18543 | T34: =100*INT((S34+50)/100) -> 500
A35: VTM | B35: MountainBay2 | C35: QP5 | D35: -0.27777778 | E35: 0.28571429 | F35: -0.66666667 | K35: 48 | L35: 166.4808 | M35: 45 | N35: 274.144 | P35: =N34/N35 -> 1.9270281 | S35: =S34/R32 -> 274.144 | T35: =100*INT((S35+50)/100) -> 300
A36: VTM | B36: TallBuildings2 | C36: QP1 | D36: 0.33333333 | E36: 0.5 | F36: 0.33333333 | G36: 1 | H36: 1.5 | K36: dropped
A37: VTM | B37: TallBuildings2 | C37: QP2 | D37: 0.22222222 | E37: 0.33333333 | F37: 0.55555556 | K37: dropped
A38: VTM | B38: TallBuildings2 | C38: QP3 | D38: -0.22222222 | E38: 0 | F38: 0.33333333 | K38: dropped
A39: VTM | B39: TallBuildings2 | C39: QP4 | D39: -0.055555556 | E39: 0.66666667 | F39: 0.27777778 | K39: dropped
A40: VTM | B40: TallBuildings2 | C40: QP5 | D40: -0.16666667 | E40: 0 | F40: 0.11111111 | K40: dropped
A41: ECM | B41: CrowdRun | C41: QP1 | D41: 0.055555556 | E41: 0.85714286 | F41: 0.055555556 | G41: 0.72222222 | H41: 1.5238095 | I41: 8.46 | J41: 0.33 | K41: 36 | L41: 7713.97 | M41: 36 | N41: 7713.97 | Q41: =N41/N44 -> 11.163514 | R41: =POWER(Q41,1/3) -> 2.2349457
A42: ECM | B42: CrowdRun | C42: QP2 | D42: -0.38888889 | E42: 0 | F42: -0.33333333 | K42: 44 | L42: 2518.818 | M42: 44 | N42: 2518.818 | P42: =N41/N42 -> 3.0625357
A43: ECM | B43: CrowdRun | C43: QP3 | D43: -0.055555556 | E43: 0.66666667 | F43: -0.38888889 | I43: 4.2 | J43: 0.57 | K43: 48 | L43: 1357.193 | M43: 46 | N43: 1860.302 | P43: =N42/N43 -> 1.3539834
A44: ECM | B44: CrowdRun | C44: QP4 | D44: -0.22222222 | E44: 0 | F44: -0.61111111 | K44: 52 | L44: 690.9984 | M44: 52 | N44: 690.9984 | P44: =N43/N44 -> 2.6921944
A46: ECM | B46: DrivingPOV3 | C46: QP1 | D46: -0.055555556 | E46: 0.85714286 | F46: -0.055555556 | G46: 0.38888889 | H46: 2.0238095 | K46: 36 | L46: 2321.6608 | M46: 36 | N46: 2321.6608 | Q46: =N46/N49 -> 7.6360173 | R46: =POWER(Q46,1/3) -> 1.9691961
A47: ECM | B47: DrivingPOV3 | C47: QP2 | D47: 0.11111111 | E47: 0.5 | F47: 0.055555556 | K47: 40 | L47: 1286.532 | M47: 40 | N47: 1286.532 | P47: =N46/N47 -> 1.8045885
A48: ECM | B48: DrivingPOV3 | C48: QP3 | D48: -0.16666667 | E48: 0 | F48: -0.11111111 | I48: 4.16 | J48: 0.52 | K48: 48 | L48: 404.8168 | M48: 46 | N48: 539.452 | P48: =N47/N48 -> 2.3848869
A49: ECM | B49: DrivingPOV3 | C49: QP4 | D49: -0.055555556 | E49: 0.66666667 | F49: -0.16666667 | K49: 52 | L49: 229.348 | M49: 50 | N49: 304.0408 | P49: =N48/N49 -> 1.774275
A51: ECM | B51: NeptuneFountain3R1 | C51: QP1 | D51: 0.055555556 | E51: 0.85714286 | F51: 0.055555556 | G51: 0.66666667 | H51: 1.3571429 | K51: dropped
A52: ECM | B52: NeptuneFountain3R1 | C52: QP2 | D52: -0.44444444 | E52: 0 | F52: -0.38888889 | K52: dropped
A53: ECM | B53: NeptuneFountain3R1 | C53: QP3 | D53: 0.055555556 | E53: 0 | F53: -0.33333333 | I53: 4.2 | J53: 0.49 | K53: dropped
A54: ECM | B54: NeptuneFountain3R1 | C54: QP4 | D54: -0.11111111 | E54: 0.5 | F54: -0.44444444 | K54: dropped
K55: dropped
A56: ECM | B56: Marathon2 | C56: QP1 | D56: -0.055555556 | E56: 0.8 | F56: -0.055555556 | G56: 0.55555556 | H56: 2.4190476 | I56: 7.76 | J56: 0.32 | K56: dropped | L56: 6107.0488 | M56: 32 | N56: 6107.0488 | Q56: =N56/N59 -> 7.1650922 | R56: =POWER(Q56,1/3) -> 1.9278531
A57: ECM | B57: Marathon2 | C57: QP2 | D57: 0.27777778 | E57: 0.28571429 | F57: 0.22222222 | K57: dropped | L57: 3523.128 | M57: 36 | N57: 3523.128 | P57: =N56/N57 -> 1.7334167
A58: ECM | B58: Marathon2 | C58: QP3 | D58: 0.11111111 | E58: 0.66666667 | F58: 0.33333333 | K58: dropped | L58: 2040.544 | M58: 40 | N58: 2040.544 | P58: =N57/N58 -> 1.7265631
A59: ECM | B59: Marathon2 | C59: QP4 | D59: -0.11111111 | E59: 0.66666667 | F59: 0.22222222 | I59: 2.76 | J59: 0.48 | K59: dropped | L59: 622.0488 | M59: 46 | N59: 852.3336 | P59: =N58/N59 -> 2.3940673
K60: dropped
A61: ECM | B61: MountainBay2 | C61: QP1 | D61: -0.38888889 | E61: 0 | F61: -0.38888889 | G61: 0.94444444 | H61: 1.1857143 | K61: 36 | L61: 1099.932 | M61: 34 | N61: 1565.48 | Q61: =N61/N64 -> 5.4281403 | R61: =POWER(Q61,1/3) -> 1.7574529
A62: ECM | B62: MountainBay2 | C62: QP2 | D62: -0.11111111 | E62: 0.5 | F62: -0.5 | K62: 40 | L62: 563.4728 | M62: 36 | N62: 1099.932 | P62: =N61/N62 -> 1.4232516
A63: ECM | B63: MountainBay2 | C63: QP3 | D63: -0.16666667 | E63: 0.4 | F63: -0.66666667 | K63: 44 | L63: 288.4008 | M63: 40 | N63: 563.4728 | P63: =N62/N63 -> 1.9520587
A64: ECM | B64: MountainBay2 | C64: QP4 | D64: -0.27777778 | E64: 0.28571429 | F64: -0.94444444 | I64: 2.32 | J64: 0.44 | K64: 48 | L64: 149.0488 | M64: 44 | N64: 288.4008 | P64: =N63/N64 -> 1.9537838
A66: ECM | B66: TallBuildings2 | C66: QP1 | D66: 0.16666667 | E66: 0.66666667 | F66: 0.16666667 | G66: 0.61111111 | H66: 1.9047619 | I66: 8.77 | J66: 0.38 | K66: dropped
A67: ECM | B67: TallBuildings2 | C67: QP2 | D67: -0.22222222 | E67: 0 | F67: -0.055555556 | K67: dropped
A68: ECM | B68: TallBuildings2 | C68: QP3 | D68: -0.055555556 | E68: 0.66666667 | F68: -0.11111111 | K68: dropped
A69: ECM | B69: TallBuildings2 | C69: QP4 | D69: -0.16666667 | E69: 0.57142857 | F69: -0.27777778 | I69: 3.46 | J69: 0.54 | K69: dropped
K70: dropped

Sheet report_ak2026_sdr_hd_ra-ld
A1: SubDir | B1: Sequence | C1: VTM-QP5 | D1: VTM-QP4 | E1: VTM-QP3 | F1: VTM-QP2 | G1: VTM-QP1 | H1: ECM-QP4 | I1: ECM-QP3 | J1: ECM-QP2 | K1: ECM-QP1 | L1: VTM-rate4 | M1: VTM-rate3 | N1: VTM-rate2 | O1: VTM-rate1 | P1: VTM-rate0 | Q1: ECM-rate4 | R1: ECM-rate3 | S1: ECM-rate2 | T1: ECM-rate1 | U1: E-V-ratio4 | V1: E-V-ratio3 | W1: E-V-ratio2 | X1: E-V-ratio1
A2: SDR_RA_HD | B2: Metro | C2: 47 | D2: 39 | E2: 35 | F2: 30 | G2: 28 | H2: 46 | I2: 38 | J2: 34 | K2: 30 | L2: 239.4584 | M2: 704.8056 | N2: 1188.932 | O2: 2303.94 | P2: 2945.3672 | Q2: 224.0608 | R2: 689.696 | S2: 1188.0024 | T2: 1989.0176 | U2: 0.93569823 | V2: 0.97856203 | W2: 0.99921812 | X2: 0.86331137
A3: SDR_RA_HD | B3: DrivingPOV4 | C3: 52 | D3: 46 | E3: 43 | F3: 35 | G3: 33 | H3: 50 | I3: 46 | J3: 42 | K3: 34 | L3: 146.9248 | M3: 281.7056 | N3: 431.9344 | O3: 1356.204 | P3: 1833.1056 | Q3: 134.88 | R3: 266.0376 | S3: 425.0224 | T3: 1346.4872 | U3: 0.91802065 | V3: 0.94438165 | W3: 0.98399757 | X3: 0.9928353
A4: SDR_LD_HD | B4: Beatriz | C4: 46 | D4: 38 | E4: 34 | F4: 26 | G4: 24 | H4: 46 | I4: 38 | J4: 34 | K4: 26 | L4: 81.7928 | M4: 179.5464 | N4: 296.092 | O4: 1309.6288 | P4: 1996.4624 | Q4: 77.3336 | R4: 163.9408 | S4: 267.4872 | T4: 1181.2472 | U4: 0.94548175 | V4: 0.91308319 | W4: 0.90339219 | X4: 0.901971
A5: SDR_LD_HD | B5: OfficeWalkAtWall | C5: 44 | D5: 40 | E5: 34 | F5: 26 | G5: 24 | H5: 46 | I5: 38 | J5: 34 | K5: 26 | L5: 126.7488 | M5: 194.492 | N5: 373.2976 | O5: 1250.8008 | P5: 1698.6872 | Q5: 89.5888 | R5: 191.5784 | S5: 310.2968 | T5: 1038.8344 | U5: 0.70682168 | V5: 0.98501944 | W5: 0.8312317 | X5: 0.83053545
E7: 0..1 for confident..disagree | I7: ECM-MOS | J7: ECM-CI | K7: BR mismatch | M7: qp changed
A8: codec | B8: sequence | C8: QP | D8: Mean | E8: (L1n-abs(Mean))/L1n | F8: aggregated | G8: sum(abs(mean)) | H8: sum(l1n-abs(m))/l1n) | K8: initial QPs | M8: proposed QPs | O8: comments | P8: BR ratio from QP to QP | Q8: BR ratio from highest to lowest | R8: cube-root highest/loest | S8: BR using constant BR ratio | T8: rounded BR | U8: transposed BR array
A9: VTM | B9: DrivingPOV4 | C9: QP1 | D9: -0.055555556 | E9: 0.85714286 | F9: -0.055555556 | G9: 1.1111111 | H9: 1.6571429 | K9: 33 | L9: 1805.2584
A10: VTM | B10: DrivingPOV4 | C10: QP2 | D10: 0.16666667 | E10: 0.4 | F10: 0.11111111 | K10: 35 | L10: 1356.204 | M10: 35 | N10: 1356.204 | Q10: =N10/N13 -> 11.389169 | R10: =POWER(Q10,1/3) -> 2.2499041 | S10: =N10 -> 1356.204 | T10: =100*INT((S10+50)/100) -> 1400 | U10: {=TRANSPOSE(T10:T13)} -> 1400 | V10: 600 | W10: 300 | X10: 100
A11: VTM | B11: DrivingPOV4 | C11: QP3 | D11: -0.16666667 | E11: 0.4 | F11: -0.055555556 | K11: 43 | L11: 431.9344 | M11: 41 | N11: 572.616 | P11: =N10/N11 -> 2.3684354 | S11: =S10/R10 -> 602.78302 | T11: =100*INT((S11+50)/100) -> 600
A12: VTM | B12: DrivingPOV4 | C12: QP4 | D12: -0.055555556 | E12: 0 | F12: -0.11111111 | K12: 46 | L12: 281.7056 | M12: 46 | N12: 281.7056 | P12: =N11/N12 -> 2.0326752 | S12: =S11/R10 -> 267.91498 | T12: =100*INT((S12+50)/100) -> 300
A13: VTM | B13: DrivingPOV4 | C13: QP5 | D13: -0.66666667 | E13: 0 | F13: -0.77777778 | K13: 52 | L13: 119.0784 | M13: 52 | N13: 119.0784 | P13: =N12/N13 -> 2.3657154 | S13: =S12/R10 -> 119.0784 | T13: =100*INT((S13+50)/100) -> 100
A14: VTM | B14: Metro | C14: QP1 | D14: 0.27777778 | E14: 0.44444444 | F14: 0.27777778 | G14: 1.7222222 | H14: 0.61111111 | K14: 28 | L14: 2945.3672
A15: VTM | B15: Metro | C15: QP2 | D15: 0.55555556 | E15: 0.16666667 | F15: 0.83333333 | K15: 30 | L15: 2276.0896 | M15: 31 | N15: 1950.4416 | Q15: =N15/N18 -> 6.791969 | R15: =POWER(Q15,1/3) -> 1.8937904 | S15: =N15 -> 1950.4416 | T15: =100*INT((S15+50)/100) -> 2000 | U15: {=TRANSPOSE(T15:T18)} -> 2000 | V15: 1000 | W15: 500 | X15: 300
A16: VTM | B16: Metro | C16: QP3 | D16: 0.055555556 | E16: 0 | F16: 0.88888889 | K16: 35 | L16: 1161.084 | M16: 35 | N16: 1161.084 | P16: =N15/N16 -> 1.6798454 | S16: =S15/R15 -> 1029.9142 | T16: =100*INT((S16+50)/100) -> 1000
A17: VTM | B17: Metro | C17: QP4 | D17: 0.16666667 | E17: 0 | F17: 1.0555556 | K17: 39 | L17: 676.9552 | M17: 40 | N17: 587.6464 | P17: =N16/N17 -> 1.9758208 | S17: =S16/R15 -> 543.8375 | T17: =100*INT((S17+50)/100) -> 500
A18: VTM | B18: Metro | C18: QP5 | D18: -0.66666667 | E18: 0 | F18: 0.38888889 | K18: 47 | L18: 211.6136 | M18: 45 | N18: 287.1688 | P18: =N17/N18 -> 2.0463449 | S18: =S17/R15 -> 287.1688 | T18: =100*INT((S18+50)/100) -> 300
A19: VTM | B19: Beatriz | C19: QP1 | D19: 0.22222222 | E19: 0.33333333 | F19: 0.22222222 | G19: 1.7222222 | H19: 1 | K19: 24 | L19: 1973.257
A20: VTM | B20: Beatriz | C20: QP2 | D20: 0.61111111 | E20: 0 | F20: 0.83333333 | K20: 26 | L20: 1286.426 | M20: 28 | N20: 786.8664 | Q20: =N20/N23 -> 10.644031 | R20: =POWER(Q20,1/3) -> 2.1997266 | S20: =N20 -> 786.8664 | T20: =100*INT((S20+50)/100) -> 800 | U20: {=TRANSPOSE(T20:T23)} -> 800 | V20: 400 | W20: 200 | X20: 100
A21: VTM | B21: Beatriz | C21: QP3 | D21: -0.11111111 | E21: 0 | F21: 0.72222222 | K21: 34 | L21: 272.8872 | M21: 32 | N21: 367.7016 | P21: =N20/N21 -> 2.1399591 | S21: =S20/R20 -> 357.71099 | T21: =100*INT((S21+50)/100) -> 400
A22: VTM | B22: Beatriz | C22: QP4 | D22: 0.055555556 | E22: 0.66666667 | F22: 0.77777778 | K22: 38 | L22: 156.3424 | M22: 36 | N22: 205.8136 | P22: =N21/N22 -> 1.7865758 | S22: =S21/R20 -> 162.61611 | T22: =100*INT((S22+50)/100) -> 200
A23: VTM | B23: Beatriz | C23: QP5 | D23: -0.72222222 | E23: 0 | F23: 0.055555556 | K23: 46 | L23: 58.5896 | M23: 44 | N23: 73.9256 | P23: =N22/N23 -> 2.784064 | S23: =S22/R20 -> 73.9256 | T23: =100*INT((S23+50)/100) -> 100
A24: VTM | B24: OfficeWalkAtWall | C24: QP1 | D24: 0.22222222 | E24: 0.6 | F24: 0.22222222 | G24: 1.1111111 | H24: 1.1 | K24: 24 | L24: 1648.0487
A25: VTM | B25: OfficeWalkAtWall | C25: QP2 | D25: 0.55555556 | E25: 0 | F25: 0.77777778 | K25: 26 | L25: 1250.8008 | M25: 28 | N25: 864.548 | Q25: =N25/N28 -> 7.6630196 | R25: =POWER(Q25,1/3) -> 1.9715145 | S25: =N25 -> 864.548 | T25: =100*INT((S25+50)/100) -> 900 | U25: {=TRANSPOSE(T25:T28)} -> 900 | V25: 400 | W25: 200 | X25: 100
A26: VTM | B26: OfficeWalkAtWall | C26: QP3 | D26: -0.11111111 | E26: 0 | F26: 0.66666667 | K26: 34 | L26: 373.2976 | M26: 34 | N26: 373.2976 | P26: =N25/N26 -> 2.3159752 | S26: =S25/R25 -> 438.51972 | T26: =100*INT((S26+50)/100) -> 400
A27: VTM | B27: OfficeWalkAtWall | C27: QP4 | D27: -0.11111111 | E27: 0.5 | F27: 0.55555556 | K27: 40 | L27: 180.5696 | M27: 40 | N27: 180.5696 | P27: =N26/N27 -> 2.0673336 | S27: =S26/R25 -> 222.42784 | T27: =100*INT((S27+50)/100) -> 200
A28: VTM | B28: OfficeWalkAtWall | C28: QP5 | D28: -0.11111111 | E28: 0 | F28: 0.44444444 | K28: 44 | L28: 112.8208 | M28: 44 | N28: 112.8208 | P28: =N27/N28 -> 1.6004992 | S28: =S27/R25 -> 112.8208 | T28: =100*INT((S28+50)/100) -> 100
A29: ECM | B29: DrivingPOV4 | C29: QP1 | D29: 0.22222222 | E29: 0.33333333 | F29: 0.22222222 | G29: 0.66666667 | H29: 0.73333333 | I29: 8.52 | J29: 0.41 | K29: 34 | L29: 1346.4872 | M29: 34 | N29: 1346.4872 | Q29: =N29/N32 -> 9.9828529 | R29: =POWER(Q29,1/3) -> 2.1532026
A30: ECM | B30: DrivingPOV4 | C30: QP2 | D30: -0.16666667 | E30: 0.4 | F30: 0.055555556 | K30: 42 | L30: 425.0224 | M30: 42 | N30: 425.0224 | P30: =N29/N30 -> 3.1680382
A31: ECM | B31: DrivingPOV4 | C31: QP3 | D31: -0.055555556 | E31: 0 | F31: 0 | K31: 46 | L31: 238.6776 | M31: 46 | N31: 238.6776 | P31: =N30/N31 -> 1.7807385
A32: ECM | B32: DrivingPOV4 | C32: QP4 | D32: -0.22222222 | E32: 0 | F32: -0.22222222 | I32: 3.25 | J32: 0.52 | K32: 50 | L32: 134.88 | M32: 50 | N32: 134.88 | P32: =N31/N32 -> 1.7695552
A34: ECM | B34: Metro | C34: QP1 | D34: 0.22222222 | E34: 0.5 | F34: 0.22222222 | G34: 0.94444444 | H34: 1.9 | I34: 8.04 | J34: 0.36 | K34: 30 | L34: 1989.0176 | M34: 30 | N34: 1989.0176 | Q34: =N34/N37 -> 6.5788141 | R34: =POWER(Q34,1/3) -> 1.8737682
A35: ECM | B35: Metro | C35: QP2 | D35: 0.16666667 | E35: 0.4 | F35: 0.38888889 | K35: 34 | L35: 1160.6424 | M35: 34 | N35: 1160.6424 | P35: =N34/N35 -> 1.7137213
A36: ECM | B36: Metro | C36: QP3 | D36: 0 | E36: 1 | F36: 0.38888889 | K36: 38 | L36: 689.696 | M36: 40 | N36: 526.9768 | P36: =N35/N36 -> 2.2024545
A37: ECM | B37: Metro | C37: QP4 | D37: -0.55555556 | E37: 0 | F37: -0.16666667 | I37: 3 | J37: 0.48 | K37: 46 | L37: 224.0608 | M37: 44 | N37: 302.3368 | P37: =N36/N37 -> 1.7430124
A39: ECM | B39: Beatriz | C39: QP1 | D39: 0 | E39: 1 | F39: 0 | G39: 0.88888889 | H39: 1.6666667 | I39: 7.92 | J39: 0.3 | K39: 26 | L39: 1158.447 | M39: 26 | N39: 1158.447 | O39: would need 28 but not available | Q39: =N39/N42 -> 13.44168 | R39: =POWER(Q39,1/3) -> 2.3776678
A40: ECM | B40: Beatriz | C40: QP2 | D40: -0.11111111 | E40: 0.66666667 | F40: -0.11111111 | K40: 34 | L40: 244.6872 | M40: 34 | N40: 244.6872 | P40: =N39/N40 -> 4.7343997
A41: ECM | B41: Beatriz | C41: QP3 | D41: -0.055555556 | E41: 0 | F41: -0.16666667 | K41: 38 | L41: 141.1408 | M41: 38 | N41: 141.1408 | P41: =N40/N41 -> 1.733639
A42: ECM | B42: Beatriz | C42: QP4 | D42: -0.72222222 | E42: 0 | F42: -0.88888889 | I42: 2.67 | J42: 0.44 | K42: 46 | L42: 54.5336 | M42: 42 | N42: 86.1832 | P42: =N41/N42 -> 1.6376834
A44: ECM | B44: OfficeWalkAtWall | C44: QP1 | D44: 0.16666667 | E44: 0.57142857 | F44: 0.16666667 | G44: 0.55555556 | H44: 1.8571429 | I44: 7.83 | J44: 0.46 | K44: 26 | L44: 1038.8344 | M44: 26 | N44: 1038.8344 | Q44: =N44/N47 -> 10.897931 | R44: =POWER(Q44,1/3) -> 2.21708
A45: ECM | B45: OfficeWalkAtWall | C45: QP2 | D45: 0 | E45: 1 | F45: 0.16666667 | K45: 34 | L45: 310.2968 | M45: 34 | N45: 310.2968 | P45: =N44/N45 -> 3.3478734
A46: ECM | B46: OfficeWalkAtWall | C46: QP3 | D46: 0.11111111 | E46: 0 | F46: 0.27777778 | K46: 38 | L46: 191.5784 | M46: 38 | N46: 191.5784 | P46: =N45/N46 -> 1.6196857
A47: ECM | B47: OfficeWalkAtWall | C47: QP4 | D47: -0.27777778 | E47: 0.28571429 | F47: 0 | I47: 3.17 | J47: 0.46 | K47: 46 | L47: 71.8756 | M47: 44 | N47: 95.324 | P47: =N46/N47 -> 2.0097604

Sheet report_ak2026_sdr_hd_gaming
A1: SubDir | B1: Sequence | C1: VTM-QP5 | D1: VTM-QP4 | E1: VTM-QP3 | F1: VTM-QP2 | G1: VTM-QP1 | H1: ECM-QP4 | I1: ECM-QP3 | J1: ECM-QP2 | K1: ECM-QP1 | L1: VTM-rate4 | M1: VTM-rate3 | N1: VTM-rate2 | O1: VTM-rate1 | P1: VTM-rate0 | Q1: ECM-rate4 | R1: ECM-rate3 | S1: ECM-rate2 | T1: ECM-rate1 | U1: E-V-ratio4 | V1: E-V-ratio3 | W1: E-V-ratio2 | X1: E-V-ratio1
A2: Gaming_LD_HD | B2: DOTA2s360 | C2: 42 | D2: 38 | E2: 34 | F2: 30 | G2: 28 | H2: 42 | I2: 38 | J2: 34 | K2: 30 | L2: 306.23302 | M2: 558.33338 | N2: 1036.6298 | O2: 2132.3773 | P2: 2955.216 | Q2: 280.10967 | R2: 483.96305 | S2: 944.2752 | T2: 1892.558 | U2: 0.91469455 | V2: 0.86679943 | W2: 0.91090878 | X2: 0.88753428
A3: Gaming_LD_HD | B3: GTAVs090 | C3: 42 | D3: 38 | E3: 34 | F3: 30 | G3: 28 | H3: 42 | I3: 38 | J3: 34 | K3: 30 | L3: 702.6224 | M3: 1429.7664 | N3: 2908.6064 | O3: 6437.7536 | P3: 9187.4152 | Q3: 618.6976 | R3: 1305.8608 | S3: 2631.728 | T3: 5784.3768 | U3: 0.8805549 | V3: 0.91333857 | W3: 0.9048072 | X3: 0.89850857
A4: Gaming_LD_HD | B4: Minecraft | C4: 46 | D4: 42 | E4: 38 | F4: 34 | G4: 30 | H4: 46 | I4: 42 | J4: 38 | K4: 34 | L4: 329.5408 | M4: 663.204 | N4: 1396.8432 | O4: 2944.3048 | P4: 6722.9592 | Q4: 300.6896 | R4: 603.5504 | S4: 1290.0736 | T4: 2692.744 | U4: 0.91245029 | V4: 0.91005241 | W4: 0.92356365 | X4: 0.9145602
A5: Gaming_LD_HD | B5: Darktree | C5: 42 | D5: 38 | E5: 34 | F5: 30 | G5: 28 | H5: 42 | I5: 38 | J5: 34 | K5: 30 | L5: 311.1448 | M5: 593.8864 | N5: 1231.0728 | O5: 2862.2424 | P5: 4303.3672 | Q5: 275.4144 | R5: 525.4224 | S5: 1096.9792 | T5: 2556.7952 | U5: 0.88516472 | V5: 0.88471869 | W5: 0.89107582 | X5: 0.89328395
A6: Gaming_LD_HD | B6: EuroTruckSimulator2 | C6: 46 | D6: 42 | E6: 38 | F6: 34 | G6: 32 | H6: 46 | I6: 42 | J6: 38 | K6: 34 | L6: 335.3064 | M6: 723.6552 | N6: 1590.6344 | O6: 3558.1256 | P6: 5268.3504 | Q6: 303.1312 | R6: 651.9664 | S6: 1448.3376 | T6: 3240.4384 | U6: 0.90404239 | V6: 0.90093514 | W6: 0.91054085 | X6: 0.91071501
A7: Gaming_LD_HD | B7: JianlingTemple | C7: 46 | D7: 42 | E7: 38 | F7: 34 | G7: 32 | H7: 46 | I7: 42 | J7: 38 | K7: 34 | L7: 644.9048 | M7: 1460.896 | N7: 3252.572 | O7: 7361.0248 | P7: 10677.198 | Q7: 584.532 | R7: 1340.6648 | S7: 3015.7168 | T7: 6844.8632 | U7: 0.90638494 | V7: 0.91770037 | W7: 0.92717911 | X7: 0.92987911
E9: 0..1 for confident..disagree | I9: ECM-MOS | J9: ECM-CI | K9: BR mismatch | M9: qp changed
A10: codec | B10: sequence | C10: QP | D10: Mean | E10: (L1n-abs(Mean))/L1n | F10: aggregated | G10: sum(abs(mean)) | H10: sum(l1n-abs(m))/l1n) | K10: initial QPs | M10: proposed QPs | O10: comments | P10: BR ratio from QP to QP | Q10: BR ratio from highest to lowest | R10: cube-root highest/loest | S10: BR using constant BR ratio | T10: rounded BR | U10: transposed BR array
A11: VTM | B11: Darktree | C11: QP1 | D11: 0.72222222 | E11: 0.13333333 | F11: 0.72222222 | G11: 1.7222222 | H11: 1.1666667 | K11: 28 | L11: 4303.3672
A12: VTM | B12: Darktree | C12: QP2 | D12: 0.44444444 | E12: 0.2 | F12: 1.1666667 | K12: 30 | L12: 2862.2424 | M12: 31 | N12: 2182.452 | Q12: =N12/N15 -> 6.5003765 | R12: =POWER(Q12,1/3) -> 1.8662916 | S12: =N12 -> 2182.452 | T12: =100*INT((S12+50)/100) -> 2200 | U12: {=TRANSPOSE(T12:T15)} -> 2200 | V12: 1200 | W12: 600 | X12: 300
A13: VTM | B13: Darktree | C13: QP3 | D13: -0.11111111 | E13: 0.5 | F13: 1.0555556 | K13: 34 | L13: 1231.0728 | M13: 34 | N13: 1203 | P13: =N12/N13 -> 1.8141746 | S13: =S12/R12 -> 1169.4057 | T13: =100*INT((S13+50)/100) -> 1200
A14: VTM | B14: Darktree | C14: QP4 | D14: -0.22222222 | E14: 0 | F14: 0.83333333 | K14: 38 | L14: 593.8864 | M14: 37 | N14: 680.9912 | P14: =N13/N14 -> 1.7665427 | S14: =S13/R12 -> 626.59322 | T14: =100*INT((S14+50)/100) -> 600
A15: VTM | B15: Darktree | C15: QP5 | D15: -0.22222222 | E15: 0.33333333 | F15: 0.61111111 | K15: 42 | L15: 311.1448 | M15: 41 | N15: 335.7424 | P15: =N14/N15 -> 2.0283146 | S15: =S14/R12 -> 335.7424 | T15: =100*INT((S15+50)/100) -> 300
A16: VTM | B16: DOTA2s360 | C16: QP1 | D16: 0.38888889 | E16: 0.46153846 | F16: 0.38888889 | G16: 1.2222222 | H16: 1.832967 | K16: 28 | L16: 2955.216
A17: VTM | B17: DOTA2s360 | C17: QP2 | D17: 0.27777778 | E17: 0.28571429 | F17: 0.66666667 | K17: 30 | L17: 2132.3773 | M17: 31 | N17: 1654.8262 | Q17: =N17/N20 -> 5.023367 | R17: =POWER(Q17,1/3) -> 1.7126356 | S17: =N17 -> 1654.8262 | T17: =100*INT((S17+50)/100) -> 1700 | U17: {=TRANSPOSE(T17:T20)} -> 1700 | V17: 1000 | W17: 600 | X17: 300
A18: VTM | B18: DOTA2s360 | C18: QP3 | D18: -0.055555556 | E18: 0.8 | F18: 0.61111111 | K18: 34 | L18: 1036.6298 | M18: 34 | N18: 1008.782 | P18: =N17/N18 -> 1.64042 | S18: =S17/R17 -> 966.24535 | T18: =100*INT((S18+50)/100) -> 1000
A19: VTM | B19: DOTA2s360 | C19: QP4 | D19: -0.22222222 | E19: 0 | F19: 0.38888889 | K19: 38 | L19: 558.33338 | M19: 37 | N19: 624.4966 | P19: =N18/N19 -> 1.6153523 | S19: =S18/R17 -> 564.18619 | T19: =100*INT((S19+50)/100) -> 600
A20: VTM | B20: DOTA2s360 | C20: QP5 | D20: -0.27777778 | E20: 0.28571429 | F20: 0.11111111 | K20: 42 | L20: 306.23302 | M20: 41 | N20: 329.4257 | P20: =N19/N20 -> 1.8957131 | S20: =S19/R17 -> 329.4257 | T20: =100*INT((S20+50)/100) -> 300
A21: VTM | B21: EuroTruckSimulator2 | C21: QP1 | D21: -0.11111111 | E21: 0.8 | F21: -0.11111111 | G21: 1 | H21: 1.752381 | J21: 32 | K21: dropped | L21: 5268.3504
A22: VTM | B22: EuroTruckSimulator2 | C22: QP2 | D22: 0.27777778 | E22: 0.28571429 | F22: 0.16666667 | J22: 34 | K22: dropped | L22: 3558.1256 | M22: 34 | N22: 3530.276 | Q22: =N22/N25 -> 9.5639919 | R22: =POWER(Q22,1/3) -> 2.1226566 | S22: =N22 -> 3530.276 | T22: =100*INT((S22+50)/100) -> 3500 | U22: {=TRANSPOSE(T22:T25)} -> 3500 | V22: 1700 | W22: 800 | X22: 400
A23: VTM | B23: EuroTruckSimulator2 | C23: QP3 | D23: 0.055555556 | E23: 0.66666667 | F23: 0.22222222 | J23: 38 | K23: dropped | L23: 1590.6344 | M23: 38 | N23: 1562.787 | P23: =N22/N23 -> 2.2589617 | S23: =S22/R22 -> 1663.1405 | T23: =100*INT((S23+50)/100) -> 1700
A24: VTM | B24: EuroTruckSimulator2 | C24: QP4 | D24: -0.22222222 | E24: 0 | F24: 0 | J24: 42 | K24: dropped | L24: 723.6552 | M24: 42 | N24: 695.8064 | P24: =N23/N24 -> 2.2460084 | S24: =S23/R22 -> 783.51839 | T24: =100*INT((S24+50)/100) -> 800
A25: VTM | B25: EuroTruckSimulator2 | C25: QP5 | D25: -0.33333333 | E25: 0 | F25: -0.33333333 | J25: 46 | K25: dropped | L25: 335.3064 | M25: 45 | N25: 369.1216 | P25: =N24/N25 -> 1.885033 | S25: =S24/R22 -> 369.1216 | T25: =100*INT((S25+50)/100) -> 400
A26: VTM | B26: GTAVs090 | C26: QP1 | D26: 0.44444444 | E26: 0.2 | F26: 0.44444444 | G26: 1.3888889 | H26: 1.2 | K26: 28 | L26: 9187.4152
A27: VTM | B27: GTAVs090 | C27: QP2 | D27: 0.55555556 | E27: 0.16666667 | F27: 1 | K27: 30 | L27: 6437.7536 | M27: 31 | N27: 4938.0872 | Q27: =N27/N30 -> 5.8616374 | R27: =POWER(Q27,1/3) -> 1.803044 | S27: =N27 -> 4938.0872 | T27: =100*INT((S27+50)/100) -> 4900 | U27: {=TRANSPOSE(T27:T30)} -> 4900 | V27: 2700 | W27: 1500 | X27: 800
A28: VTM | B28: GTAVs090 | C28: QP3 | D28: 0.11111111 | E28: 0.5 | F28: 1.1111111 | K28: 34 | L28: 2908.6064 | M28: 35 | N28: 2445.6768 | P28: =N27/N28 -> 2.0191087 | S28: =S27/R27 -> 2738.7503 | T28: =100*INT((S28+50)/100) -> 2700
A29: VTM | B29: GTAVs090 | C29: QP4 | D29: -0.055555556 | E29: 0 | F29: 1.0555556 | K29: 38 | L29: 1429.7664 | M29: 38 | N29: 1429.7664 | P29: =N28/N29 -> 1.7105429 | S29: =S28/R27 -> 1518.9592 | T29: =100*INT((S29+50)/100) -> 1500
A30: VTM | B30: GTAVs090 | C30: QP5 | D30: -0.22222222 | E30: 0.33333333 | F30: 0.83333333 | K30: 42 | L30: 702.6224 | M30: 41 | N30: 842.4416 | P30: =N29/N30 -> 1.6971698 | S30: =S29/R27 -> 842.4416 | T30: =100*INT((S30+50)/100) -> 800
A31: VTM | B31: JianlingTemple | C31: QP1 | D31: 0.5 | E31: 0.18181818 | F31: 0.5 | G31: 1.7222222 | H31: 0.6040404 | K31: dropped
A32: VTM | B32: JianlingTemple | C32: QP2 | D32: 0.38888889 | E32: 0.22222222 | F32: 0.88888889 | K32: dropped
A33: VTM | B33: JianlingTemple | C33: QP3 | D33: 0.33333333 | E33: 0 | F33: 1.2222222 | K33: dropped
A34: VTM | B34: JianlingTemple | C34: QP4 | D34: -0.055555556 | E34: 0 | F34: 1.1666667 | K34: dropped
A35: VTM | B35: JianlingTemple | C35: QP5 | D35: -0.44444444 | E35: 0.2 | F35: 0.72222222 | K35: dropped
A36: VTM | B36: Minecraft | C36: QP1 | D36: 0.66666667 | E36: 0.25 | F36: 0.66666667 | G36: 1.9444444 | H36: 1.5576923 | K36: 30 | L36: 6722.9592
A37: VTM | B37: Minecraft | C37: QP2 | D37: 0.5 | E37: 0.30769231 | F37: 1.1666667 | K37: 34 | L37: 2944.3048 | M37: 35 | N37: 2447.67 | Q37: =N37/N40 -> 6.6857232 | R37: =POWER(Q37,1/3) -> 1.8838636 | S37: =N37 -> 2447.67 | T37: =100*INT((S37+50)/100) -> 2400 | U37: {=TRANSPOSE(T37:T40)} -> 2400 | V37: 1300 | W37: 700 | X37: 400
A38: VTM | B38: Minecraft | C38: QP3 | D38: 0 | E38: 1 | F38: 1.1666667 | K38: 38 | L38: 1396.8432 | M38: 38 | N38: 1369 | P38: =N37/N38 -> 1.7879255 | S38: =S37/R37 -> 1299.2819 | T38: =100*INT((S38+50)/100) -> 1300
A39: VTM | B39: Minecraft | C39: QP4 | D39: -0.22222222 | E39: 0 | F39: 0.94444444 | K39: 42 | L39: 663.204 | M39: 41 | N39: 770.6816 | P39: =N38/N39 -> 1.7763497 | S39: =S38/R37 -> 689.69001 | T39: =100*INT((S39+50)/100) -> 700
A40: VTM | B40: Minecraft | C40: QP5 | D40: -0.55555556 | E40: 0 | F40: 0.38888889 | K40: 46 | L40: 329.5408 | M40: 45 | N40: 366.104 | P40: =N39/N40 -> 2.1050893 | S40: =S39/R37 -> 366.104 | T40: =100*INT((S40+50)/100) -> 400
A41: ECM | B41: Darktree | C41: QP1 | D41: 0.38888889 | E41: 0.36363636 | F41: 0.38888889 | G41: 0.61111111 | H41: 2.430303 | I41: 8.33 | J41: 0.52 | K41: 30 | L41: 2529.435 | M41: 30 | N41: 2529.435 | Q41: =N41/N44 -> 7.2466681 | R41: =POWER(Q41,1/3) -> 1.9351418
A42: ECM | B42: Darktree | C42: QP2 | D42: -0.055555556 | E42: 0.66666667 | F42: 0.33333333 | K42: 34 | L42: 1070 | M42: 34 | N42: 1070 | P42: =N41/N42 -> 2.3639579
A43: ECM | B43: Darktree | C43: QP3 | D43: 0 | E43: 1 | F43: 0.33333333 | K43: 38 | L43: 498.1 | M43: 38 | N43: 498.1 | P43: =N42/N43 -> 2.148163
A44: ECM | B44: Darktree | C44: QP4 | D44: -0.16666667 | E44: 0.4 | F44: 0.16666667 | I44: 2.65 | J44: 0.42 | K44: 42 | L44: 248.1 | M44: 40 | N44: 349.048 | P44: =N43/N44 -> 1.4270244
A46: ECM | B46: DOTA2s360 | C46: QP1 | D46: -0.11111111 | E46: 0.83333333 | F46: -0.11111111 | G46: 0.55555556 | H46: 1.8333333 | I46: 8.45 | J46: 0.45 | K46: 30 | L46: 1892.558 | M46: 30 | N46: 1892.558 | Q46: =N46/N49 -> 7.4878744 | R46: =POWER(Q46,1/3) -> 1.9563784
A47: ECM | B47: DOTA2s360 | C47: QP2 | D47: 0 | E47: 1 | F47: -0.11111111 | K47: 34 | L47: 916.9152 | M47: 34 | N47: 916.9152 | P47: =N46/N47 -> 2.0640491
A48: ECM | B48: DOTA2s360 | C48: QP3 | D48: -0.22222222 | E48: 0 | F48: -0.33333333 | K48: 38 | L48: 483.9631 | M48: 38 | N48: 483.9631 | P48: =N47/N48 -> 1.8945973
A49: ECM | B49: DOTA2s360 | C49: QP4 | D49: -0.22222222 | E49: 0 | F49: -0.55555556 | I49: 3.36 | J49: 0.62 | K49: 42 | L49: 252.7497 | M49: 42 | N49: 252.7497 | P49: =N48/N49 -> 1.914792
A51: ECM | B51: EuroTruckSimulator2 | C51: QP1 | D51: -0.055555556 | E51: 0.88888889 | F51: -0.055555556 | G51: 0.33333333 | H51: 2.7222222 | K51: 34 | L51: 3213.078 | M51: 34 | N51: 3213.078 | Q51: =N51/N54 -> 11.651246 | R51: =POWER(Q51,1/3) -> 2.267031
A52: ECM | B52: EuroTruckSimulator2 | C52: QP2 | D52: 0.055555556 | E52: 0.66666667 | F52: 0 | K52: 38 | L52: 1420.978 | M52: 38 | N52: 1420.978 | P52: =N51/N52 -> 2.2611736
A53: ECM | B53: EuroTruckSimulator2 | C53: QP3 | D53: -0.11111111 | E53: 0.5 | F53: -0.11111111 | K53: 42 | L53: 624.6064 | M53: 42 | N53: 624.6064 | P53: =N52/N53 -> 2.2749975
A54: ECM | B54: EuroTruckSimulator2 | C54: QP4 | D54: -0.11111111 | E54: 0.66666667 | F54: -0.22222222 | I54: 3.26 | J54: 0.51 | K54: 46 | L54: 275.7712 | M54: 46 | N54: 275.7712 | P54: =N53/N54 -> 2.2649443
A56: ECM | B56: GTAVs090 | C56: QP1 | D56: 0 | E56: 1 | F56: 0 | G56: 0.61111111 | H56: 1.6857143 | I56: 8.46 | J56: 0.45 | K56: 30 | L56: 5757.0168 | M56: 30 | N56: 5757.0168 | Q56: =N56/N59 -> 6.4577498 | R56: =POWER(Q56,1/3) -> 1.8622032
A57: ECM | B57: GTAVs090 | C57: QP2 | D57: 0.27777778 | E57: 0.28571429 | F57: 0.27777778 | K57: 34 | L57: 2631.728 | M57: 34 | N57: 2631.728 | P57: =N56/N57 -> 2.1875425
A58: ECM | B58: GTAVs090 | C58: QP3 | D58: -0.16666667 | E58: 0 | F58: 0.11111111 | K58: 38 | L58: 1278.46 | M58: 38 | N58: 1278.46 | P58: =N57/N58 -> 2.0585141
A59: ECM | B59: GTAVs090 | C59: QP4 | D59: -0.16666667 | E59: 0.4 | F59: -0.055555556 | I59: 3.75 | J59: 0.53 | K59: 42 | L59: 618.6976 | M59: 40 | N59: 891.4896 | P59: =N58/N59 -> 1.4340717
A61: ECM | B61: JianlingTemple | C61: QP1 | D61: 0.5 | E61: 0 | F61: 0.5 | G61: 1.1666667 | H61: 1.3 | K61: dropped
A62: ECM | B62: JianlingTemple | C62: QP2 | D62: 0.38888889 | E62: 0 | F62: 0.88888889 | K62: dropped
A63: ECM | B63: JianlingTemple | C63: QP3 | D63: -0.055555556 | E63: 0.8 | F63: 0.83333333 | K63: dropped
A64: ECM | B64: JianlingTemple | C64: QP4 | D64: -0.22222222 | E64: 0.5 | F64: 0.61111111 | I64: 3.83 | J64: 0.59 | K64: dropped
K65: dropped
A66: ECM | B66: Minecraft | C66: QP1 | D66: 0.44444444 | E66: 0.33333333 | F66: 0.44444444 | G66: 1.2222222 | H66: 1.9333333 | K66: 34 | L66: 2665 | M66: 34 | N66: 2665 | Q66: =N66/N69 -> 6.6849346 | R66: =POWER(Q66,1/3) -> 1.8837896
A67: ECM | B67: Minecraft | C67: QP2 | D67: 0 | E67: 1 | F67: 0.44444444 | K67: 38 | L67: 1262.714 | M67: 38 | N67: 1262.714 | P67: =N66/N67 -> 2.1105333
A68: ECM | B68: Minecraft | C68: QP3 | D68: -0.33333333 | E68: 0.4 | F68: 0.11111111 | K68: 42 | L68: 576.2 | M68: 42 | N68: 576.2 | P68: =N67/N68 -> 2.1914509
A69: ECM | B69: Minecraft | C69: QP4 | D69: -0.44444444 | E69: 0.2 | F69: -0.33333333 | I69: 2.79 | J69: 0.45 | K69: 46 | L69: 273.3296 | M69: 44 | N69: 398.6576 | P69: =N68/N69 -> 1.4453506

Sheet report_ak2026_sdr_hd_ugc
A1: SubDir | B1: Sequence | C1: VTM-QP5 | D1: VTM-QP4 | E1: VTM-QP3 | F1: VTM-QP2 | G1: VTM-QP1 | H1: ECM-QP4 | I1: ECM-QP3 | J1: ECM-QP2 | K1: ECM-QP1 | L1: VTM-rate4 | M1: VTM-rate3 | N1: VTM-rate2 | O1: VTM-rate2 | P1: VTM-rate1 | Q1: ECM-rate4 | R1: ECM-rate3 | S1: ECM-rate2 | T1: ECM-rate1 | U1: E-V-ratio4 | V1: E-V-ratio3 | W1: E-V-ratio2 | X1: E-V-ratio1
A2: UGC_RA | B2: Animal-6v9a-pheasant | C2: 51 | D2: 47 | E2: 39 | F2: 35 | G2: 33 | H2: 52 | I2: 46 | J2: 38 | K2: 34 | L2: 152.0216 | M2: 244.1432 | N2: 575.6304 | O2: 901.1616 | P2: 1128.1936 | Q2: 118.8296 | R2: 237.8976 | S2: 558.9232 | T2: 883.368 | U2: 0.78166261 | V2: 0.97441829 | W2: 0.97097582 | X2: 0.98025482
A3: UGC_RA | B3: Sports-76a2-iceball | C3: 50 | D3: 46 | E3: 43 | F3: 39 | G3: 37 | H3: 50 | I3: 46 | J3: 42 | K3: 38 | L3: 119.4376 | M3: 189.9232 | N3: 271.8 | O3: 446.8736 | P3: 575.7944 | Q3: 114.3376 | R3: 170.5088 | S3: 263.288 | T3: 416.7928 | U3: 0.95729988 | V3: 0.89777763 | W3: 0.96868286 | X3: 0.93268611
A4: UGC_RA | B4: VerticalVideo-3709-snow | C4: 50 | D4: 46 | E4: 42 | F4: 38 | G4: 36 | H4: 50 | I4: 46 | J4: 42 | K4: 38 | L4: 102.6304 | M4: 170.448 | N4: 283.3176 | O4: 474.808 | P4: 621.376 | Q4: 91.5384 | R4: 152.0224 | S4: 253.312 | T4: 426.4648 | U4: 0.89192286 | V4: 0.891899 | W4: 0.894092 | X4: 0.89818369
A5: UGC_RA | B5: VerticalVideo-4b92-park | C5: 46 | D5: 42 | E5: 38 | F5: 34 | G5: 32 | H5: 46 | I5: 42 | J5: 38 | K5: 34 | L5: 195.7608 | M5: 363.46 | N5: 661.8568 | O5: 1163.3632 | P5: 1531.4176 | Q5: 182.4984 | R5: 337.3328 | S5: 614.3496 | T5: 1070.4576 | U5: 0.93225201 | V5: 0.92811534 | W5: 0.92822133 | X5: 0.9201405
A6: UGC_RA | B6: CoverSong-3499-outdoor | C6: 51 | D6: 47 | E6: 43 | F6: 35 | G6: 33 | H6: 52 | I6: 46 | J6: 42 | K6: 34 | L6: 146.4424 | M6: 234.0912 | N6: 370.0776 | O6: 904.6608 | P6: 1122.2192 | Q6: 116.064 | R6: 227.8296 | S6: 356.8568 | T6: 859.528 | U6: 0.79255735 | V6: 0.97325145 | W6: 0.9642756 | X6: 0.9501108
A7: UGC_RA | B7: Hobby-w5xz-backpack | C7: 51 | D7: 47 | E7: 43 | F7: 35 | G7: 33 | H7: 50 | I7: 46 | J7: 42 | K7: 34 | L7: 79.32 | M7: 125.5064 | N7: 200.2608 | O7: 528.3144 | P7: 676.7528 | Q7: 79.2864 | R7: 124.2824 | S7: 196.7096 | T7: 521.7536 | U7: 0.9995764 | V7: 0.99024751 | W7: 0.98226712 | X7: 0.98758164
A8: UGC_RA | B8: VerticalVideo-3d96-walk | C8: 46 | D8: 42 | E8: 38 | F8: 34 | G8: 32 | H8: 46 | I8: 42 | J8: 38 | K8: 34 | L8: 123.0264 | M8: 231.8472 | N8: 410.7992 | O8: 685.4624 | P8: 877.8112 | Q8: 110.272 | R8: 209.124 | S8: 374.1856 | T8: 626.4936 | U8: 0.89632794 | V8: 0.90199062 | W8: 0.91087227 | X8: 0.91397223
E10: 0..1 for confident..disagree | I10: ECM-MOS | J10: ECM-CI | K10: BR mismatch | M10: qp changed
A11: codec | B11: sequence | C11: QP | D11: Mean | E11: (L1n-abs(Mean))/L1n | F11: aggregated | G11: sum(abs(mean)) | H11: sum(l1n-abs(m))/l1n) | K11: initial QPs | M11: proposed QPs | O11: comments | P11: BR ratio from QP to QP | Q11: BR ratio from highest to lowest | R11: cube-root highest/loest | S11: BR using constant BR ratio | T11: rounded BR | U11: transposed BR array
A12: VTM | B12: Animal-6v9a-pheasant | C12: QP1 | D12: 0.44444444 | E12: 0.42857143 | F12: 0.44444444 | G12: 1.6666667 | H12: 0.96190476 | K12: dropped
A13: VTM | B13: Animal-6v9a-pheasant | C13: QP2 | D13: 0.44444444 | E13: 0.2 | F13: 0.88888889 | K13: dropped
A14: VTM | B14: Animal-6v9a-pheasant | C14: QP3 | D14: 0.44444444 | E14: 0 | F14: 1.3333333 | K14: dropped
A15: VTM | B15: Animal-6v9a-pheasant | C15: QP4 | D15: -0.11111111 | E15: 0 | F15: 1.2222222 | K15: dropped
A16: VTM | B16: Animal-6v9a-pheasant | C16: QP5 | D16: -0.22222222 | E16: 0.33333333 | F16: 1 | K16: dropped
A17: VTM | B17: CoverSong-3499-outdoor | C17: QP1 | D17: 0.33333333 | E17: 0.5 | F17: 0.33333333 | G17: 1.4444444 | H17: 2.2038462 | K17: 33 | L17: 1110.615
A18: VTM | B18: CoverSong-3499-outdoor | C18: QP2 | D18: 0.61111111 | E18: 0.15384615 | F18: 0.94444444 | K18: 35 | L18: 893.0576 | M18: 36 | N18: 789.9432 | Q18: =N18/N21 -> 5.156368 | R18: =POWER(Q18,1/3) -> 1.727619 | S18: =N18 -> 789.9432 | T18: =100*INT((S18+50)/100) -> 800 | U18: {=TRANSPOSE(T18:T21)} -> 800 | V18: 500 | W18: 300 | X18: 200
A19: VTM | B19: CoverSong-3499-outdoor | C19: QP3 | D19: 0.11111111 | E19: 0.5 | F19: 1.0555556 | K19: 43 | L19: 358.4744 | M19: 42 | N19: 401.4488 | P19: =N18/N19 -> 1.9677309 | S19: =S18/R18 -> 457.24388 | T19: =100*INT((S19+50)/100) -> 500
A20: VTM | B20: CoverSong-3499-outdoor | C20: QP4 | D20: -0.055555556 | E20: 0.8 | F20: 1 | K20: 47 | L20: 222.4856 | M20: 46 | N20: 251.6704 | P20: =N19/N20 -> 1.5951371 | S20: =S19/R18 -> 264.66708 | T20: =100*INT((S20+50)/100) -> 300
A21: VTM | B21: CoverSong-3499-outdoor | C21: QP5 | D21: -0.33333333 | E21: 0.25 | F21: 0.66666667 | K21: 51 | L21: 134.84 | M21: 50 | N21: 153.1976 | P21: =N20/N21 -> 1.6427829 | S21: =S20/R18 -> 153.1976 | T21: =100*INT((S21+50)/100) -> 200
A22: VTM | B22: Hobby-w5xz-backpack | C22: QP1 | D22: -0.11111111 | E22: 0.66666667 | F22: -0.11111111 | G22: 1.7222222 | H22: 0.95238095 | K22: 33 | L22: 664.683
A23: VTM | B23: Hobby-w5xz-backpack | C23: QP2 | D23: 0.27777778 | E23: 0.28571429 | F23: 0.16666667 | K23: 35 | L23: 516.4414 | M23: 35 | N23: 516.4414 | Q23: =N23/N26 -> 5.8671788 | R23: =POWER(Q23,1/3) -> 1.803612 | S23: =N23 -> 516.4414 | T23: =100*INT((S23+50)/100) -> 500 | U23: {=TRANSPOSE(T23:T26)} -> 500 | V23: 300 | W23: 200 | X23: 100
A24: VTM | B24: Hobby-w5xz-backpack | C24: QP3 | D24: -0.38888889 | E24: 0 | F24: -0.22222222 | K24: 43 | L24: 188.8393 | M24: 40 | N24: 272.2765 | P24: =N23/N24 -> 1.8967535 | S24: =S23/R23 -> 286.33731 | T24: =100*INT((S24+50)/100) -> 300
A25: VTM | B25: Hobby-w5xz-backpack | C25: QP4 | D25: -0.44444444 | E25: 0 | F25: -0.66666667 | K25: 47 | L25: 114.1932 | M25: 45 | N25: 147.3455 | P25: =N24/N25 -> 1.8478779 | S25: =S24/R23 -> 158.75771 | T25: =100*INT((S25+50)/100) -> 200
A26: VTM | B26: Hobby-w5xz-backpack | C26: QP5 | D26: -0.5 | E26: 0 | F26: -1.1666667 | K26: 51 | L26: 68.0748 | M26: 49 | N26: 88.0221 | P26: =N25/N26 -> 1.6739603 | S26: =S25/R23 -> 88.0221 | T26: =100*INT((S26+50)/100) -> 100
A27: VTM | B27: Sports-76a2-iceball | C27: QP1 | D27: 0.22222222 | E27: 0.5 | F27: 0.22222222 | G27: 1 | H27: 1.7857143 | K27: 37 | L27: 547.2232
A28: VTM | B28: Sports-76a2-iceball | C28: QP2 | D28: 0.27777778 | E28: 0.28571429 | F28: 0.5 | K28: 39 | L28: 418.4717 | M28: 39 | N28: 418.4717 | Q28: =N28/N31 -> 3.9573476 | R28: =POWER(Q28,1/3) -> 1.5817387 | S28: =N28 -> 418.4717 | T28: =100*INT((S28+50)/100) -> 400 | U28: {=TRANSPOSE(T28:T31)} -> 400 | V28: 300 | W28: 200 | X28: 100
A29: VTM | B29: Sports-76a2-iceball | C29: QP3 | D29: 0 | E29: 1 | F29: 0.5 | K29: 43 | L29: 243.6365 | M29: 43 | N29: 243.6365 | P29: =N28/N29 -> 1.7176068 | S29: =S28/R28 -> 264.56437 | T29: =100*INT((S29+50)/100) -> 300
A30: VTM | B30: Sports-76a2-iceball | C30: QP4 | D30: -0.22222222 | E30: 0 | F30: 0.27777778 | K30: 46 | L30: 161.8653 | M30: 45 | N30: 185.6499 | P30: =N29/N30 -> 1.3123438 | S30: =S29/R28 -> 167.26175 | T30: =100*INT((S30+50)/100) -> 200
A31: VTM | B31: Sports-76a2-iceball | C31: QP5 | D31: -0.27777778 | E31: 0 | F31: 0 | K31: 50 | L31: 91.4709 | M31: 49 | N31: 105.7455 | P31: =N30/N31 -> 1.7556293 | S31: =S30/R28 -> 105.7455 | T31: =100*INT((S31+50)/100) -> 100
A32: VTM | B32: VerticalVideo-3709-snow | C32: QP1 | D32: 0.16666667 | E32: 0.72727273 | F32: 0.16666667 | G32: 0.94444444 | H32: 2.062987 | K32: 36 | L32: 607.452
A33: VTM | B33: VerticalVideo-3709-snow | C33: QP2 | D33: 0.33333333 | E33: 0.25 | F33: 0.5 | K33: 38 | L33: 460.8848 | M33: 39 | N33: 403.5696 | Q33: =N33/N36 -> 3.9511416 | R33: =POWER(Q33,1/3) -> 1.5809114 | S33: =N33 -> 403.5696 | T33: =100*INT((S33+50)/100) -> 400 | U33: {=TRANSPOSE(T33:T36)} -> 400 | V33: 300 | W33: 200 | X33: 100
A34: VTM | B34: VerticalVideo-3709-snow | C34: QP3 | D34: 0.055555556 | E34: 0.8 | F34: 0.55555556 | K34: 42 | L34: 269.3936 | M34: 42 | N34: 269.3936 | P34: =N33/N34 -> 1.4980668 | S34: =S33/R33 -> 255.27655 | T34: =100*INT((S34+50)/100) -> 300
A35: VTM | B35: VerticalVideo-3709-snow | C35: QP4 | D35: -0.11111111 | E35: 0 | F35: 0.44444444 | K35: 46 | L35: 156.5256 | M35: 46 | N35: 156.5256 | P35: =N34/N35 -> 1.7210833 | S35: =S34/R33 -> 161.47429 | T35: =100*INT((S35+50)/100) -> 200
A36: VTM | B36: VerticalVideo-3709-snow | C36: QP5 | D36: -0.27777778 | E36: 0.28571429 | F36: 0.16666667 | K36: 50 | L36: 88.704 | M36: 49 | N36: 102.14 | P36: =N35/N36 -> 1.5324613 | S36: =S35/R33 -> 102.14 | T36: =100*INT((S36+50)/100) -> 100
A37: VTM | B37: VerticalVideo-3d96-walk | C37: QP1 | D37: 0.27777778 | E37: 0.44444444 | F37: 0.27777778 | G37: 1.3888889 | H37: 1.7444444 | K37: 32 | L37: 862.4501
A38: VTM | B38: VerticalVideo-3d96-walk | C38: QP2 | D38: 0.66666667 | E38: 0 | F38: 0.94444444 | K38: 34 | L38: 670.4127 | M38: 35 | N38: 592.475 | Q38: =N38/N41 -> 4.541587 | R38: =POWER(Q38,1/3) -> 1.6560339 | S38: =N38 -> 592.475 | T38: =100*INT((S38+50)/100) -> 600 | U38: {=TRANSPOSE(T38:T41)} -> 600 | V38: 400 | W38: 200 | X38: 100
A39: VTM | B39: VerticalVideo-3d96-walk | C39: QP3 | D39: 0.055555556 | E39: 0.8 | F39: 1 | K39: 38 | L39: 396.2084 | M39: 39 | N39: 343.2291 | P39: =N38/N39 -> 1.7261794 | S39: =S38/R38 -> 357.76744 | T39: =100*INT((S39+50)/100) -> 400
A40: VTM | B40: VerticalVideo-3d96-walk | C40: QP4 | D40: -0.11111111 | E40: 0.5 | F40: 0.88888889 | K40: 42 | L40: 217.5622 | M40: 42 | N40: 217.5622 | P40: =N39/N40 -> 1.5776137 | S40: =S39/R38 -> 216.03873 | T40: =100*INT((S40+50)/100) -> 200
A41: VTM | B41: VerticalVideo-3d96-walk | C41: QP5 | D41: -0.27777778 | E41: 0 | F41: 0.61111111 | K41: 46 | L41: 108.9256 | M41: 45 | N41: 130.4555 | P41: =N40/N41 -> 1.667712 | S41: =S40/R38 -> 130.4555 | T41: =100*INT((S41+50)/100) -> 100
A42: VTM | B42: VerticalVideo-4b92-park | C42: QP1 | D42: 0.22222222 | E42: 0.6 | F42: 0.22222222 | G42: 1.3333333 | H42: 1.7818182 | K42: 32 | L42: 1517.494
A43: VTM | B43: VerticalVideo-4b92-park | C43: QP2 | D43: 0.44444444 | E43: 0 | F43: 0.66666667 | K43: 34 | L43: 1149.441 | M43: 35 | N43: 1004.192 | Q43: =N43/N46 -> 3.9596977 | R43: =POWER(Q43,1/3) -> 1.5820517 | S43: =N43 -> 1004.192 | T43: =100*INT((S43+50)/100) -> 1000 | U43: {=TRANSPOSE(T43:T46)} -> 1000 | V43: 600 | W43: 400 | X43: 300
A44: VTM | B44: VerticalVideo-4b92-park | C44: QP3 | D44: 0 | E44: 1 | F44: 0.66666667 | K44: 38 | L44: 647.9328 | M44: 38 | N44: 647.9328 | P44: =N43/N44 -> 1.5498397 | S44: =S43/R43 -> 634.74031 | T44: =100*INT((S44+50)/100) -> 600
A45: VTM | B45: VerticalVideo-4b92-park | C45: QP4 | D45: -0.16666667 | E45: 0 | F45: 0.5 | K45: 42 | L45: 349.5368 | M45: 41 | N45: 410.184 | P45: =N44/N45 -> 1.579615 | S45: =S44/R43 -> 401.21338 | T45: =100*INT((S45+50)/100) -> 400
A46: VTM | B46: VerticalVideo-4b92-park | C46: QP5 | D46: -0.5 | E46: 0.18181818 | F46: 0 | K46: 46 | L46: 181.8384 | M46: 44 | N46: 253.6032 | P46: =N45/N46 -> 1.6174244 | S46: =S45/R43 -> 253.6032 | T46: =100*INT((S46+50)/100) -> 300
A47: ECM | B47: Animal-6v9a-pheasant | C47: QP1 | D47: 0.33333333 | E47: 0.5 | F47: 0.33333333 | G47: 1.3333333 | H47: 0.5 | I47: 7.29 | J47: 0.38 | K47: dropped
A48: ECM | B48: Animal-6v9a-pheasant | C48: QP2 | D48: 0.44444444 | E48: 0 | F48: 0.77777778 | K48: dropped
A49: ECM | B49: Animal-6v9a-pheasant | C49: QP3 | D49: -0.055555556 | E49: 0 | F49: 0.72222222 | K49: dropped
A50: ECM | B50: Animal-6v9a-pheasant | C50: QP4 | D50: -0.5 | E50: 0 | F50: 0.22222222 | K50: dropped
K51: dropped
A52: ECM | B52: CoverSong-3499-outdoor | C52: QP1 | D52: 0.44444444 | E52: 0.2 | F52: 0.44444444 | G52: 0.94444444 | H52: 1.6285714 | I52: 7.67 | J52: 0.43 | K52: 34 | L52: 848.128 | M52: 36 | N52: 674.7808 | Q52: =N52/N55 -> 5.0351065 | R52: =POWER(Q52,1/3) -> 1.7139687
A53: ECM | B53: CoverSong-3499-outdoor | C53: QP2 | D53: 0.16666667 | E53: 0.57142857 | F53: 0.61111111 | K53: 42 | L53: 345.4568 | M53: 40 | N53: 433.2056 | P53: =N52/N53 -> 1.5576456
A54: ECM | B54: CoverSong-3499-outdoor | C54: QP3 | D54: 0.055555556 | E54: 0.85714286 | F54: 0.66666667 | K54: 46 | L54: 216.4296 | M54: 46 | N54: 216.4296 | P54: =N53/N54 -> 2.0016005
A55: ECM | B55: CoverSong-3499-outdoor | C55: QP4 | D55: -0.27777778 | E55: 0 | F55: 0.38888889 | K55: 52 | L55: 104.664 | M55: 50 | N55: 134.0152 | P55: =N54/N55 -> 1.6149631
A57: ECM | B57: Hobby-w5xz-backpack | C57: QP1 | D57: -0.055555556 | E57: 0.66666667 | F57: -0.055555556 | G57: 1 | H57: 0.66666667 | K57: 34 | L57: 510.8096 | M57: 34 | N57: 510.8096 | Q57: =N57/N60 -> 5.8081923 | R57: =POWER(Q57,1/3) -> 1.7975473
A58: ECM | B58: Hobby-w5xz-backpack | C58: QP2 | D58: -0.38888889 | E58: 0 | F58: -0.44444444 | K58: 42 | L58: 185.7656 | M58: 40 | N58: 237.5816 | P58: =N57/N58 -> 2.1500386
A59: ECM | B59: Hobby-w5xz-backpack | C59: QP3 | D59: -0.11111111 | E59: 0 | F59: -0.55555556 | I59: 5.09 | J59: 0.6 | K59: 46 | L59: 113.3384 | M59: 44 | N59: 145.6512 | P59: =N58/N59 -> 1.6311682
A60: ECM | B60: Hobby-w5xz-backpack | C60: QP4 | D60: -0.44444444 | E60: 0 | F60: -1 | K60: 50 | L60: 68.3416 | M60: 48 | N60: 87.9464 | P60: =N59/N60 -> 1.656136
A62: ECM | B62: Sports-76a2-iceball | C62: QP1 | D62: 0.11111111 | E62: 0.75 | F62: 0.11111111 | G62: 0.72222222 | H62: 0.75 | I62: 8.65 | J62: 0.42 | K62: 38 | L62: 389.4328 | M62: 38 | N62: 389.4328 | Q62: =N62/N65 -> 3.4735306 | R62: =POWER(Q62,1/3) -> 1.5144573
A63: ECM | B63: Sports-76a2-iceball | C63: QP2 | D63: 0.16666667 | E63: 0 | F63: 0.27777778 | K63: 42 | L63: 235.928 | M63: 42 | N63: 235.928 | P63: =N62/N63 -> 1.6506426
A64: ECM | B64: Sports-76a2-iceball | C64: QP3 | D64: -0.22222222 | E64: 0 | F64: 0.055555556 | K64: 46 | L64: 143.1488 | M64: 44 | N64: 183.8072 | P64: =N63/N64 -> 1.2835623
A65: ECM | B65: Sports-76a2-iceball | C65: QP4 | D65: -0.22222222 | E65: 0 | F65: -0.16666667 | I65: 2.67 | J65: 0.41 | K65: 50 | L65: 86.9776 | M65: 48 | N65: 112.1144 | P65: =N64/N65 -> 1.6394611
A67: ECM | B67: VerticalVideo-3709-snow | C67: QP1 | D67: 0.27777778 | E67: 0.44444444 | F67: 0.27777778 | G67: 0.88888889 | H67: 1.6777778 | K67: 38 | L67: 412.7848 | M67: 38 | N67: 412.7848 | Q67: =N67/N70 -> 3.9612231 | R67: =POWER(Q67,1/3) -> 1.5822548
A68: ECM | B68: VerticalVideo-3709-snow | C68: QP2 | D68: 0.22222222 | E68: 0.5 | F68: 0.5 | K68: 42 | L68: 239.632 | M68: 42 | N68: 239.632 | P68: =N67/N68 -> 1.722578
A69: ECM | B69: VerticalVideo-3709-snow | C69: QP3 | D69: -0.16666667 | E69: 0.4 | F69: 0.33333333 | K69: 46 | L69: 138.3424 | M69: 46 | N69: 138.3424 | P69: =N68/N69 -> 1.732166
A70: ECM | B70: VerticalVideo-3709-snow | C70: QP4 | D70: -0.22222222 | E70: 0.33333333 | F70: 0.11111111 | I70: 3.08 | J70: 0.48 | K70: 50 | L70: 77.8584 | M70: 48 | N70: 104.2064 | P70: =N69/N70 -> 1.3275806
A72: ECM | B72: VerticalVideo-3d96-walk | C72: QP1 | D72: 0.55555556 | E72: 0.16666667 | F72: 0.55555556 | G72: 1.1666667 | H72: 0.83333333 | I72: 8.38 | J72: 0.43 | K72: 34 | L72: 612.8136 | M72: 36 | N72: 472.7792 | Q72: =N72/N75 -> 3.3972614 | R72: =POWER(Q72,1/3) -> 1.5032908
A73: ECM | B73: VerticalVideo-3d96-walk | C73: QP2 | D73: 0.38888889 | E73: 0 | F73: 0.94444444 | K73: 38 | L73: 360.5048 | M73: 38 | N73: 360.5048 | P73: =N72/N73 -> 1.3114366
A74: ECM | B74: VerticalVideo-3d96-walk | C74: QP3 | D74: 0.055555556 | E74: 0.66666667 | F74: 1 | K74: 42 | L74: 195.444 | M74: 42 | N74: 195.444 | P74: =N73/N74 -> 1.8445427
A75: ECM | B75: VerticalVideo-3d96-walk | C75: QP4 | D75: -0.16666667 | E75: 0 | F75: 0.83333333 | I75: 4.75 | J75: 0.52 | K75: 46 | L75: 96.592 | M75: 44 | N75: 139.1648 | P75: =N74/N75 -> 1.4044069
A77: ECM | B77: VerticalVideo-4b92-park | C77: QP1 | D77: 0.055555556 | E77: 0.8 | F77: 0.055555556 | G77: 0.55555556 | H77: 2.3555556 | K77: 34 | L77: 1056.778 | M77: 34 | N77: 1056.778 | Q77: =N77/N80 -> 4.5020006 | R77: =POWER(Q77,1/3) -> 1.6512082
A78: ECM | B78: VerticalVideo-4b92-park | C78: QP2 | D78: -0.055555556 | E78: 0.66666667 | F78: 0 | I78: 6.83 | J78: 0.54 | K78: 38 | L78: 600.6696 | M78: 38 | N78: 600.6696 | P78: =N77/N78 -> 1.7593333
A79: ECM | B79: VerticalVideo-4b92-park | C79: QP3 | D79: -0.055555556 | E79: 0.66666667 | F79: -0.055555556 | K79: 42 | L79: 323.6528 | M79: 40 | N79: 443.2 | P79: =N78/N79 -> 1.3553014
A80: ECM | B80: VerticalVideo-4b92-park | C80: QP4 | D80: -0.38888889 | E80: 0.22222222 | F80: -0.44444444 | I80: 2.5 | J80: 0.5 | K80: 46 | L80: 168.8184 | M80: 44 | N80: 234.7352 | P80: =N79/N80 -> 1.888085
